BEGIN:VCALENDAR
VERSION:2.0
PRODID:-//Huntington Arts Council - ECPv6.15.20//NONSGML v1.0//EN
CALSCALE:GREGORIAN
METHOD:PUBLISH
X-ORIGINAL-URL:https://www.huntingtonarts.org
X-WR-CALDESC:Events for Huntington Arts Council
REFRESH-INTERVAL;VALUE=DURATION:PT1H
X-Robots-Tag:noindex
X-PUBLISHED-TTL:PT1H
BEGIN:VTIMEZONE
TZID:America/New_York
BEGIN:DAYLIGHT
TZOFFSETFROM:-0500
TZOFFSETTO:-0400
TZNAME:EDT
DTSTART:20240310T070000
END:DAYLIGHT
BEGIN:STANDARD
TZOFFSETFROM:-0400
TZOFFSETTO:-0500
TZNAME:EST
DTSTART:20241103T060000
END:STANDARD
BEGIN:DAYLIGHT
TZOFFSETFROM:-0500
TZOFFSETTO:-0400
TZNAME:EDT
DTSTART:20250309T070000
END:DAYLIGHT
BEGIN:STANDARD
TZOFFSETFROM:-0400
TZOFFSETTO:-0500
TZNAME:EST
DTSTART:20251102T060000
END:STANDARD
BEGIN:DAYLIGHT
TZOFFSETFROM:-0500
TZOFFSETTO:-0400
TZNAME:EDT
DTSTART:20260308T070000
END:DAYLIGHT
BEGIN:STANDARD
TZOFFSETFROM:-0400
TZOFFSETTO:-0500
TZNAME:EST
DTSTART:20261101T060000
END:STANDARD
END:VTIMEZONE
BEGIN:VEVENT
DTSTART;TZID=America/New_York:20251220T140000
DTEND;TZID=America/New_York:20251220T170000
DTSTAMP:20260422T152744
CREATED:20251112T172152Z
LAST-MODIFIED:20251112T172152Z
UID:10017504-1766239200-1766250000@www.huntingtonarts.org
SUMMARY:Long Island Traditional Music Association presents LITMA Holiday Contradance
DESCRIPTION:Special onetime Holiday Contradance
URL:https://www.huntingtonarts.org/event/long-island-traditional-music-association-presents-litma-holiday-contradance/
LOCATION:Westbury Friends Meeting/School\, 550 Post Ave.\, Westbury\, NY\, 11590\, United States
CATEGORIES:Dance
ATTACH;FMTTYPE=image/png:https://www.huntingtonarts.org/wp-content/uploads/2025/11/LogoLowRes.png
ORGANIZER;CN="Long Island Traditional Music Association(LITMA)":MAILTO:lapeherb@gmail.com
END:VEVENT
BEGIN:VEVENT
DTSTART;TZID=America/New_York:20251220T100000
DTEND;TZID=America/New_York:20251220T140000
DTSTAMP:20260422T152744
CREATED:20251112T172137Z
LAST-MODIFIED:20251112T172137Z
UID:10017503-1766224800-1766239200@www.huntingtonarts.org
SUMMARY:Long Island Traditional Music Association presents Special LITMA Callers' Workshop
DESCRIPTION:Special 3-hour workshop for aspiring Contradance Callers featuring Louise Siddons and internationally known contradance caller currently residing in the UK. \nFollowed by a Holiday Contradance from 2:00 to 5:00 featuring Louise Siddons Calling with the LITMA Contra Band.
URL:https://www.huntingtonarts.org/event/long-island-traditional-music-association-presents-special-litma-callers-workshop/
LOCATION:Westbury Friends Meeting/School\, 550 Post Ave.\, Westbury\, NY\, 11590\, United States
CATEGORIES:Dance,Workshop Classes
ORGANIZER;CN="Long Island Traditional Music Association(LITMA)":MAILTO:lapeherb@gmail.com
END:VEVENT
END:VCALENDAR