BEGIN:VCALENDAR
VERSION:2.0
PRODID:-//Huntington Arts Council - ECPv6.15.20//NONSGML v1.0//EN
CALSCALE:GREGORIAN
METHOD:PUBLISH
X-ORIGINAL-URL:https://www.huntingtonarts.org
X-WR-CALDESC:Events for Huntington Arts Council
REFRESH-INTERVAL;VALUE=DURATION:PT1H
X-Robots-Tag:noindex
X-PUBLISHED-TTL:PT1H
BEGIN:VTIMEZONE
TZID:America/New_York
BEGIN:DAYLIGHT
TZOFFSETFROM:-0500
TZOFFSETTO:-0400
TZNAME:EDT
DTSTART:20250309T070000
END:DAYLIGHT
BEGIN:STANDARD
TZOFFSETFROM:-0400
TZOFFSETTO:-0500
TZNAME:EST
DTSTART:20251102T060000
END:STANDARD
BEGIN:DAYLIGHT
TZOFFSETFROM:-0500
TZOFFSETTO:-0400
TZNAME:EDT
DTSTART:20260308T070000
END:DAYLIGHT
BEGIN:STANDARD
TZOFFSETFROM:-0400
TZOFFSETTO:-0500
TZNAME:EST
DTSTART:20261101T060000
END:STANDARD
BEGIN:DAYLIGHT
TZOFFSETFROM:-0500
TZOFFSETTO:-0400
TZNAME:EDT
DTSTART:20270314T070000
END:DAYLIGHT
BEGIN:STANDARD
TZOFFSETFROM:-0400
TZOFFSETTO:-0500
TZNAME:EST
DTSTART:20271107T060000
END:STANDARD
END:VTIMEZONE
BEGIN:VEVENT
DTSTART;VALUE=DATE:20260520
DTEND;VALUE=DATE:20260723
DTSTAMP:20260421T195942
CREATED:20260421T163558Z
LAST-MODIFIED:20260421T163558Z
UID:10024197-1779235200-1784764799@www.huntingtonarts.org
SUMMARY:Alicia Evans presents America250: The Liberty Tree Series Collection — Solo Exhibition
DESCRIPTION:Award-winning fiber artist Alicia Evans presents America250: The Liberty Tree Series Collection\, a solo exhibition that weaves together fiber art\, storytelling\, and historical reflection through the enduring symbolism of red\, white\, and blue crocheted trees. This body of work honors America’s 250th anniversary by exploring themes of freedom\, resilience\, and shared national memory. \nEvans invites viewers into a contemplative visual journey where trees become witnesses to history and living metaphors for endurance\, advocacy\, and connection across generations.
URL:https://www.huntingtonarts.org/event/alicia-evans-presents-america250-the-liberty-tree-series-collection-solo-exhibition/
LOCATION:Walt Whitman Birthplace State Historic Site & Interpretive Center\, 246 Old Walt Whitman Road\, Huntington Station\, NY\, 11746\, United States
CATEGORIES:Exhibitions
ATTACH;FMTTYPE=image/jpeg:https://www.huntingtonarts.org/wp-content/uploads/2026/04/1000010098.jpg
ORGANIZER;CN="Walt Whitman Birthplace Association":MAILTO:events@waltwhitman.org
GEO:40.817172;-73.411716
X-APPLE-STRUCTURED-LOCATION;VALUE=URI;X-ADDRESS=Walt Whitman Birthplace State Historic Site & Interpretive Center 246 Old Walt Whitman Road Huntington Station NY 11746 United States;X-APPLE-RADIUS=500;X-TITLE=246 Old Walt Whitman Road:geo:-73.411716,40.817172
END:VEVENT
END:VCALENDAR