BEGIN:VCALENDAR
VERSION:2.0
PRODID:-//Huntington Arts Council - ECPv6.15.20//NONSGML v1.0//EN
CALSCALE:GREGORIAN
METHOD:PUBLISH
X-ORIGINAL-URL:https://www.huntingtonarts.org
X-WR-CALDESC:Events for Huntington Arts Council
REFRESH-INTERVAL;VALUE=DURATION:PT1H
X-Robots-Tag:noindex
X-PUBLISHED-TTL:PT1H
BEGIN:VTIMEZONE
TZID:America/New_York
BEGIN:DAYLIGHT
TZOFFSETFROM:-0500
TZOFFSETTO:-0400
TZNAME:EDT
DTSTART:20240310T070000
END:DAYLIGHT
BEGIN:STANDARD
TZOFFSETFROM:-0400
TZOFFSETTO:-0500
TZNAME:EST
DTSTART:20241103T060000
END:STANDARD
BEGIN:DAYLIGHT
TZOFFSETFROM:-0500
TZOFFSETTO:-0400
TZNAME:EDT
DTSTART:20250309T070000
END:DAYLIGHT
BEGIN:STANDARD
TZOFFSETFROM:-0400
TZOFFSETTO:-0500
TZNAME:EST
DTSTART:20251102T060000
END:STANDARD
BEGIN:DAYLIGHT
TZOFFSETFROM:-0500
TZOFFSETTO:-0400
TZNAME:EDT
DTSTART:20260308T070000
END:DAYLIGHT
BEGIN:STANDARD
TZOFFSETFROM:-0400
TZOFFSETTO:-0500
TZNAME:EST
DTSTART:20261101T060000
END:STANDARD
END:VTIMEZONE
BEGIN:VEVENT
DTSTART;TZID=America/New_York:20251207T160000
DTEND;TZID=America/New_York:20251207T180000
DTSTAMP:20260421T231610
CREATED:20250501T173855Z
LAST-MODIFIED:20250501T173855Z
UID:10015610-1765123200-1765130400@www.huntingtonarts.org
SUMMARY:SUNY Suffolk presents An Old Fashioned Holiday
DESCRIPTION:Join us for a heartwarming celebration\, filled with classic cheer and timeless holiday traditions. \nGeneral admission: $15.00; Veterans and students 16 years of age or younger: $10.00. \n**Suffolk students with current ID: Two FREE tickets. \nPlease visit the website for tickets: sunysuffolk.edu/spotlight
URL:https://www.huntingtonarts.org/event/suny-suffolk-presents-an-old-fashioned-holiday/
LOCATION:Van Nostrand Theater at Suffolk County Community College\, Brentwood\, NY\, United States
GEO:40.7812093;-73.2462273
END:VEVENT
BEGIN:VEVENT
DTSTART;TZID=America/New_York:20251102T140000
DTEND;TZID=America/New_York:20251102T160000
DTSTAMP:20260421T231610
CREATED:20250501T173812Z
LAST-MODIFIED:20250501T173812Z
UID:10015609-1762092000-1762099200@www.huntingtonarts.org
SUMMARY:SUNY Suffolk presents Canine Circus
DESCRIPTION:Laugh your tail off at the canine comedy show. Fetch your tickets now before they’re gone! \nGeneral admission: $15.00; Veterans and students 16 years of age or younger: $10.00. \n**Suffolk students with current ID: Two FREE tickets. \nPlease visit the website for tickets: sunysuffolk.edu/spotlight
URL:https://www.huntingtonarts.org/event/suny-suffolk-presents-canine-circus/
LOCATION:Van Nostrand Theater at Suffolk County Community College\, Brentwood\, NY\, United States
CATEGORIES:Children and Family,Theater
GEO:40.7812093;-73.2462273
END:VEVENT
END:VCALENDAR