BEGIN:VCALENDAR
VERSION:2.0
PRODID:-//Huntington Arts Council - ECPv6.15.20//NONSGML v1.0//EN
CALSCALE:GREGORIAN
METHOD:PUBLISH
X-ORIGINAL-URL:https://www.huntingtonarts.org
X-WR-CALDESC:Events for Huntington Arts Council
REFRESH-INTERVAL;VALUE=DURATION:PT1H
X-Robots-Tag:noindex
X-PUBLISHED-TTL:PT1H
BEGIN:VTIMEZONE
TZID:America/New_York
BEGIN:DAYLIGHT
TZOFFSETFROM:-0500
TZOFFSETTO:-0400
TZNAME:EDT
DTSTART:20240310T070000
END:DAYLIGHT
BEGIN:STANDARD
TZOFFSETFROM:-0400
TZOFFSETTO:-0500
TZNAME:EST
DTSTART:20241103T060000
END:STANDARD
BEGIN:DAYLIGHT
TZOFFSETFROM:-0500
TZOFFSETTO:-0400
TZNAME:EDT
DTSTART:20250309T070000
END:DAYLIGHT
BEGIN:STANDARD
TZOFFSETFROM:-0400
TZOFFSETTO:-0500
TZNAME:EST
DTSTART:20251102T060000
END:STANDARD
BEGIN:DAYLIGHT
TZOFFSETFROM:-0500
TZOFFSETTO:-0400
TZNAME:EDT
DTSTART:20260308T070000
END:DAYLIGHT
BEGIN:STANDARD
TZOFFSETFROM:-0400
TZOFFSETTO:-0500
TZNAME:EST
DTSTART:20261101T060000
END:STANDARD
END:VTIMEZONE
BEGIN:VEVENT
DTSTART;TZID=America/New_York:20250517T120000
DTEND;TZID=America/New_York:20250517T160000
DTSTAMP:20260422T082700
CREATED:20250224T175715Z
LAST-MODIFIED:20250224T175715Z
UID:10015276-1747483200-1747497600@www.huntingtonarts.org
SUMMARY:The Town of Oyster Bay presents Art in the Park
DESCRIPTION:The Town of Oyster Bay is happy to announce Art in the Park is back for 2025! \nThis event will take place on Saturday\, May 17\, 2025 from 12:00 PM – 4:00 PM at Theodore Roosevelt Memorial Park & Beach in Oyster Bay. \nThe rain date is Sunday\, May 18\, 2025 from 12:00 PM- 4:00PM. \nArt in the Park will include local artists & craft vendors\, live music\, food trucks and family-friendly activities.
URL:https://www.huntingtonarts.org/event/the-town-of-oyster-bay-presents-art-in-the-park/
LOCATION:Theodore Roosevelt Memorial Park\, 63 Larrabee Ave\, Oyster Bay\, 11771\, United States
END:VEVENT
END:VCALENDAR