BEGIN:VCALENDAR
VERSION:2.0
PRODID:-//Huntington Arts Council - ECPv6.15.20//NONSGML v1.0//EN
CALSCALE:GREGORIAN
METHOD:PUBLISH
X-WR-CALNAME:Huntington Arts Council
X-ORIGINAL-URL:https://www.huntingtonarts.org
X-WR-CALDESC:Events for Huntington Arts Council
REFRESH-INTERVAL;VALUE=DURATION:PT1H
X-Robots-Tag:noindex
X-PUBLISHED-TTL:PT1H
BEGIN:VTIMEZONE
TZID:America/New_York
BEGIN:DAYLIGHT
TZOFFSETFROM:-0500
TZOFFSETTO:-0400
TZNAME:EDT
DTSTART:20250309T070000
END:DAYLIGHT
BEGIN:STANDARD
TZOFFSETFROM:-0400
TZOFFSETTO:-0500
TZNAME:EST
DTSTART:20251102T060000
END:STANDARD
BEGIN:DAYLIGHT
TZOFFSETFROM:-0500
TZOFFSETTO:-0400
TZNAME:EDT
DTSTART:20260308T070000
END:DAYLIGHT
BEGIN:STANDARD
TZOFFSETFROM:-0400
TZOFFSETTO:-0500
TZNAME:EST
DTSTART:20261101T060000
END:STANDARD
BEGIN:DAYLIGHT
TZOFFSETFROM:-0500
TZOFFSETTO:-0400
TZNAME:EDT
DTSTART:20270314T070000
END:DAYLIGHT
BEGIN:STANDARD
TZOFFSETFROM:-0400
TZOFFSETTO:-0500
TZNAME:EST
DTSTART:20271107T060000
END:STANDARD
END:VTIMEZONE
BEGIN:VEVENT
DTSTART;TZID=America/New_York:20260419T110000
DTEND;TZID=America/New_York:20260419T160000
DTSTAMP:20260419T101517
CREATED:20260327T152619Z
LAST-MODIFIED:20260327T152619Z
UID:10023217-1776596400-1776614400@www.huntingtonarts.org
SUMMARY:The Whaling Museum presents Ocean Egg Scavenger Hunt
DESCRIPTION:All Through April | Kids & Families\nGallery Hours 11AM – 4PM \nHunt for baby marine animal eggs hidden around the museum gallery. Find them all to win an egg prize with a surprise inside! \nIncluded with admission.
URL:https://www.huntingtonarts.org/event/the-whaling-museum-presents-ocean-egg-scavenger-hunt/2026-04-19/
LOCATION:The Whaling Museum and Education Center\, 301 Main Street\, Cold Spring Harbor\, NY\, 11724\, United States
CATEGORIES:Children and Family,Exhibitions,Miscellaneous
ATTACH;FMTTYPE=image/jpeg:https://www.huntingtonarts.org/wp-content/uploads/2026/03/IMG_20241006_142211785.jpg
ORGANIZER;CN="The Whaling Museum and Education Center":MAILTO:jpalumbo@cshwhalingmuseum.org
GEO:40.8725752;-73.4541433
X-APPLE-STRUCTURED-LOCATION;VALUE=URI;X-ADDRESS=The Whaling Museum and Education Center 301 Main Street Cold Spring Harbor NY 11724 United States;X-APPLE-RADIUS=500;X-TITLE=301 Main Street:geo:-73.4541433,40.8725752
END:VEVENT
BEGIN:VEVENT
DTSTART;TZID=America/New_York:20260501T110000
DTEND;TZID=America/New_York:20260501T160000
DTSTAMP:20260419T101517
CREATED:20260407T182203Z
LAST-MODIFIED:20260407T182203Z
UID:10023438-1777633200-1777651200@www.huntingtonarts.org
SUMMARY:The Whaling Museum presents Find the Mayflowers!
DESCRIPTION:All May During Gallery Hours | 11AM-4PM | Kids & Families \nThar she blooms! Track down hidden florals in the gallery. Find them all to claim your prize! \nIncluded with Admission
URL:https://www.huntingtonarts.org/event/the-whaling-museum-presents-find-the-mayflowers/2026-05-01/
LOCATION:The Whaling Museum and Education Center\, 301 Main Street\, Cold Spring Harbor\, NY\, 11724\, United States
CATEGORIES:Children and Family,Exhibitions,Miscellaneous
ATTACH;FMTTYPE=image/png:https://www.huntingtonarts.org/wp-content/uploads/2026/04/Find-the-May-Flowers-Scavenger-Hunt.png
ORGANIZER;CN="The Whaling Museum and Education Center":MAILTO:jpalumbo@cshwhalingmuseum.org
GEO:40.8725752;-73.4541433
X-APPLE-STRUCTURED-LOCATION;VALUE=URI;X-ADDRESS=The Whaling Museum and Education Center 301 Main Street Cold Spring Harbor NY 11724 United States;X-APPLE-RADIUS=500;X-TITLE=301 Main Street:geo:-73.4541433,40.8725752
END:VEVENT
BEGIN:VEVENT
DTSTART;TZID=America/New_York:20260514T183000
DTEND;TZID=America/New_York:20260514T200000
DTSTAMP:20260419T101517
CREATED:20260407T182225Z
LAST-MODIFIED:20260407T182225Z
UID:10023665-1778783400-1778788800@www.huntingtonarts.org
SUMMARY:The Whaling Museum presents Crafts & Cocktails: Ocean Origami
DESCRIPTION:Thurs. May 14 | 6:30 PM | Adults 21+ \nCelebrate Asian American & Pacific Islander Heritage Month by discovering the Long Island whaleship that ended Japan’s 200-year isolation and rewrote the map of global history! Craft your own stunning ocean-inspired origami scene on a wooden base. Sip on a refreshing Japanese plum cocktail or mocktail as you craft your masterpiece! \n$25 Member; $35 Participant
URL:https://www.huntingtonarts.org/event/the-whaling-museum-presents-crafts-cocktails-ocean-origami/
LOCATION:The Whaling Museum and Education Center\, 301 Main Street\, Cold Spring Harbor\, NY\, 11724\, United States
CATEGORIES:Art Demo,Exhibitions,History,Workshop Classes
ATTACH;FMTTYPE=image/jpeg:https://www.huntingtonarts.org/wp-content/uploads/2026/04/CC-Origami.jpeg
ORGANIZER;CN="The Whaling Museum and Education Center":MAILTO:jpalumbo@cshwhalingmuseum.org
GEO:40.8725752;-73.4541433
X-APPLE-STRUCTURED-LOCATION;VALUE=URI;X-ADDRESS=The Whaling Museum and Education Center 301 Main Street Cold Spring Harbor NY 11724 United States;X-APPLE-RADIUS=500;X-TITLE=301 Main Street:geo:-73.4541433,40.8725752
END:VEVENT
BEGIN:VEVENT
DTSTART;TZID=America/New_York:20260527T183000
DTEND;TZID=America/New_York:20260527T200000
DTSTAMP:20260419T101517
CREATED:20260407T182244Z
LAST-MODIFIED:20260407T182244Z
UID:10023666-1779906600-1779912000@www.huntingtonarts.org
SUMMARY:The Whaling Museum presents Beyond the Book: Sea People
DESCRIPTION:Wed\, May 27 | Adults\n6:30 PM | Register to Save Your Spot \nSea People: The Puzzle of Polynesia by Christina Thompson \nJoin us to celebrate Asian American and Pacific Islander Heritage Month as we dive into Christina Thompson’s fascinating look at one of the greatest maritime mysteries of all time – how Polynesian explorers settled islands scattered across thousands of miles of open ocean long before modern navigation tools existed. Blending history\, science\, and storytelling\, Sea People examines oral histories\, DNA research\, European explorer accounts\, and modern attempts to recreate ancient voyages in an attempt to solve this enduring puzzle. We’ll chat about epic sea journeys\, cultural resilience\, and how these stories shape the way we understand ocean exploration. \nFree for museum members and library patrons of Cold Spring Harbor\, Huntington and South Huntington Libraries. $15 Non-Member
URL:https://www.huntingtonarts.org/event/the-whaling-museum-presents-beyond-the-book-sea-people/
LOCATION:The Whaling Museum and Education Center\, 301 Main Street\, Cold Spring Harbor\, NY\, 11724\, United States
CATEGORIES:Exhibitions,Film/Media,History,Miscellaneous
ATTACH;FMTTYPE=image/jpeg:https://www.huntingtonarts.org/wp-content/uploads/2026/04/sea-people-3.jpg
ORGANIZER;CN="The Whaling Museum and Education Center":MAILTO:jpalumbo@cshwhalingmuseum.org
GEO:40.8725752;-73.4541433
X-APPLE-STRUCTURED-LOCATION;VALUE=URI;X-ADDRESS=The Whaling Museum and Education Center 301 Main Street Cold Spring Harbor NY 11724 United States;X-APPLE-RADIUS=500;X-TITLE=301 Main Street:geo:-73.4541433,40.8725752
END:VEVENT
BEGIN:VEVENT
DTSTART;TZID=America/New_York:20260604T110000
DTEND;TZID=America/New_York:20260604T160000
DTSTAMP:20260419T101517
CREATED:20260415T201122Z
LAST-MODIFIED:20260415T201122Z
UID:10023685-1780570800-1780588800@www.huntingtonarts.org
SUMMARY:The Whaling Museum presents Rainbow Scavenger Hunt
DESCRIPTION:All Through April | Kids & Families\nGallery Hours 11AM – 4PM \nHunt for baby marine animal eggs hidden around the museum gallery. Find them all to win an egg prize with a surprise inside! \nIncluded with admission.
URL:https://www.huntingtonarts.org/event/the-whaling-museum-presents-rainbow-scavenger-hunt/2026-06-04/
LOCATION:The Whaling Museum and Education Center\, 301 Main Street\, Cold Spring Harbor\, NY\, 11724\, United States
CATEGORIES:Children and Family,Exhibitions,Miscellaneous
ATTACH;FMTTYPE=image/png:https://www.huntingtonarts.org/wp-content/uploads/2026/04/Rainbow-Scavenger-Hunt.png
ORGANIZER;CN="The Whaling Museum and Education Center":MAILTO:jpalumbo@cshwhalingmuseum.org
GEO:40.8725752;-73.4541433
X-APPLE-STRUCTURED-LOCATION;VALUE=URI;X-ADDRESS=The Whaling Museum and Education Center 301 Main Street Cold Spring Harbor NY 11724 United States;X-APPLE-RADIUS=500;X-TITLE=301 Main Street:geo:-73.4541433,40.8725752
END:VEVENT
BEGIN:VEVENT
DTSTART;TZID=America/New_York:20260611T183000
DTEND;TZID=America/New_York:20260611T200000
DTSTAMP:20260419T101517
CREATED:20260415T170223Z
LAST-MODIFIED:20260415T170223Z
UID:10023683-1781202600-1781208000@www.huntingtonarts.org
SUMMARY:The Whaling Museum presents Crafts & Cocktails: Beachy Windchimes
DESCRIPTION:Thurs. June 11 | 6:30 PM | Adults 21+ \nFrom musical windchimes to the great sails of tall ships\, discover the many fascinating ways humans have harnessed the power of wind through the centuries. Sip a Summer Wind cocktail or mocktail as you use driftwood\, seashells\, and frosted shard of sea glass to create a gorgeous set of chimes to hang up at home! \n$25 Member; $35 Participant
URL:https://www.huntingtonarts.org/event/the-whaling-museum-presents-crafts-cocktails-beachy-windchimes/
LOCATION:The Whaling Museum and Education Center\, 301 Main Street\, Cold Spring Harbor\, NY\, 11724\, United States
CATEGORIES:Art Demo,Exhibitions,History,Workshop Classes
ATTACH;FMTTYPE=image/jpeg:https://www.huntingtonarts.org/wp-content/uploads/2026/04/CC-Winchimes-2-scaled.jpeg
ORGANIZER;CN="The Whaling Museum and Education Center":MAILTO:jpalumbo@cshwhalingmuseum.org
GEO:40.8725752;-73.4541433
X-APPLE-STRUCTURED-LOCATION;VALUE=URI;X-ADDRESS=The Whaling Museum and Education Center 301 Main Street Cold Spring Harbor NY 11724 United States;X-APPLE-RADIUS=500;X-TITLE=301 Main Street:geo:-73.4541433,40.8725752
END:VEVENT
BEGIN:VEVENT
DTSTART;TZID=America/New_York:20260624T183000
DTEND;TZID=America/New_York:20260624T200000
DTSTAMP:20260419T101517
CREATED:20260415T170235Z
LAST-MODIFIED:20260415T170235Z
UID:10023684-1782325800-1782331200@www.huntingtonarts.org
SUMMARY:The Whaling Museum presents Beyond the Book: Travels with George
DESCRIPTION:Wed\, June 24 | Adults\n6:30 PM | Register to Save Your Spot\nTravels with George: In Search of Washington and his Legacy by Nathaniel Philbrick \nIn time for summer road trip season\, join us to discuss this unique blend of history book and travel narrative from the award-winning author of In the Heart of the Sea. In Travels with George\, Philbrick retraces Washington’s 1789 presidential tour through the loose and quarrelsome confederation of ex-colonies in an attempt to sell citizens on the new government and the idea of being “American.” Alongside his wife and dog\, Philbrick follows Washington from Mount Vernon to the new capital in New York and eventually out onto Long Island (and through Cold Spring Harbor) while considering how the nation’s early history is understood and commemorated today\, all while grappling with the moral tangle of Washington’s legacy. \nFree for museum members and library patrons of Cold Spring Harbor\, Huntington and South Huntington Libraries. $15 Non-Member \nThis event is part of our “Liberty at Sea” series—a new year long program commemorating the 250th anniversary of the signing of the Declaration of Independence. Bring your passport to the program and get a passport stamp! ⁠
URL:https://www.huntingtonarts.org/event/the-whaling-museum-presents-beyond-the-book-travels-with-george/
LOCATION:The Whaling Museum and Education Center\, 301 Main Street\, Cold Spring Harbor\, NY\, 11724\, United States
CATEGORIES:Exhibitions,Grant Workshops,History,Miscellaneous
ATTACH;FMTTYPE=image/jpeg:https://www.huntingtonarts.org/wp-content/uploads/2026/04/Travels-with-George-Liberty-at-Sea.jpg
ORGANIZER;CN="The Whaling Museum and Education Center":MAILTO:jpalumbo@cshwhalingmuseum.org
GEO:40.8725752;-73.4541433
X-APPLE-STRUCTURED-LOCATION;VALUE=URI;X-ADDRESS=The Whaling Museum and Education Center 301 Main Street Cold Spring Harbor NY 11724 United States;X-APPLE-RADIUS=500;X-TITLE=301 Main Street:geo:-73.4541433,40.8725752
END:VEVENT
END:VCALENDAR