BEGIN:VCALENDAR
VERSION:2.0
PRODID:-//Huntington Arts Council - ECPv6.15.20//NONSGML v1.0//EN
CALSCALE:GREGORIAN
METHOD:PUBLISH
X-WR-CALNAME:Huntington Arts Council
X-ORIGINAL-URL:https://www.huntingtonarts.org
X-WR-CALDESC:Events for Huntington Arts Council
REFRESH-INTERVAL;VALUE=DURATION:PT1H
X-Robots-Tag:noindex
X-PUBLISHED-TTL:PT1H
BEGIN:VTIMEZONE
TZID:America/New_York
BEGIN:DAYLIGHT
TZOFFSETFROM:-0500
TZOFFSETTO:-0400
TZNAME:EDT
DTSTART:20230312T070000
END:DAYLIGHT
BEGIN:STANDARD
TZOFFSETFROM:-0400
TZOFFSETTO:-0500
TZNAME:EST
DTSTART:20231105T060000
END:STANDARD
BEGIN:DAYLIGHT
TZOFFSETFROM:-0500
TZOFFSETTO:-0400
TZNAME:EDT
DTSTART:20240310T070000
END:DAYLIGHT
BEGIN:STANDARD
TZOFFSETFROM:-0400
TZOFFSETTO:-0500
TZNAME:EST
DTSTART:20241103T060000
END:STANDARD
BEGIN:DAYLIGHT
TZOFFSETFROM:-0500
TZOFFSETTO:-0400
TZNAME:EDT
DTSTART:20250309T070000
END:DAYLIGHT
BEGIN:STANDARD
TZOFFSETFROM:-0400
TZOFFSETTO:-0500
TZNAME:EST
DTSTART:20251102T060000
END:STANDARD
END:VTIMEZONE
BEGIN:VEVENT
DTSTART;TZID=America/New_York:20240920T180000
DTEND;TZID=America/New_York:20240920T200000
DTSTAMP:20260422T002031
CREATED:20240904T205050Z
LAST-MODIFIED:20240904T205050Z
UID:10014210-1726855200-1726862400@www.huntingtonarts.org
SUMMARY:Babylon Village Arts Council presents Book Signing with Author & Poet Nancy Keating
DESCRIPTION:Babylon Village Arts Council is presenting a book signing with author and poet Nancy Keating on Friday\, September 20 at the Neverending Book Store from 6-8. Meet Nancy Keating who will sign copies of her prize-winning book “White Chick”. \nThis program is made possible through membership and donations.
URL:https://www.huntingtonarts.org/event/babylon-village-arts-council-presents-book-signing-with-author-poet-nancy-keating/
LOCATION:The Neverending Story Bookstore\, 9 West Main Street\, Babylon Village\, 11702\, United States
CATEGORIES:Poetry
ATTACH;FMTTYPE=image/jpeg:https://www.huntingtonarts.org/wp-content/uploads/2024/08/20-book-signing-Nancy-Keating.jpg
ORGANIZER;CN="Babylon Village Arts Council":MAILTO:infobvac@gmail.com
END:VEVENT
BEGIN:VEVENT
DTSTART;TZID=America/New_York:20240427T180000
DTEND;TZID=America/New_York:20240427T200000
DTSTAMP:20260422T002031
CREATED:20240409T202834Z
LAST-MODIFIED:20240409T202834Z
UID:10010683-1714240800-1714248000@www.huntingtonarts.org
SUMMARY:Babylon Village Arts Council presents Book Signing with Artist and Author Jonathan Zamet
DESCRIPTION:On Saturday\, April 27 Babylon Village Arts Council will present book signing with artist and author Jonathan Zamet at the Neverending Story Bookstore located at 9 West Main Street\,Babylon Village. Jonathan has authored two books:”Magic & Mystery:A Potter and his Pots” and his memoir “Making Other Plans”.Jonathan developed a love for ‘pots’ while in college and the journey has continued to this day. Meet rhe man who never lost his love for his art. The book signing will be from 6-8 pm. It will be hosted by the Neverending Story Bookstore.
URL:https://www.huntingtonarts.org/event/babylon-village-arts-council-presents-book-signing-with-artist-and-author-jonathan-zamet/
LOCATION:The Neverending Story Bookstore\, 9 West Main Street\, Babylon Village\, 11702\, United States
ATTACH;FMTTYPE=image/png:https://www.huntingtonarts.org/wp-content/uploads/2024/04/Zamet-book-signing.png
ORGANIZER;CN="Babylon Village Arts Council":MAILTO:infobvac@gmail.com
END:VEVENT
END:VCALENDAR