BEGIN:VCALENDAR
VERSION:2.0
PRODID:-//Huntington Arts Council - ECPv6.15.20//NONSGML v1.0//EN
CALSCALE:GREGORIAN
METHOD:PUBLISH
X-ORIGINAL-URL:https://www.huntingtonarts.org
X-WR-CALDESC:Events for Huntington Arts Council
REFRESH-INTERVAL;VALUE=DURATION:PT1H
X-Robots-Tag:noindex
X-PUBLISHED-TTL:PT1H
BEGIN:VTIMEZONE
TZID:America/New_York
BEGIN:DAYLIGHT
TZOFFSETFROM:-0500
TZOFFSETTO:-0400
TZNAME:EDT
DTSTART:20220313T070000
END:DAYLIGHT
BEGIN:STANDARD
TZOFFSETFROM:-0400
TZOFFSETTO:-0500
TZNAME:EST
DTSTART:20221106T060000
END:STANDARD
BEGIN:DAYLIGHT
TZOFFSETFROM:-0500
TZOFFSETTO:-0400
TZNAME:EDT
DTSTART:20230312T070000
END:DAYLIGHT
BEGIN:STANDARD
TZOFFSETFROM:-0400
TZOFFSETTO:-0500
TZNAME:EST
DTSTART:20231105T060000
END:STANDARD
BEGIN:DAYLIGHT
TZOFFSETFROM:-0500
TZOFFSETTO:-0400
TZNAME:EDT
DTSTART:20240310T070000
END:DAYLIGHT
BEGIN:STANDARD
TZOFFSETFROM:-0400
TZOFFSETTO:-0500
TZNAME:EST
DTSTART:20241103T060000
END:STANDARD
BEGIN:DAYLIGHT
TZOFFSETFROM:-0500
TZOFFSETTO:-0400
TZNAME:EDT
DTSTART:20250309T070000
END:DAYLIGHT
BEGIN:STANDARD
TZOFFSETFROM:-0400
TZOFFSETTO:-0500
TZNAME:EST
DTSTART:20251102T060000
END:STANDARD
END:VTIMEZONE
BEGIN:VEVENT
DTSTART;TZID=America/New_York:20240829T190000
DTEND;TZID=America/New_York:20240829T210000
DTSTAMP:20260422T084737
CREATED:20240730T142550Z
LAST-MODIFIED:20240730T142550Z
UID:10014074-1724958000-1724965200@www.huntingtonarts.org
SUMMARY:The Jazz Loft presents: Interplay Jazz Orchestra
DESCRIPTION:The 17-piece Interplay Jazz Orchestra performs original compositions and arrangements written by band members.
URL:https://www.huntingtonarts.org/event/the-jazz-loft-presents-interplay-jazz-orchestra-4/
LOCATION:The Jazz Loft\, 275 Christian Ave.\, Stony Brook\, NY\, 11790\, United States
ATTACH;FMTTYPE=image/jpeg:https://www.huntingtonarts.org/wp-content/uploads/2024/07/Jazz_Loft_generic_poster_Hinton_Room-8.jpg
ORGANIZER;CN="The Jazz Loft":MAILTO:tmanuel@thejazzloft.org
END:VEVENT
BEGIN:VEVENT
DTSTART;TZID=America/New_York:20240824T190000
DTEND;TZID=America/New_York:20240824T210000
DTSTAMP:20260422T084737
CREATED:20240730T142156Z
LAST-MODIFIED:20240730T142156Z
UID:10014072-1724526000-1724533200@www.huntingtonarts.org
SUMMARY:The Jazz Loft presents Nicole Zuraitis' Sings the Ella Fitzgerald - Keely Smith Songbook
DESCRIPTION:The Jazz Loft’s 17 piece big band directed by Jazz Loft Director\, Tom Manuel\, trumpet\, featuring Nicole Zuraitis\, Grammy-winning American jazz vocalist\, pianist\, songwriter and arranger performs Ella Fitzgerald’s Keely Smith Songbook for a second night on Saturday\, August 24.
URL:https://www.huntingtonarts.org/event/the-jazz-loft-presents-nicole-zuraitis-sings-the-ella-fitzgerald-keely-smith-songbook-2/
LOCATION:The Jazz Loft\, 275 Christian Ave.\, Stony Brook\, NY\, 11790\, United States
ATTACH;FMTTYPE=image/jpeg:https://www.huntingtonarts.org/wp-content/uploads/2024/07/Jazz_Loft_generic_poster_Hinton_Room-7.jpg
ORGANIZER;CN="The Jazz Loft":MAILTO:tmanuel@thejazzloft.org
END:VEVENT
BEGIN:VEVENT
DTSTART;TZID=America/New_York:20240823T190000
DTEND;TZID=America/New_York:20240823T210000
DTSTAMP:20260422T084737
CREATED:20240730T142133Z
LAST-MODIFIED:20240730T142133Z
UID:10014071-1724439600-1724446800@www.huntingtonarts.org
SUMMARY:The Jazz Loft presents Nicole Zuraitis' Sings the Ella Fitzgerald - Keely Smith Songbook
DESCRIPTION:The Jazz Loft’s 17 piece big band directed by Jazz Loft Director\, Tom Manuel\, trumpet\, featuring Nicole Zuraitis\, Grammy-winning American jazz vocalist\, pianist\, songwriter and arranger\, performs Ella Fitzgerald’s Keely Smith Songbook on Friday\, August 23.
URL:https://www.huntingtonarts.org/event/the-jazz-loft-presents-nicole-zuraitis-sings-the-ella-fitzgerald-keely-smith-songbook/
LOCATION:The Jazz Loft\, 275 Christian Ave.\, Stony Brook\, NY\, 11790\, United States
ATTACH;FMTTYPE=image/jpeg:https://www.huntingtonarts.org/wp-content/uploads/2024/07/Jazz_Loft_generic_poster_Hinton_Room-6.jpg
ORGANIZER;CN="The Jazz Loft":MAILTO:tmanuel@thejazzloft.org
END:VEVENT
BEGIN:VEVENT
DTSTART;TZID=America/New_York:20240822T190000
DTEND;TZID=America/New_York:20240822T210000
DTSTAMP:20260422T084737
CREATED:20240730T142015Z
LAST-MODIFIED:20240730T142015Z
UID:10014070-1724353200-1724360400@www.huntingtonarts.org
SUMMARY:The Jazz Loft presents Swingtime! Stompin - at the Savoy
DESCRIPTION:The Jazz Loft Big Band is a 17 piece big band directed by Jazz Loft Director\, Tom Manuel\, trumpet that will include dancers and a night full of swingin’ music.
URL:https://www.huntingtonarts.org/event/the-jazz-loft-presents-swingtime-stompin-at-the-savoy/
LOCATION:The Jazz Loft\, 275 Christian Ave.\, Stony Brook\, NY\, 11790\, United States
ATTACH;FMTTYPE=image/jpeg:https://www.huntingtonarts.org/wp-content/uploads/2024/07/Jazz_Loft_generic_poster_Hinton_Room-5.jpg
ORGANIZER;CN="The Jazz Loft":MAILTO:tmanuel@thejazzloft.org
END:VEVENT
BEGIN:VEVENT
DTSTART;TZID=America/New_York:20240822T180000
DTEND;TZID=America/New_York:20240822T200000
DTSTAMP:20260422T084737
CREATED:20240730T141843Z
LAST-MODIFIED:20240730T141843Z
UID:10014069-1724349600-1724356800@www.huntingtonarts.org
SUMMARY:The Jazz Loft presents Jazz 101: NOLA
DESCRIPTION:A night of celebrating Jazz music and history with well-known drummer\, performer\, and educator Darrell Smith.
URL:https://www.huntingtonarts.org/event/the-jazz-loft-presents-jazz-101-nola/
LOCATION:The Jazz Loft\, 275 Christian Ave.\, Stony Brook\, NY\, 11790\, United States
ATTACH;FMTTYPE=image/jpeg:https://www.huntingtonarts.org/wp-content/uploads/2024/07/Jazz_Loft_generic_poster_Hinton_Room-4.jpg
END:VEVENT
BEGIN:VEVENT
DTSTART;TZID=America/New_York:20240821T190000
DTEND;TZID=America/New_York:20240821T210000
DTSTAMP:20260422T084737
CREATED:20240730T142451Z
LAST-MODIFIED:20240730T142451Z
UID:10014068-1724266800-1724274000@www.huntingtonarts.org
SUMMARY:The Jazz Loft presents: Jam Session
DESCRIPTION:Jam Sessions are led by Keenan Zach and Jazz musicians of all ages are invited to play on stage along with fellow jazz enthusiasts.
URL:https://www.huntingtonarts.org/event/the-jazz-loft-presents-jam-session-3/
LOCATION:The Jazz Loft\, 275 Christian Ave.\, Stony Brook\, NY\, 11790\, United States
ATTACH;FMTTYPE=image/jpeg:https://www.huntingtonarts.org/wp-content/uploads/2024/07/8.21_Jam_Session.jpg
ORGANIZER;CN="The Jazz Loft":MAILTO:tmanuel@thejazzloft.org
END:VEVENT
BEGIN:VEVENT
DTSTART;TZID=America/New_York:20240819T183000
DTEND;TZID=America/New_York:20240819T203000
DTSTAMP:20260422T084737
CREATED:20240730T141812Z
LAST-MODIFIED:20240730T141812Z
UID:10014067-1724092200-1724099400@www.huntingtonarts.org
SUMMARY:The Jazz Loft presents Ella Fitzgerald Exhibit Opening Reception
DESCRIPTION:The Ella Fitzgerald opening exhibit is where folks will have the opportunity to see the Ella collection for the first time. Some highlights include: several of her Don Loper designer gowns that were stage worn and featured on some of her album covers\, one of her Grammy nominations\, several photographs of her with people such as Frank Sinatra\, Queen Elizabeth\, several U.S. Presidents\, Tony Bennett\, Count Basie\, Duke Ellington and others\, contracts\, tour itineraries\, personal letters and correspondences\, and also some unique items such as some of Ella’s jewelry\, her monogrammed hat box\, her gloves\, awards and more.
URL:https://www.huntingtonarts.org/event/the-jazz-loft-presents-ella-fitzgerald-exhibit-opening-reception/
LOCATION:The Jazz Loft\, 275 Christian Ave.\, Stony Brook\, NY\, 11790\, United States
ATTACH;FMTTYPE=image/jpeg:https://www.huntingtonarts.org/wp-content/uploads/2024/07/Jazz_Loft_generic_poster.jpg
ORGANIZER;CN="The Jazz Loft":MAILTO:tmanuel@thejazzloft.org
END:VEVENT
BEGIN:VEVENT
DTSTART;TZID=America/New_York:20240815T190000
DTEND;TZID=America/New_York:20240815T210000
DTSTAMP:20260422T084737
CREATED:20240730T141633Z
LAST-MODIFIED:20240730T141633Z
UID:10014066-1723748400-1723755600@www.huntingtonarts.org
SUMMARY:The Jazz Loft presents The Bad Little Big Band
DESCRIPTION:The 12 member Bad Little Big Band led by pianist Rich Iacona\, and vocalist Madeline Kole accompanies the band. Iacona has added to the band’s repertoire with fresh and new arrangements that are performed at the Jazz Loft.
URL:https://www.huntingtonarts.org/event/the-jazz-loft-presents-the-bad-little-big-band-10/
LOCATION:The Jazz Loft\, 275 Christian Ave.\, Stony Brook\, NY\, 11790\, United States
ATTACH;FMTTYPE=image/jpeg:https://www.huntingtonarts.org/wp-content/uploads/2024/07/Jazz_Loft_generic_poster_Hinton_Room-3.jpg
END:VEVENT
BEGIN:VEVENT
DTSTART;TZID=America/New_York:20240810T190000
DTEND;TZID=America/New_York:20240810T210000
DTSTAMP:20260422T084737
CREATED:20240730T141439Z
LAST-MODIFIED:20240730T141439Z
UID:10014064-1723316400-1723323600@www.huntingtonarts.org
SUMMARY:The Jazz Loft presents Nicholas Natalie Quartet
DESCRIPTION:Nicholas Natalie\, saxophone\, Maxwell Howard\, piano\, David Uhl\, bass\, and Ronald Stockwell\, drums perform at the Jazz Loft on Saturday\, August 10.
URL:https://www.huntingtonarts.org/event/the-jazz-loft-presents-nicholas-natalie-quartet/
LOCATION:The Jazz Loft\, 275 Christian Ave.\, Stony Brook\, NY\, 11790\, United States
ATTACH;FMTTYPE=image/jpeg:https://www.huntingtonarts.org/wp-content/uploads/2024/07/Jazz_Loft_generic_poster_Hinton_Room-2.jpg
ORGANIZER;CN="The Jazz Loft":MAILTO:tmanuel@thejazzloft.org
END:VEVENT
BEGIN:VEVENT
DTSTART;TZID=America/New_York:20240809T190000
DTEND;TZID=America/New_York:20240809T210000
DTSTAMP:20260422T084737
CREATED:20240730T141349Z
LAST-MODIFIED:20240730T141349Z
UID:10014063-1723230000-1723237200@www.huntingtonarts.org
SUMMARY:The Jazz Loft presents Ray Anderson Solo Project
DESCRIPTION:Ray Anderson\, named five straight years as best trombonist in the DownBeat Critics Poll and declared “the most exciting slide brass player of his generation” by the Penguin Guide to Jazz on CD. Anderson will be performing trombone\, vocals\, and sousaphone at the Jazz Loft on Friday\, August 9.
URL:https://www.huntingtonarts.org/event/the-jazz-loft-presents-ray-anderson-solo-project/
LOCATION:The Jazz Loft\, 275 Christian Ave.\, Stony Brook\, NY\, 11790\, United States
ATTACH;FMTTYPE=image/jpeg:https://www.huntingtonarts.org/wp-content/uploads/2024/07/Jazz_Loft_generic_poster_Hinton_Room-1.jpg
ORGANIZER;CN="The Jazz Loft":MAILTO:tmanuel@thejazzloft.org
END:VEVENT
BEGIN:VEVENT
DTSTART;TZID=America/New_York:20240807T190000
DTEND;TZID=America/New_York:20240807T210000
DTSTAMP:20260422T084737
CREATED:20240730T142313Z
LAST-MODIFIED:20240730T142313Z
UID:10014062-1723057200-1723064400@www.huntingtonarts.org
SUMMARY:The Jazz Loft presents: Jam Session
DESCRIPTION:Jam Sessions are led by Keenan Zach and Jazz musicians of all ages are invited to play on stage with fellow jazz enthusiasts.
URL:https://www.huntingtonarts.org/event/the-jazz-loft-presents-jam-session/
LOCATION:The Jazz Loft\, 275 Christian Ave.\, Stony Brook\, NY\, 11790\, United States
ATTACH;FMTTYPE=image/jpeg:https://www.huntingtonarts.org/wp-content/uploads/2024/07/8.7_Jam_Session.jpg
ORGANIZER;CN="The Jazz Loft":MAILTO:tmanuel@thejazzloft.org
END:VEVENT
BEGIN:VEVENT
DTSTART;TZID=America/New_York:20240802T190000
DTEND;TZID=America/New_York:20240802T210000
DTSTAMP:20260422T084737
CREATED:20240730T135548Z
LAST-MODIFIED:20240730T135548Z
UID:10014057-1722625200-1722632400@www.huntingtonarts.org
SUMMARY:The Jazz Loft presents John Monteleone: Art of the Guitar Festival- Anthony Wilson Organ Trio
DESCRIPTION:Guitarist and composer\, Anthony Wilson\, is known for a body of work that moves fluidly across genres. The Anthony Wilson Organ Trio includes Anthony Wilson\, guitar\, Gary Versace\, Hammond B3 organ\, and Kenny Wollensen\, drums\, performing at the Jazz Loft on Friday\, August 2.
URL:https://www.huntingtonarts.org/event/the-jazz-loft-presents-john-monteleone-art-of-the-guitar-festival-anthony-wilson-organ-trio/
LOCATION:The Jazz Loft\, 275 Christian Ave.\, Stony Brook\, NY\, 11790\, United States
ATTACH;FMTTYPE=image/jpeg:https://www.huntingtonarts.org/wp-content/uploads/2024/07/8.1-3_2024_Monteleone_poster-2.jpg
ORGANIZER;CN="The Jazz Loft":MAILTO:tmanuel@thejazzloft.org
END:VEVENT
BEGIN:VEVENT
DTSTART;TZID=America/New_York:20240802T170000
DTEND;TZID=America/New_York:20240802T183000
DTSTAMP:20260422T084737
CREATED:20240730T135406Z
LAST-MODIFIED:20240730T135406Z
UID:10014056-1722618000-1722623400@www.huntingtonarts.org
SUMMARY:The Jazz Loft presents John Monteleone: Art of the Guitar Festival- Laurence Juber
DESCRIPTION:Laurence Juber\, world-renowned guitar virtuoso and entertainer\, performs at the Jazz Loft playing fuses of folk\, jazz\, blues\, pop\, and classical styles while creating a multi-faceted performance that belies the use of only one instrument.
URL:https://www.huntingtonarts.org/event/the-jazz-loft-presents-john-monteleone-art-of-the-guitar-festival-laurence-juber/
LOCATION:The Jazz Loft\, 275 Christian Ave.\, Stony Brook\, NY\, 11790\, United States
ATTACH;FMTTYPE=image/jpeg:https://www.huntingtonarts.org/wp-content/uploads/2024/07/8.1-3_2024_Monteleone_poster-1.jpg
ORGANIZER;CN="The Jazz Loft":MAILTO:tmanuel@thejazzloft.org
END:VEVENT
BEGIN:VEVENT
DTSTART;TZID=America/New_York:20240801T180000
DTEND;TZID=America/New_York:20240801T200000
DTSTAMP:20260422T084737
CREATED:20240730T134647Z
LAST-MODIFIED:20240730T134647Z
UID:10014054-1722535200-1722542400@www.huntingtonarts.org
SUMMARY:The Jazz Loft presents John Monteleone: Art of the Guitar Festival Opening Reception
DESCRIPTION:The Jazz Loft will once again be presenting an impressive line-up for The John Monteleone: Art of the Guitar Festival\, August 1-3 at the Jazz Loft. The festival\, named for the world-renowned guitar luthier John Monteleone\, will have an opening reception with John Monteleone\, music by Steve Salerno\, and a first glimpse of the Guitar Gallery.
URL:https://www.huntingtonarts.org/event/the-jazz-loft-presents-john-monteleone-art-of-the-guitar-festival-opening-reception/
LOCATION:The Jazz Loft\, 275 Christian Ave.\, Stony Brook\, NY\, 11790\, United States
ATTACH;FMTTYPE=image/jpeg:https://www.huntingtonarts.org/wp-content/uploads/2024/07/8.1-3_2024_Monteleone_poster.jpg
END:VEVENT
BEGIN:VEVENT
DTSTART;TZID=America/New_York:20240629T190000
DTEND;TZID=America/New_York:20240629T213000
DTSTAMP:20260422T084737
CREATED:20240530T153636Z
LAST-MODIFIED:20240530T153636Z
UID:10013168-1719687600-1719696600@www.huntingtonarts.org
SUMMARY:The Jazz Loft presents Havana Night in the Basie Garden
DESCRIPTION:Sat June 29—\nHavana Night in the Basie Garden\, feat. The Carlos Jimenez Mambo Dulcet. The event will include: one Cuban cocktail\, wine\, or beer; one cigar; and passed hors d’oeuvres. (Additional drinks and cigars can be purchased.)\n7:00 PM. Tickets: $75.
URL:https://www.huntingtonarts.org/event/the-jazz-loft-presents-havana-night-in-the-basie-garden-2/
LOCATION:The Jazz Loft\, 275 Christian Ave.\, Stony Brook\, NY\, 11790\, United States
CATEGORIES:Music
END:VEVENT
BEGIN:VEVENT
DTSTART;TZID=America/New_York:20240628T190000
DTEND;TZID=America/New_York:20240628T213000
DTSTAMP:20260422T084737
CREATED:20240530T154758Z
LAST-MODIFIED:20240530T154758Z
UID:10013167-1719601200-1719610200@www.huntingtonarts.org
SUMMARY:The Jazz Loft presents Jon DeLucia &The Dave Brubeck Octet
DESCRIPTION:Fri June 28—\nJon DeLucia & The Dave Brubeck Octet.\n7:00 PM. Tickets: $30 adult\, $25 senior\, $20 student\, $15 child\, 5 years and under are free.
URL:https://www.huntingtonarts.org/event/the-jazz-loft-presents-jon-delucia-the-dave-brubeck-octet/
LOCATION:The Jazz Loft\, 275 Christian Ave.\, Stony Brook\, NY\, 11790\, United States
CATEGORIES:Music
END:VEVENT
BEGIN:VEVENT
DTSTART;TZID=America/New_York:20240627T190000
DTEND;TZID=America/New_York:20240627T213000
DTSTAMP:20260422T084737
CREATED:20240530T151428Z
LAST-MODIFIED:20240530T151428Z
UID:10013165-1719514800-1719523800@www.huntingtonarts.org
SUMMARY:The Jazz Loft presents The Interplay Jazz Orchestra
DESCRIPTION:Thurs June 27—\nThe Interplay Jazz Orchestra. The 17-member big band orchestra\, co-directed by Joe Devassy (trombone) and Gary Henderson (trumpet)\, performs original compositions and arrangements written by band members.\n7:00 PM. Tickets: $30 adult\, $25 senior\, $20 student\, $15 child\, 5 years and under are free.
URL:https://www.huntingtonarts.org/event/the-jazz-loft-presents-the-interplay-jazz-orchestra-21/
LOCATION:The Jazz Loft\, 275 Christian Ave.\, Stony Brook\, NY\, 11790\, United States
CATEGORIES:Music
END:VEVENT
BEGIN:VEVENT
DTSTART;TZID=America/New_York:20240626T190000
DTEND;TZID=America/New_York:20240626T213000
DTSTAMP:20260422T084737
CREATED:20240529T150012Z
LAST-MODIFIED:20240529T150012Z
UID:10013160-1719428400-1719437400@www.huntingtonarts.org
SUMMARY:The Jazz Loft presents Jazz concert and Jam session
DESCRIPTION:Weds June 5\, 12\, 19\, 26–\nJazz concert and jam session\, featuring The Jazz Loft Trio (bassist Keenan Zach & friends).\nConcert at 7pm\, followed by an open jam at 8pm\, when jazz musicians of all ages are invited to play on stage along with fellow jazz enthusiasts.\nTickets: arrive at 7:00 PM–$10; arrive at 8:00 for the open jam–$5.
URL:https://www.huntingtonarts.org/event/the-jazz-loft-presents-jazz-concert-and-jam-session-6/2024-06-26/
LOCATION:The Jazz Loft\, 275 Christian Ave.\, Stony Brook\, NY\, 11790\, United States
CATEGORIES:Music
END:VEVENT
BEGIN:VEVENT
DTSTART;TZID=America/New_York:20240620T190000
DTEND;TZID=America/New_York:20240620T213000
DTSTAMP:20260422T084737
CREATED:20240530T152521Z
LAST-MODIFIED:20240530T152521Z
UID:10013166-1718910000-1718919000@www.huntingtonarts.org
SUMMARY:The Jazz Loft presents The Bad Little Big Band [jazz]
DESCRIPTION:Thurs June 20—\nThe Bad Little Big Band. The 12-member big band\, led by pianist\, composer\, and arranger Rich Iacona\, performs the music of The Great American Songbook. Featuring vocalist Madeline Kole.\n7:00 PM. Tickets: $30 adult\, $25 senior\, $20 student\, $15 child\, 5 years and under are free.
URL:https://www.huntingtonarts.org/event/the-jazz-loft-presents-the-bad-little-big-band-jazz-6/
LOCATION:The Jazz Loft\, 275 Christian Ave.\, Stony Brook\, NY\, 11790\, United States
CATEGORIES:Music
END:VEVENT
BEGIN:VEVENT
DTSTART;TZID=America/New_York:20240615T190000
DTEND;TZID=America/New_York:20240615T213000
DTSTAMP:20260422T084737
CREATED:20240529T150300Z
LAST-MODIFIED:20240529T150300Z
UID:10013163-1718478000-1718487000@www.huntingtonarts.org
SUMMARY:The Jazz Loft presents “Viva Cuba!” (jazz)
DESCRIPTION:June 13\, 14\, 15–\n“Viva Cuba!” The Jazz Loft’s 17-piece Latin Big Band\, directed by Tom Manuel\, celebrates the music of Prez Prado\, Xavier Cugat\, Machito\, Tito Puente\, and others.\n7:00 PM. Tickets: $40 adults\, $35 seniors\, $30 students\, $25 children\, 5 years and under are free.
URL:https://www.huntingtonarts.org/event/the-jazz-loft-presents-viva-cuba-jazz/2024-06-15/
LOCATION:The Jazz Loft\, 275 Christian Ave.\, Stony Brook\, NY\, 11790\, United States
CATEGORIES:Music
END:VEVENT
BEGIN:VEVENT
DTSTART;TZID=America/New_York:20231227T190000
DTEND;TZID=America/New_York:20231227T213000
DTSTAMP:20260422T084737
CREATED:20231206T173639Z
LAST-MODIFIED:20231206T173639Z
UID:10006532-1703703600-1703712600@www.huntingtonarts.org
SUMMARY:The Jazz Loft Presents Jazz concert and jam session  (weekly)
DESCRIPTION:Wed 12/6\, 12/13\, 12.20\, 12/27.\nJazz concert and jam session\, featuring The Jazz Loft Trio (bassist Keenan Zach & friends).\nConcert at 7pm\, followed by an open jam at 8pm\, when jazz musicians of all ages are invited to play on stage along with fellow jazz enthusiasts.\nTickets: arrive at 7:00 PM–$10; arrive at 8:00 for the open jam–$5.
URL:https://www.huntingtonarts.org/event/the-jazz-loft-presents-jazz-concert-and-jam-session-weekly/2023-12-27/
LOCATION:The Jazz Loft\, 275 Christian Ave.\, Stony Brook\, NY\, 11790\, United States
CATEGORIES:Music
ORGANIZER;CN="The Jazz Loft":MAILTO:tmanuel@thejazzloft.org
END:VEVENT
BEGIN:VEVENT
DTSTART;TZID=America/New_York:20231222T190000
DTEND;TZID=America/New_York:20231222T213000
DTSTAMP:20260422T084737
CREATED:20231206T173905Z
LAST-MODIFIED:20231206T173905Z
UID:10006542-1703271600-1703280600@www.huntingtonarts.org
SUMMARY:The Jazz Loft Presents “Egg Nog Romp”  (jazz)
DESCRIPTION:Fri 12/22—\n“Egg Nog Romp.” The Jazz Loft’s annual Eggnog Romp\, featuring traditional New Orleans-style holiday music\, presented by The Loft’s six-piece band led by Tom Manuel(trumpet). Homemade eggnog will be available\, as well as the usual beverages.\n7:00 PM. Tickets are $35 adults\, $30 seniors\, $25 students and $20 children.
URL:https://www.huntingtonarts.org/event/the-jazz-loft-presents-egg-nog-romp-jazz/
LOCATION:The Jazz Loft\, 275 Christian Ave.\, Stony Brook\, NY\, 11790\, United States
CATEGORIES:Music
ORGANIZER;CN="The Jazz Loft":MAILTO:tmanuel@thejazzloft.org
END:VEVENT
BEGIN:VEVENT
DTSTART;TZID=America/New_York:20231221T190000
DTEND;TZID=America/New_York:20231221T213000
DTSTAMP:20260422T084737
CREATED:20231206T173844Z
LAST-MODIFIED:20231206T173844Z
UID:10008398-1703185200-1703194200@www.huntingtonarts.org
SUMMARY:The Jazz Loft Presents Nicole Zuraitis’ Jazz Christmas Party
DESCRIPTION:Thurs 12/21—\nNicole Zuraitis’ Jazz Christmas Party. Grammy-nominated vocalist Nicole Zuraitis\, backed by a big band ensemble\, returns to The Jazz Loft to present classic holiday songs.\n7:00 PM. $40 adults\, $35 seniors\, $30 students and $25 children.
URL:https://www.huntingtonarts.org/event/the-jazz-loft-presents-nicole-zuraitis-jazz-christmas-party/
LOCATION:The Jazz Loft\, 275 Christian Ave.\, Stony Brook\, NY\, 11790\, United States
CATEGORIES:Music
END:VEVENT
BEGIN:VEVENT
DTSTART;TZID=America/New_York:20231217T200000
DTEND;TZID=America/New_York:20231217T220000
DTSTAMP:20260422T084737
CREATED:20231206T173810Z
LAST-MODIFIED:20231206T173810Z
UID:10006541-1702843200-1702850400@www.huntingtonarts.org
SUMMARY:The Jazz Loft Presents “Jazz Nativity”--Candlelight jazz nativity service
DESCRIPTION:Sun 12/17—\n“Jazz Nativity”–Candlelight jazz nativity service celebrating the Biblical Christmas story. With chamber jazz orchestra\, featuring Metropolitan Opera soprano Susanna Phillips. Performance will include an impressive lineup of jazz artists teamed up with guest narrators who will share the classic Christmas story.\n5:00 AND 8:00 PM. Tickets: $40 adults\, $35 seniors\, $30 students and $25 children (5 & under free).
URL:https://www.huntingtonarts.org/event/the-jazz-loft-presents-jazz-nativity-candlelight-jazz-nativity-service/2023-12-17/2/
LOCATION:The Jazz Loft\, 275 Christian Ave.\, Stony Brook\, NY\, 11790\, United States
CATEGORIES:Music
END:VEVENT
BEGIN:VEVENT
DTSTART;TZID=America/New_York:20231216T190000
DTEND;TZID=America/New_York:20231216T213000
DTSTAMP:20260422T084737
CREATED:20231206T173715Z
LAST-MODIFIED:20231206T173715Z
UID:10006538-1702753200-1702762200@www.huntingtonarts.org
SUMMARY:The Jazz Loft Presents Duke Ellington’s The Nutcracker
DESCRIPTION:12/7\, 12/8\, 12/9\, 12/14\, 12/15\, 12/16– \nDuke Ellington’s The Nutcracker. The Jazz Loft presents six performances of Duke Ellington and Billy Strayhorn’s jazz arrangement of Tchaikovsky’s Nutcracker Suite. The show will feature The Jazz Loft’s 17-piece Big Band\, led by Tom Manuel (narrator)\, with vocalist Danny Bacher.\n7:00 PM. Tickets: $40 adults\, $35 seniors\, $30 students and $25 children (5 and under are free).
URL:https://www.huntingtonarts.org/event/the-jazz-loft-presents-duke-ellingtons-the-nutcracker/2023-12-16/
LOCATION:The Jazz Loft\, 275 Christian Ave.\, Stony Brook\, NY\, 11790\, United States
CATEGORIES:Music
ORGANIZER;CN="The Jazz Loft":MAILTO:tmanuel@thejazzloft.org
END:VEVENT
BEGIN:VEVENT
DTSTART;TZID=America/New_York:20231209T130000
DTEND;TZID=America/New_York:20231209T150000
DTSTAMP:20260422T084737
CREATED:20231206T173744Z
LAST-MODIFIED:20231206T173744Z
UID:10006539-1702126800-1702134000@www.huntingtonarts.org
SUMMARY:The Jazz Loft Presents The Interplay Jazz Orchestra: Annual Family Show
DESCRIPTION:Sat 12/9—\nThe Interplay Jazz Orchestra: Annual Family Show. The 17-member big band orchestra\, co-directed by Joe Devassy (trombone) and Gary Henderson (trumpet)\, performs music of the season.\n1:00 PM. Tickets: $40 adults\, $35 seniors\, $30 students and $25 children (5 and under are free).
URL:https://www.huntingtonarts.org/event/the-jazz-loft-presents-the-interplay-jazz-orchestra-annual-family-show/
LOCATION:The Jazz Loft\, 275 Christian Ave.\, Stony Brook\, NY\, 11790\, United States
CATEGORIES:Music
ORGANIZER;CN="The Jazz Loft":MAILTO:tmanuel@thejazzloft.org
END:VEVENT
BEGIN:VEVENT
DTSTART;TZID=America/New_York:20231202T190000
DTEND;TZID=America/New_York:20231202T213000
DTSTAMP:20260422T084737
CREATED:20231206T173610Z
LAST-MODIFIED:20231206T173610Z
UID:10006528-1701543600-1701552600@www.huntingtonarts.org
SUMMARY:The Jazz Loft Presents Ray Anderson’s Seasonal Solstice Party
DESCRIPTION:Sat 12/2—\nRay Anderson’s Seasonal Solstice Party. Festive annual celebration with local star\, Ray Anderson (trombone\, sousaphone\, vocals)\, and friends.\n7:00 PM. Tickets: $40 adults\, $35 seniors\, $30 students and $25 children (5 and under are free).
URL:https://www.huntingtonarts.org/event/the-jazz-loft-presents-ray-andersons-seasonal-solstice-party-3/
LOCATION:The Jazz Loft\, 275 Christian Ave.\, Stony Brook\, NY\, 11790\, United States
CATEGORIES:Music
ORGANIZER;CN="The Jazz Loft":MAILTO:tmanuel@thejazzloft.org
END:VEVENT
END:VCALENDAR