BEGIN:VCALENDAR
VERSION:2.0
PRODID:-//Huntington Arts Council - ECPv6.15.20//NONSGML v1.0//EN
CALSCALE:GREGORIAN
METHOD:PUBLISH
X-ORIGINAL-URL:https://www.huntingtonarts.org
X-WR-CALDESC:Events for Huntington Arts Council
REFRESH-INTERVAL;VALUE=DURATION:PT1H
X-Robots-Tag:noindex
X-PUBLISHED-TTL:PT1H
BEGIN:VTIMEZONE
TZID:America/New_York
BEGIN:DAYLIGHT
TZOFFSETFROM:-0500
TZOFFSETTO:-0400
TZNAME:EDT
DTSTART:20220313T070000
END:DAYLIGHT
BEGIN:STANDARD
TZOFFSETFROM:-0400
TZOFFSETTO:-0500
TZNAME:EST
DTSTART:20221106T060000
END:STANDARD
BEGIN:DAYLIGHT
TZOFFSETFROM:-0500
TZOFFSETTO:-0400
TZNAME:EDT
DTSTART:20230312T070000
END:DAYLIGHT
BEGIN:STANDARD
TZOFFSETFROM:-0400
TZOFFSETTO:-0500
TZNAME:EST
DTSTART:20231105T060000
END:STANDARD
BEGIN:DAYLIGHT
TZOFFSETFROM:-0500
TZOFFSETTO:-0400
TZNAME:EDT
DTSTART:20240310T070000
END:DAYLIGHT
BEGIN:STANDARD
TZOFFSETFROM:-0400
TZOFFSETTO:-0500
TZNAME:EST
DTSTART:20241103T060000
END:STANDARD
BEGIN:DAYLIGHT
TZOFFSETFROM:-0500
TZOFFSETTO:-0400
TZNAME:EDT
DTSTART:20250309T070000
END:DAYLIGHT
BEGIN:STANDARD
TZOFFSETFROM:-0400
TZOFFSETTO:-0500
TZNAME:EST
DTSTART:20251102T060000
END:STANDARD
BEGIN:DAYLIGHT
TZOFFSETFROM:-0500
TZOFFSETTO:-0400
TZNAME:EDT
DTSTART:20260308T070000
END:DAYLIGHT
BEGIN:STANDARD
TZOFFSETFROM:-0400
TZOFFSETTO:-0500
TZNAME:EST
DTSTART:20261101T060000
END:STANDARD
BEGIN:DAYLIGHT
TZOFFSETFROM:-0500
TZOFFSETTO:-0400
TZNAME:EDT
DTSTART:20270314T070000
END:DAYLIGHT
BEGIN:STANDARD
TZOFFSETFROM:-0400
TZOFFSETTO:-0500
TZNAME:EST
DTSTART:20271107T060000
END:STANDARD
END:VTIMEZONE
BEGIN:VEVENT
DTSTART;TZID=America/New_York:20260407T190000
DTEND;TZID=America/New_York:20260407T210000
DTSTAMP:20260421T231551
CREATED:20260106T153808Z
LAST-MODIFIED:20260106T153808Z
UID:10019219-1775588400-1775595600@www.huntingtonarts.org
SUMMARY:Suburban Art League presents Denise Franzino Art Critiques
DESCRIPTION:Bring your painting for a chance to get a critique – Minimum of 10 critiques\nGo to https://www.suburbanartleague.com/ for more information.
URL:https://www.huntingtonarts.org/event/suburban-art-league-presents-denise-franzino-art-critiques/
LOCATION:Syosset Woodbury Community Center\, 7800 Jericho Tpke\, Woodbury\, NY\, 11791\, United States
CATEGORIES:Art Demo,Workshop Classes
ORGANIZER;CN="SAL-Suburban Art League":MAILTO:Suburbanartleague@gmail.com
END:VEVENT
BEGIN:VEVENT
DTSTART;TZID=America/New_York:20260303T190000
DTEND;TZID=America/New_York:20260303T210000
DTSTAMP:20260421T231551
CREATED:20260106T153826Z
LAST-MODIFIED:20260106T153826Z
UID:10019218-1772564400-1772571600@www.huntingtonarts.org
SUMMARY:Suburban Art League presents Christine D’Addario- Social Media for Artists
DESCRIPTION:Get posting with effective tips for Social Media \nGo to https://www.suburbanartleague.com/ for more information.
URL:https://www.huntingtonarts.org/event/suburban-art-league-presents-christine-daddario-social-media-for-artists/
LOCATION:Syosset Woodbury Community Center\, 7800 Jericho Tpke\, Woodbury\, NY\, 11791\, United States
CATEGORIES:Art Demo,Workshop Classes
ORGANIZER;CN="SAL-Suburban Art League":MAILTO:Suburbanartleague@gmail.com
END:VEVENT
BEGIN:VEVENT
DTSTART;TZID=America/New_York:20251202T190000
DTEND;TZID=America/New_York:20251202T210000
DTSTAMP:20260421T231551
CREATED:20250915T175012Z
LAST-MODIFIED:20250915T175012Z
UID:10016614-1764702000-1764709200@www.huntingtonarts.org
SUMMARY:Suburban Art League presents Free Art Demo with David Peikon
DESCRIPTION:December 2 -David Peikon Audio Visual Presentation Insights and His Techniques on our Big Wall Screen
URL:https://www.huntingtonarts.org/event/suburban-art-league-presents-free-art-demo-with-david-peikon/
LOCATION:Syosset Woodbury Community Center\, 7800 Jericho Tpke\, Woodbury\, NY\, 11791\, United States
CATEGORIES:Art Demo
ATTACH;FMTTYPE=image/jpeg:https://www.huntingtonarts.org/wp-content/uploads/2025/09/sal-logo-3.jpg
ORGANIZER;CN="SAL-Suburban Art League":MAILTO:Suburbanartleague@gmail.com
END:VEVENT
BEGIN:VEVENT
DTSTART;TZID=America/New_York:20251103T190000
DTEND;TZID=America/New_York:20251103T210000
DTSTAMP:20260421T231551
CREATED:20250409T203244Z
LAST-MODIFIED:20250926T161635Z
UID:10015308-1762196400-1762203600@www.huntingtonarts.org
SUMMARY:Suburban Art Leagues Free Demo with Christine Greene (DATE CHANGED TO MONDAY)
DESCRIPTION:Join caricature artist Christine Greene as she sketches members from the audience who can win a seat in the model’s chair! At least 5 sketches will be done that eventing! Free refreshments. This event will be held on Monday\, Nov. 2 due to Eklection Day (the building is closed on Tuesday\, Nov. 4).
URL:https://www.huntingtonarts.org/event/suburban-art-leagues-free-demo-with-christine-greene-date-changed-to-monday/
LOCATION:Syosset Woodbury Community Center\, 7800 Jericho Tpke\, Woodbury\, NY\, 11791\, United States
CATEGORIES:Art Demo
ATTACH;FMTTYPE=image/png:https://www.huntingtonarts.org/wp-content/uploads/2025/04/SAL-logo-orig-3.png
ORGANIZER;CN="SAL-Suburban Art League":MAILTO:Suburbanartleague@gmail.com
END:VEVENT
BEGIN:VEVENT
DTSTART;TZID=America/New_York:20251007T190000
DTEND;TZID=America/New_York:20251007T210000
DTSTAMP:20260421T231551
CREATED:20250409T202843Z
LAST-MODIFIED:20250926T152451Z
UID:10015307-1759863600-1759870800@www.huntingtonarts.org
SUMMARY:Suburban Art League  Interactive Art Demo
DESCRIPTION:Join our free art demo; join Howard Rose artists paint holiday cards\, enjoy refreshments and perhaps win a prize donated by the artist. October 7-Howard Rose- interactive water color holiday cards.  Bring $12 cash to purchase small paint set\, brush and paper or bring your own-details on home page.
URL:https://www.huntingtonarts.org/event/suburban-art-league-presents-free-art-demo-2/
LOCATION:Syosset Woodbury Community Center\, 7800 Jericho Tpke\, Woodbury\, NY\, 11791\, United States
CATEGORIES:Art Demo
ATTACH;FMTTYPE=image/png:https://www.huntingtonarts.org/wp-content/uploads/2025/04/SAL-logo-orig-2.png
ORGANIZER;CN="SAL-Suburban Art League":MAILTO:Suburbanartleague@gmail.com
END:VEVENT
BEGIN:VEVENT
DTSTART;TZID=America/New_York:20250902T200000
DTEND;TZID=America/New_York:20250902T220000
DTSTAMP:20260421T231551
CREATED:20250409T202743Z
LAST-MODIFIED:20250409T202743Z
UID:10015306-1756843200-1756850400@www.huntingtonarts.org
SUMMARY:Suburban Art League presents Free Demo with Sharon Pearsal
DESCRIPTION:Join Sharon Pearsal for an oil painting demo. Sit and watch her painting come to life\, enjoy refreshemtns with other artists and maybe even win something she is donating!
URL:https://www.huntingtonarts.org/event/suburban-art-league-presents-free-demo-with-sharon-pearsal/
LOCATION:Syosset Woodbury Community Center\, 7800 Jericho Tpke\, Woodbury\, NY\, 11791\, United States
CATEGORIES:Art Demo
ATTACH;FMTTYPE=image/png:https://www.huntingtonarts.org/wp-content/uploads/2025/04/SAL-logo-orig-1.png
ORGANIZER;CN="SAL-Suburban Art League":MAILTO:Suburbanartleague@gmail.com
END:VEVENT
BEGIN:VEVENT
DTSTART;TZID=America/New_York:20250603T200000
DTEND;TZID=America/New_York:20250603T220000
DTSTAMP:20260421T231551
CREATED:20250107T002914Z
LAST-MODIFIED:20250107T002914Z
UID:10014875-1748980800-1748988000@www.huntingtonarts.org
SUMMARY:Suburban Art League presents Free Art Demo with Darlene Blaurock
DESCRIPTION:Join us for a free art demo. Refreshments provided with the possibility of winning a piece of art donated by the artist. Artist Darlene Blaurock doing mixed media collage.
URL:https://www.huntingtonarts.org/event/suburban-art-league-presents-free-art-demo-with-darlene-blaurock/
LOCATION:Syosset Woodbury Community Center\, 7800 Jericho Tpke\, Woodbury\, NY\, 11791\, United States
CATEGORIES:Art Demo
ATTACH;FMTTYPE=image/jpeg:https://www.huntingtonarts.org/wp-content/uploads/2024/11/IMG_4521-10.jpeg
ORGANIZER;CN="SAL-Suburban Art League":MAILTO:Suburbanartleague@gmail.com
END:VEVENT
BEGIN:VEVENT
DTSTART;TZID=America/New_York:20250506T190000
DTEND;TZID=America/New_York:20250506T210000
DTSTAMP:20260421T231551
CREATED:20250107T003049Z
LAST-MODIFIED:20250408T151638Z
UID:10014874-1746558000-1746565200@www.huntingtonarts.org
SUMMARY:Suburban Art League presents Free Art Demo with Marc Josloff -Time changed
DESCRIPTION:Join us for a free art demo by Marc Josloff. Refreshments provided with the possibility of winning a piece of art donated by the artist. Artist TBD
URL:https://www.huntingtonarts.org/event/suburban-art-league-presents-free-art-demo/
LOCATION:Syosset Woodbury Community Center\, 7800 Jericho Tpke\, Woodbury\, NY\, 11791\, United States
CATEGORIES:Art Demo
ATTACH;FMTTYPE=image/jpeg:https://www.huntingtonarts.org/wp-content/uploads/2024/11/IMG_4521-9.jpeg
ORGANIZER;CN="SAL-Suburban Art League":MAILTO:Suburbanartleague@gmail.com
END:VEVENT
BEGIN:VEVENT
DTSTART;TZID=America/New_York:20250401T200000
DTEND;TZID=America/New_York:20250401T220000
DTSTAMP:20260421T231551
CREATED:20250321T135517Z
LAST-MODIFIED:20250321T135517Z
UID:10014872-1743537600-1743544800@www.huntingtonarts.org
SUMMARY:Suburban Art League presents Free Art Demo with Stephanie Navon Jacobsen
DESCRIPTION:Join us for a free art demo. Refreshments provided with the possibility of winning a piece of art donated by the artist. Check our website for details https://www.suburbanartleague.com/suburbanartleaguecom.html
URL:https://www.huntingtonarts.org/event/suburban-art-league-presents-free-art-demo-with-stephanie-navon-jacobsen/
LOCATION:Syosset Woodbury Community Center\, 7800 Jericho Tpke\, Woodbury\, NY\, 11791\, United States
CATEGORIES:Art Demo
ATTACH;FMTTYPE=image/jpeg:https://www.huntingtonarts.org/wp-content/uploads/2024/11/IMG_4521-7.jpeg
ORGANIZER;CN="SAL-Suburban Art League":MAILTO:Suburbanartleague@gmail.com
END:VEVENT
BEGIN:VEVENT
DTSTART;TZID=America/New_York:20250204T200000
DTEND;TZID=America/New_York:20250204T220000
DTSTAMP:20260421T231551
CREATED:20240906T160058Z
LAST-MODIFIED:20240906T160058Z
UID:10014216-1738699200-1738706400@www.huntingtonarts.org
SUMMARY:Suburban Art League presents Free Art Demo - Watercolor by Anthony D'Avino
DESCRIPTION:Anthony D’Avino watercolor demo and raffle
URL:https://www.huntingtonarts.org/event/suburban-art-league-presents-free-art-demo-watercolor-by-anthony-davino/
LOCATION:Syosset Woodbury Community Center\, 7800 Jericho Tpke\, Woodbury\, NY\, 11791\, United States
CATEGORIES:Art Demo
ATTACH;FMTTYPE=image/png:https://www.huntingtonarts.org/wp-content/uploads/2024/08/SAL-Logo.png
ORGANIZER;CN="SAL-Suburban Art League":MAILTO:Suburbanartleague@gmail.com
END:VEVENT
BEGIN:VEVENT
DTSTART;TZID=America/New_York:20250107T200000
DTEND;TZID=America/New_York:20250107T220000
DTSTAMP:20260421T231551
CREATED:20250106T155201Z
LAST-MODIFIED:20250106T155201Z
UID:10014217-1736280000-1736287200@www.huntingtonarts.org
SUMMARY:Suburban Art League Art Demo – Howard Rose Oil Demo
DESCRIPTION:Howard Rose free oil demo and raffle
URL:https://www.huntingtonarts.org/event/suburban-art-league-art-demo-howard-rose-oil-demo/
LOCATION:Syosset Woodbury Community Center\, 7800 Jericho Tpke\, Woodbury\, NY\, 11791\, United States
CATEGORIES:Art Demo
ATTACH;FMTTYPE=image/png:https://www.huntingtonarts.org/wp-content/uploads/2024/08/SAL-Logo-1.png
ORGANIZER;CN="SAL-Suburban Art League":MAILTO:Suburbanartleague@gmail.com
END:VEVENT
BEGIN:VEVENT
DTSTART;TZID=America/New_York:20241001T200000
DTEND;TZID=America/New_York:20241001T220000
DTSTAMP:20260421T231551
CREATED:20240423T192556Z
LAST-MODIFIED:20240423T192556Z
UID:10010747-1727812800-1727820000@www.huntingtonarts.org
SUMMARY:Suburban Art League presents Free Art Demo with Liz Fazio
DESCRIPTION:Sketchbook Painting demo by professional artist Liz Fazio is done for the audience. Ask questions\, learn new techniques and maybe even win a prize donated by the artist.
URL:https://www.huntingtonarts.org/event/suburban-art-league-presents-free-art-demo-with-liz-fazio/
LOCATION:Syosset Woodbury Community Center\, 7800 Jericho Tpke\, Woodbury\, NY\, 11791\, United States
CATEGORIES:Art Demo
ATTACH;FMTTYPE=image/jpeg:https://www.huntingtonarts.org/wp-content/uploads/2024/04/IMG_3968-1.jpeg
ORGANIZER;CN="SAL-Suburban Art League":MAILTO:Suburbanartleague@gmail.com
END:VEVENT
BEGIN:VEVENT
DTSTART;TZID=America/New_York:20240507T200000
DTEND;TZID=America/New_York:20240507T220000
DTSTAMP:20260421T231551
CREATED:20250107T003306Z
LAST-MODIFIED:20250107T003306Z
UID:10014873-1715112000-1715119200@www.huntingtonarts.org
SUMMARY:Suburban Art League presents Free demo
DESCRIPTION:Join us for a free art demo and refreshments. Artist TBD.
URL:https://www.huntingtonarts.org/event/suburban-art-league-presents-free-demo/
LOCATION:Syosset Woodbury Community Center\, 7800 Jericho Tpke\, Woodbury\, NY\, 11791\, United States
CATEGORIES:Art Demo
ATTACH;FMTTYPE=image/jpeg:https://www.huntingtonarts.org/wp-content/uploads/2024/11/IMG_4521-8.jpeg
ORGANIZER;CN="SAL-Suburban Art League":MAILTO:Suburbanartleague@gmail.com
END:VEVENT
BEGIN:VEVENT
DTSTART;TZID=America/New_York:20240217T080000
DTEND;TZID=America/New_York:20240331T170000
DTSTAMP:20260421T231551
CREATED:20240221T191739Z
LAST-MODIFIED:20240221T191739Z
UID:10010217-1708156800-1711904400@www.huntingtonarts.org
SUMMARY:Art Club Exhibit Judge Needed
DESCRIPTION:Sal is in search of an experienced judge for our May exhibit in the Levittown Library please contact us if interested payment is $200 for approximately 2 hours of work judging is may 1st 6-8PM and award ceremony May 18th 1-3 PM. Email SuburbanArtLeague@Gmail.com or call 5164457403.
URL:https://www.huntingtonarts.org/event/art-club-exhibit-judge-needed/
LOCATION:Syosset Woodbury Community Center\, 7800 Jericho Tpke\, Woodbury\, NY\, 11791\, United States
CATEGORIES:Auditions
ATTACH;FMTTYPE=image/jpeg:https://www.huntingtonarts.org/wp-content/uploads/2024/02/help-wanted.jpg
ORGANIZER;CN="Suburban Art League":MAILTO:tomandtony@msn.com
END:VEVENT
BEGIN:VEVENT
DTSTART;TZID=America/New_York:20231205T200000
DTEND;TZID=America/New_York:20231205T220000
DTSTAMP:20260421T231551
CREATED:20230912T145844Z
LAST-MODIFIED:20230912T145844Z
UID:10006471-1701806400-1701813600@www.huntingtonarts.org
SUMMARY:Suburban Art League's Free Demo
DESCRIPTION:Join us to watch Meagan Meehan complete a 3D piece of art for us tonight. Raffle Prize and free light refreshments
URL:https://www.huntingtonarts.org/event/suburban-art-leagues-free-demo-3/
LOCATION:Syosset Woodbury Community Center\, 7800 Jericho Tpke\, Woodbury\, NY\, 11791\, United States
CATEGORIES:Art Demo
ATTACH;FMTTYPE=image/png:https://www.huntingtonarts.org/wp-content/uploads/2023/09/SAL-logo-orig-small-2.png
ORGANIZER;CN="Suburban Art League":MAILTO:tomandtony@msn.com
END:VEVENT
BEGIN:VEVENT
DTSTART;TZID=America/New_York:20230606T200000
DTEND;TZID=America/New_York:20230606T220000
DTSTAMP:20260421T231551
CREATED:20221125T212828Z
LAST-MODIFIED:20230613T115736Z
UID:10004801-1686081600-1686088800@www.huntingtonarts.org
SUMMARY:Suburban Art League June free demo
DESCRIPTION:Join us as Emily Eisen guides you to a peaceful place with music\, meditation and Japanese Paintbrushing. Create your own piece by purchasing a Japanese brush for $5 at the demo. All other materials provided. Refreshments also provided. Emily encourages all to participate\, “It’s no fun watching people meditate\, and it no fun being watched.”
URL:https://www.huntingtonarts.org/event/suburban-art-league-june-free-demo/
LOCATION:Syosset Woodbury Community Center\, 7800 Jericho Tpke\, Woodbury\, NY\, 11791\, United States
CATEGORIES:Art Demo,Workshop Classes
ATTACH;FMTTYPE=image/jpeg:https://www.huntingtonarts.org/wp-content/uploads/2022/11/0ADE4199-F6F9-4BA7-AD7B-370DF34DCA6B-1.jpeg
ORGANIZER;CN="Suburban Art League":MAILTO:tomandtony@msn.com
END:VEVENT
END:VCALENDAR