BEGIN:VCALENDAR
VERSION:2.0
PRODID:-//Huntington Arts Council - ECPv6.15.20//NONSGML v1.0//EN
CALSCALE:GREGORIAN
METHOD:PUBLISH
X-ORIGINAL-URL:https://www.huntingtonarts.org
X-WR-CALDESC:Events for Huntington Arts Council
REFRESH-INTERVAL;VALUE=DURATION:PT1H
X-Robots-Tag:noindex
X-PUBLISHED-TTL:PT1H
BEGIN:VTIMEZONE
TZID:America/New_York
BEGIN:DAYLIGHT
TZOFFSETFROM:-0500
TZOFFSETTO:-0400
TZNAME:EDT
DTSTART:20210314T070000
END:DAYLIGHT
BEGIN:STANDARD
TZOFFSETFROM:-0400
TZOFFSETTO:-0500
TZNAME:EST
DTSTART:20211107T060000
END:STANDARD
BEGIN:DAYLIGHT
TZOFFSETFROM:-0500
TZOFFSETTO:-0400
TZNAME:EDT
DTSTART:20220313T070000
END:DAYLIGHT
BEGIN:STANDARD
TZOFFSETFROM:-0400
TZOFFSETTO:-0500
TZNAME:EST
DTSTART:20221106T060000
END:STANDARD
BEGIN:DAYLIGHT
TZOFFSETFROM:-0500
TZOFFSETTO:-0400
TZNAME:EDT
DTSTART:20230312T070000
END:DAYLIGHT
BEGIN:STANDARD
TZOFFSETFROM:-0400
TZOFFSETTO:-0500
TZNAME:EST
DTSTART:20231105T060000
END:STANDARD
BEGIN:DAYLIGHT
TZOFFSETFROM:-0500
TZOFFSETTO:-0400
TZNAME:EDT
DTSTART:20240310T070000
END:DAYLIGHT
BEGIN:STANDARD
TZOFFSETFROM:-0400
TZOFFSETTO:-0500
TZNAME:EST
DTSTART:20241103T060000
END:STANDARD
END:VTIMEZONE
BEGIN:VEVENT
DTSTART;TZID=America/New_York:20231003T200000
DTEND;TZID=America/New_York:20231003T220000
DTSTAMP:20260422T120738
CREATED:20230912T145719Z
LAST-MODIFIED:20230912T145719Z
UID:10006469-1696363200-1696370400@www.huntingtonarts.org
SUMMARY:Suburban Art League’s Free Demo
DESCRIPTION:Acrylic demo by Alessandria Matassa\, light refreshments and raffle.
URL:https://www.huntingtonarts.org/event/suburban-art-leagues-free-demo/
LOCATION:Syosset Woodbury Community Park\, 7800 Jericho Tpke\, Woodbury\, NY\, 11797\, United States
CATEGORIES:Art Demo
ATTACH;FMTTYPE=image/png:https://www.huntingtonarts.org/wp-content/uploads/2023/09/SAL-logo-orig-small.png
ORGANIZER;CN="Suburban Art League":MAILTO:tomandtony@msn.com
GEO:40.8143522;-73.4772947
X-APPLE-STRUCTURED-LOCATION;VALUE=URI;X-ADDRESS=Syosset Woodbury Community Park 7800 Jericho Tpke Woodbury NY 11797 United States;X-APPLE-RADIUS=500;X-TITLE=7800 Jericho Tpke:geo:-73.4772947,40.8143522
END:VEVENT
BEGIN:VEVENT
DTSTART;TZID=America/New_York:20230502T200000
DTEND;TZID=America/New_York:20230502T220000
DTSTAMP:20260422T120738
CREATED:20221125T212532Z
LAST-MODIFIED:20221125T212532Z
UID:10004804-1683057600-1683064800@www.huntingtonarts.org
SUMMARY:Suburban Art League’s May Free Demo
DESCRIPTION:Bill Graf\, a very talented artist\, will demonstrate the completion of a watercolor piece at tonight’s meeting.
URL:https://www.huntingtonarts.org/event/suburban-art-leagues-may-free-demo/
LOCATION:Syosset Woodbury Community Park\, 7800 Jericho Tpke\, Woodbury\, NY\, 11797\, United States
CATEGORIES:Art Demo,Workshop Classes
ATTACH;FMTTYPE=image/jpeg:https://www.huntingtonarts.org/wp-content/uploads/2023/04/IMG_4464.jpeg
ORGANIZER;CN="Suburban Art League":MAILTO:tomandtony@msn.com
GEO:40.8143522;-73.4772947
X-APPLE-STRUCTURED-LOCATION;VALUE=URI;X-ADDRESS=Syosset Woodbury Community Park 7800 Jericho Tpke Woodbury NY 11797 United States;X-APPLE-RADIUS=500;X-TITLE=7800 Jericho Tpke:geo:-73.4772947,40.8143522
END:VEVENT
BEGIN:VEVENT
DTSTART;TZID=America/New_York:20230404T200000
DTEND;TZID=America/New_York:20230404T220000
DTSTAMP:20260422T120738
CREATED:20221125T212700Z
LAST-MODIFIED:20221125T212700Z
UID:10004805-1680638400-1680645600@www.huntingtonarts.org
SUMMARY:Suburban Art League’s April Free Demo
DESCRIPTION:Kevin Larkin will present a demo on abstract art.
URL:https://www.huntingtonarts.org/event/suburban-art-leagues-april-free-demo/
LOCATION:Syosset Woodbury Community Park\, 7800 Jericho Tpke\, Woodbury\, NY\, 11797\, United States
CATEGORIES:Art Demo,Workshop Classes
ATTACH;FMTTYPE=image/jpeg:https://www.huntingtonarts.org/wp-content/uploads/2022/11/larkin.jpg
ORGANIZER;CN="Suburban Art League":MAILTO:tomandtony@msn.com
GEO:40.8143522;-73.4772947
X-APPLE-STRUCTURED-LOCATION;VALUE=URI;X-ADDRESS=Syosset Woodbury Community Park 7800 Jericho Tpke Woodbury NY 11797 United States;X-APPLE-RADIUS=500;X-TITLE=7800 Jericho Tpke:geo:-73.4772947,40.8143522
END:VEVENT
BEGIN:VEVENT
DTSTART;TZID=America/New_York:20221206T200000
DTEND;TZID=America/New_York:20221206T220000
DTSTAMP:20260422T120738
CREATED:20220703T163144Z
LAST-MODIFIED:20220703T163144Z
UID:10004786-1670356800-1670364000@www.huntingtonarts.org
SUMMARY:December Suburban Art League-Free Art Demonstration
DESCRIPTION:Join us as Robert Stuhmer demonstrates animation with audience participation. Try your hand at winning a signed children’s book authored and brought in by the artist. Video your own animation piece created tonight as it is placed in a zoetrope! New art supplies will be on hand in exchange for donations to help fund Sue Ditkowsky’s memorial award. Get more information on our website www.suburbanartleague.com or our Suburban Art League Facebook page. Email us your questions at suburbanartleague@gmail.com
URL:https://www.huntingtonarts.org/event/suburban-art-league-free-art-demonstration/
LOCATION:Syosset Woodbury Community Park\, 7800 Jericho Tpke\, Woodbury\, NY\, 11797\, United States
CATEGORIES:Art Demo,Lectures
ATTACH;FMTTYPE=image/jpeg:https://www.huntingtonarts.org/wp-content/uploads/2022/06/stuhmer.jpg
ORGANIZER;CN="Suburban Art League":MAILTO:tomandtony@msn.com
GEO:40.8143522;-73.4772947
X-APPLE-STRUCTURED-LOCATION;VALUE=URI;X-ADDRESS=Syosset Woodbury Community Park 7800 Jericho Tpke Woodbury NY 11797 United States;X-APPLE-RADIUS=500;X-TITLE=7800 Jericho Tpke:geo:-73.4772947,40.8143522
END:VEVENT
BEGIN:VEVENT
DTSTART;TZID=America/New_York:20220920T200000
DTEND;TZID=America/New_York:20220920T220000
DTSTAMP:20260422T120738
CREATED:20220502T133615Z
LAST-MODIFIED:20220502T133615Z
UID:10005053-1663704000-1663711200@www.huntingtonarts.org
SUMMARY:2nd Sept. Suburban Art League Free Art Demo
DESCRIPTION:Join Christine D’Addario who will present a demonstration of a contemporary seascape in oil at the Syosset Woodbury Community Center\, 7800 Jericho Turnpike\, Woodbury\, NY 11791. And\, maybe even win a prize brought in by the artist!
URL:https://www.huntingtonarts.org/event/suburban-art-league-free-art-demo/
LOCATION:Syosset Woodbury Community Park\, 7800 Jericho Tpke\, Woodbury\, NY\, 11797\, United States
CATEGORIES:Workshop Classes
ATTACH;FMTTYPE=image/jpeg:https://www.huntingtonarts.org/wp-content/uploads/2022/05/F47BD67F-8C15-44DC-82A8-AE1606B88865-1.jpeg
ORGANIZER;CN="Suburban Art League":MAILTO:tomandtony@msn.com
GEO:40.8143522;-73.4772947
X-APPLE-STRUCTURED-LOCATION;VALUE=URI;X-ADDRESS=Syosset Woodbury Community Park 7800 Jericho Tpke Woodbury NY 11797 United States;X-APPLE-RADIUS=500;X-TITLE=7800 Jericho Tpke:geo:-73.4772947,40.8143522
END:VEVENT
END:VCALENDAR