BEGIN:VCALENDAR
VERSION:2.0
PRODID:-//Huntington Arts Council - ECPv6.15.20//NONSGML v1.0//EN
CALSCALE:GREGORIAN
METHOD:PUBLISH
X-WR-CALNAME:Huntington Arts Council
X-ORIGINAL-URL:https://www.huntingtonarts.org
X-WR-CALDESC:Events for Huntington Arts Council
REFRESH-INTERVAL;VALUE=DURATION:PT1H
X-Robots-Tag:noindex
X-PUBLISHED-TTL:PT1H
BEGIN:VTIMEZONE
TZID:America/New_York
BEGIN:DAYLIGHT
TZOFFSETFROM:-0500
TZOFFSETTO:-0400
TZNAME:EDT
DTSTART:20230312T070000
END:DAYLIGHT
BEGIN:STANDARD
TZOFFSETFROM:-0400
TZOFFSETTO:-0500
TZNAME:EST
DTSTART:20231105T060000
END:STANDARD
BEGIN:DAYLIGHT
TZOFFSETFROM:-0500
TZOFFSETTO:-0400
TZNAME:EDT
DTSTART:20240310T070000
END:DAYLIGHT
BEGIN:STANDARD
TZOFFSETFROM:-0400
TZOFFSETTO:-0500
TZNAME:EST
DTSTART:20241103T060000
END:STANDARD
BEGIN:DAYLIGHT
TZOFFSETFROM:-0500
TZOFFSETTO:-0400
TZNAME:EDT
DTSTART:20250309T070000
END:DAYLIGHT
BEGIN:STANDARD
TZOFFSETFROM:-0400
TZOFFSETTO:-0500
TZNAME:EST
DTSTART:20251102T060000
END:STANDARD
BEGIN:DAYLIGHT
TZOFFSETFROM:-0500
TZOFFSETTO:-0400
TZNAME:EDT
DTSTART:20260308T070000
END:DAYLIGHT
BEGIN:STANDARD
TZOFFSETFROM:-0400
TZOFFSETTO:-0500
TZNAME:EST
DTSTART:20261101T060000
END:STANDARD
END:VTIMEZONE
BEGIN:VEVENT
DTSTART;TZID=America/New_York:20250607T160000
DTEND;TZID=America/New_York:20250607T180000
DTSTAMP:20260422T011738
CREATED:20250515T171541Z
LAST-MODIFIED:20250515T171541Z
UID:10015645-1749312000-1749319200@www.huntingtonarts.org
SUMMARY:New York Dance Theatre\, Inc. presents Sleeping Beauty
DESCRIPTION:Commack-Based Ballet Company New York Dance Theatre Presents “Sleeping Beauty” starring Graceanne Pierce and Benji Pearson as Princess Aurora and Prince Desiré. Saturday\, June 7 at 4 pm at Stage 74 within the Suffolk Y JCC. Directed and staged by Artistic Director Nicole Loizides\, a long-time dancer\, choreographer and director known for her work around the world.\nNew York Dance Theatre (NYDT) brings this fairytale classic ballet “Sleeping Beauty” to the Suffolk Y JCC’s Stage 74 in Commack with a new production featuring NYDT principal dancers\, guest artists\, and students of the Ohman School of Ballet (OSB) ranging from the youngest levels to pre-professional trainees. This re-imagined version is great for all ages with grace\, grit and humor throughout.\nBefore the show\, children can enter a costume contest to win a ballet birthday party for up to ten guests. Dress as a favorite “Sleeping Beauty” character and arrive at the theater between 3-4 pm to enter. All ticket holders are invited to a meet and greet reception including photos with the cast following the performance. Ages three and up recommended. Tickets: Children 10 and under $15.00; adults $30.00. Special pricing is available for Scout troops by calling the New York Dance Theatre office: 631.462.0964.\nGraceanne Pierce\, performing the role of Princess Aurora\, has danced with ABT Studio Company and Ballet West as well as with the international tour of A Chorus Line and with Dance Ballerina Dance in Denmark. She continues to freelance worldwide and is on the teaching staff at NYDT’s training ground\, Ohman School of Ballet. Benji Pearson\, Prince Desiré\, has danced with Boston Ballet and San Francisco Ballet among other companies and will be making his debut with performance with NYDT. Craig Wasserman\, Prince Chéri\, received his dance training at the School of American Ballet in New York City\, often performing with New York City Ballet before joining Pennsylvania Ballet (now Philadelphia Ballet) and Kansas City Ballet among other companies\, and is also on the teaching staff at OSB.
URL:https://www.huntingtonarts.org/event/new-york-dance-theatre-inc-presents-sleeping-beauty/
LOCATION:SYJCC Stage 74 Theater\, 74 Hauppauge Road\, Commack\, NY\, 11725\, United States
CATEGORIES:Children and Family,Dance,Theater
ATTACH;FMTTYPE=image/png:https://www.huntingtonarts.org/wp-content/uploads/2025/05/SLEEPING-BEAUTY-Poster-11-x-17.png
ORGANIZER;CN="New York Dance Theatre%2C Inc.":MAILTO:office@ohmanballet.com
END:VEVENT
BEGIN:VEVENT
DTSTART;TZID=America/New_York:20240608T160000
DTEND;TZID=America/New_York:20240608T180000
DTSTAMP:20260422T011738
CREATED:20240503T135928Z
LAST-MODIFIED:20240503T135928Z
UID:10011768-1717862400-1717869600@www.huntingtonarts.org
SUMMARY:New York Dance Theatre presents Spring Soirée
DESCRIPTION:New York Dance Theatre is celebrating 50 years!! Our Spring Soirée performance celebrates our roots\, our growth and our vision. Our professional and pre-professional casts perform a selection of works by dance icons George Balanchine\, Frank Ohman\, Antony Tudor\, as well as Artistic Director Nicole Loizides and David Fernandez and are joined by students led by our amazing faculty. This year we welcome NYDT artists Graceanne Pierce and Olivia Fohsz and Guest Artist Fadi Khoury. \nWith a free reception immediately following our performance\, this is a fantastic way for our community to come together\, enjoy ballet with family\, learn more about what we offer\, and celebrate Spring renewal through dance. This is a family friendly performance.
URL:https://www.huntingtonarts.org/event/new-york-dance-theatre-presents-spring-soiree/
LOCATION:SYJCC Stage 74 Theater\, 74 Hauppauge Road\, Commack\, NY\, 11725\, United States
CATEGORIES:Dance
ATTACH;FMTTYPE=image/png:https://www.huntingtonarts.org/wp-content/uploads/2024/05/Soiree-eventbrite.png
ORGANIZER;CN="New York Dance Theatre%2C Inc.":MAILTO:office@ohmanballet.com
END:VEVENT
END:VCALENDAR