BEGIN:VCALENDAR
VERSION:2.0
PRODID:-//Huntington Arts Council - ECPv6.15.20//NONSGML v1.0//EN
CALSCALE:GREGORIAN
METHOD:PUBLISH
X-ORIGINAL-URL:https://www.huntingtonarts.org
X-WR-CALDESC:Events for Huntington Arts Council
REFRESH-INTERVAL;VALUE=DURATION:PT1H
X-Robots-Tag:noindex
X-PUBLISHED-TTL:PT1H
BEGIN:VTIMEZONE
TZID:America/New_York
BEGIN:DAYLIGHT
TZOFFSETFROM:-0500
TZOFFSETTO:-0400
TZNAME:EDT
DTSTART:20220313T070000
END:DAYLIGHT
BEGIN:STANDARD
TZOFFSETFROM:-0400
TZOFFSETTO:-0500
TZNAME:EST
DTSTART:20221106T060000
END:STANDARD
BEGIN:DAYLIGHT
TZOFFSETFROM:-0500
TZOFFSETTO:-0400
TZNAME:EDT
DTSTART:20230312T070000
END:DAYLIGHT
BEGIN:STANDARD
TZOFFSETFROM:-0400
TZOFFSETTO:-0500
TZNAME:EST
DTSTART:20231105T060000
END:STANDARD
BEGIN:DAYLIGHT
TZOFFSETFROM:-0500
TZOFFSETTO:-0400
TZNAME:EDT
DTSTART:20240310T070000
END:DAYLIGHT
BEGIN:STANDARD
TZOFFSETFROM:-0400
TZOFFSETTO:-0500
TZNAME:EST
DTSTART:20241103T060000
END:STANDARD
BEGIN:DAYLIGHT
TZOFFSETFROM:-0500
TZOFFSETTO:-0400
TZNAME:EDT
DTSTART:20250309T070000
END:DAYLIGHT
BEGIN:STANDARD
TZOFFSETFROM:-0400
TZOFFSETTO:-0500
TZNAME:EST
DTSTART:20251102T060000
END:STANDARD
BEGIN:DAYLIGHT
TZOFFSETFROM:-0500
TZOFFSETTO:-0400
TZNAME:EDT
DTSTART:20260308T070000
END:DAYLIGHT
BEGIN:STANDARD
TZOFFSETFROM:-0400
TZOFFSETTO:-0500
TZNAME:EST
DTSTART:20261101T060000
END:STANDARD
BEGIN:DAYLIGHT
TZOFFSETFROM:-0500
TZOFFSETTO:-0400
TZNAME:EDT
DTSTART:20270314T070000
END:DAYLIGHT
BEGIN:STANDARD
TZOFFSETFROM:-0400
TZOFFSETTO:-0500
TZNAME:EST
DTSTART:20271107T060000
END:STANDARD
END:VTIMEZONE
BEGIN:VEVENT
DTSTART;TZID=America/New_York:20260322T160000
DTEND;TZID=America/New_York:20260322T170000
DTSTAMP:20260421T201732
CREATED:20260107T155308Z
LAST-MODIFIED:20260107T155308Z
UID:10019226-1774195200-1774198800@www.huntingtonarts.org
SUMMARY:The Babylon Chorale presents Marking Moments: In Love and Longing
DESCRIPTION:Exploring music expressing love\, longing\, and connection. Featuring works by Whitacre\, Hagenberg\, Drewes\, LaVoy\, Raminsh\, and Forrest.\nVisit www.babylonchorale.org for more information and to purchase tickets.
URL:https://www.huntingtonarts.org/event/the-babylon-chorale-presents-marking-moments-in-love-and-longing/
LOCATION:St. Peter’s by-the-Sea Episcopal Church\, 500 South Country Road\, Bay Shore\, NY\, 11706\, United States
CATEGORIES:Music
ORGANIZER;CN="The Babylon Chorale":MAILTO:thebabylonchorale@gmail.com
GEO:40.7063946;-73.2651169
X-APPLE-STRUCTURED-LOCATION;VALUE=URI;X-ADDRESS=St. Peter’s by-the-Sea Episcopal Church 500 South Country Road Bay Shore NY 11706 United States;X-APPLE-RADIUS=500;X-TITLE=500 South Country Road:geo:-73.2651169,40.7063946
END:VEVENT
BEGIN:VEVENT
DTSTART;TZID=America/New_York:20240323T193000
DTEND;TZID=America/New_York:20240323T203000
DTSTAMP:20260421T201732
CREATED:20240122T144742Z
LAST-MODIFIED:20240122T144742Z
UID:10009618-1711222200-1711225800@www.huntingtonarts.org
SUMMARY:The Babylon Chorale Presents HOPE featuring G. F. Handel's "Messiah" - Parts II and III
DESCRIPTION:The Babylon Chorale is excited to present Handel`s oratorio\, ` Messiah`. Performed with professional soloists and orchestra\, Come immerse yourself in the magnificence of the less frequently performed Parts II and III\, often called the Lent and Easter portions\, which include the famous `Hallelujah Chorus`. For more information visit www.babylonchorale.org.
URL:https://www.huntingtonarts.org/event/the-babylon-chorale-presents-hope-featuring-g-f-handels-messiah-parts-ii-and-iii/
LOCATION:St. Peter’s by-the-Sea Episcopal Church\, 500 South Country Road\, Bay Shore\, NY\, 11706\, United States
CATEGORIES:Music
ATTACH;FMTTYPE=image/jpeg:https://www.huntingtonarts.org/wp-content/uploads/2024/01/BabylonChorale_Babylon-Chorale-scaled.jpg
ORGANIZER;CN="The Babylon Chorale":MAILTO:thebabylonchorale@gmail.com
GEO:40.7063946;-73.2651169
X-APPLE-STRUCTURED-LOCATION;VALUE=URI;X-ADDRESS=St. Peter’s by-the-Sea Episcopal Church 500 South Country Road Bay Shore NY 11706 United States;X-APPLE-RADIUS=500;X-TITLE=500 South Country Road:geo:-73.2651169,40.7063946
END:VEVENT
BEGIN:VEVENT
DTSTART;TZID=America/New_York:20231210T160000
DTEND;TZID=America/New_York:20231210T170000
DTSTAMP:20260421T201732
CREATED:20230906T160058Z
LAST-MODIFIED:20230906T160058Z
UID:10006035-1702224000-1702227600@www.huntingtonarts.org
SUMMARY:The Babylon Chorale presents "Joy"
DESCRIPTION:The Babylon Chorale presents its first concert of the season ringing in the winter holidays. This performance of holiday music will feature 4-hand piano accompaniment. For more information visit our website.
URL:https://www.huntingtonarts.org/event/the-babylon-chorale-presents-joy/
LOCATION:St. Peter’s by-the-Sea Episcopal Church\, 500 South Country Road\, Bay Shore\, NY\, 11706\, United States
CATEGORIES:Music
ATTACH;FMTTYPE=image/jpeg:https://www.huntingtonarts.org/wp-content/uploads/2023/08/BabylonChorale_Babylon-Chorale-1-scaled.jpg
ORGANIZER;CN="The Babylon Chorale":MAILTO:thebabylonchorale@gmail.com
GEO:40.7063946;-73.2651169
X-APPLE-STRUCTURED-LOCATION;VALUE=URI;X-ADDRESS=St. Peter’s by-the-Sea Episcopal Church 500 South Country Road Bay Shore NY 11706 United States;X-APPLE-RADIUS=500;X-TITLE=500 South Country Road:geo:-73.2651169,40.7063946
END:VEVENT
END:VCALENDAR