BEGIN:VCALENDAR
VERSION:2.0
PRODID:-//Huntington Arts Council - ECPv6.15.20//NONSGML v1.0//EN
CALSCALE:GREGORIAN
METHOD:PUBLISH
X-WR-CALNAME:Huntington Arts Council
X-ORIGINAL-URL:https://www.huntingtonarts.org
X-WR-CALDESC:Events for Huntington Arts Council
REFRESH-INTERVAL;VALUE=DURATION:PT1H
X-Robots-Tag:noindex
X-PUBLISHED-TTL:PT1H
BEGIN:VTIMEZONE
TZID:America/New_York
BEGIN:DAYLIGHT
TZOFFSETFROM:-0500
TZOFFSETTO:-0400
TZNAME:EDT
DTSTART:20240310T070000
END:DAYLIGHT
BEGIN:STANDARD
TZOFFSETFROM:-0400
TZOFFSETTO:-0500
TZNAME:EST
DTSTART:20241103T060000
END:STANDARD
BEGIN:DAYLIGHT
TZOFFSETFROM:-0500
TZOFFSETTO:-0400
TZNAME:EDT
DTSTART:20250309T070000
END:DAYLIGHT
BEGIN:STANDARD
TZOFFSETFROM:-0400
TZOFFSETTO:-0500
TZNAME:EST
DTSTART:20251102T060000
END:STANDARD
BEGIN:DAYLIGHT
TZOFFSETFROM:-0500
TZOFFSETTO:-0400
TZNAME:EDT
DTSTART:20260308T070000
END:DAYLIGHT
BEGIN:STANDARD
TZOFFSETFROM:-0400
TZOFFSETTO:-0500
TZNAME:EST
DTSTART:20261101T060000
END:STANDARD
BEGIN:DAYLIGHT
TZOFFSETFROM:-0500
TZOFFSETTO:-0400
TZNAME:EDT
DTSTART:20270314T070000
END:DAYLIGHT
BEGIN:STANDARD
TZOFFSETFROM:-0400
TZOFFSETTO:-0500
TZNAME:EST
DTSTART:20271107T060000
END:STANDARD
END:VTIMEZONE
BEGIN:VEVENT
DTSTART;TZID=America/New_York:20260314T100000
DTEND;TZID=America/New_York:20260314T123000
DTSTAMP:20260422T001843
CREATED:20260310T161826Z
LAST-MODIFIED:20260310T161826Z
UID:10022444-1773482400-1773491400@www.huntingtonarts.org
SUMMARY:Recorder Society of Long Island Playing Meeting 3/14/2026
DESCRIPTION:RSLI is a welcoming group of recorder players of all abilities; we meet once per month under the guidance of an experienced coach to play music together. Our 3/14/2026 meeting will be led by our music director\, Rachel Begley.\nRachel Begley performs as a soloist and with ensembles across North America\, and has been hailed for her virtuosic and sensitive playing on both recorders and historical bassoons. A native of England\, she holds a Doctor of Musical Arts degree in recorder and early music from SUNY Stony Brook\, and teaches at festivals and workshops in both the US and Europe. She has been Music Director for the Recorder Society of Long Island since 1994.
URL:https://www.huntingtonarts.org/event/recorder-society-of-long-island-playing-meeting-3-14-2026/
LOCATION:St. Luke Lutheran Church\, 20 Candlewood Path\, Huntington Station\, NY
CATEGORIES:Music
ATTACH;FMTTYPE=image/jpeg:https://www.huntingtonarts.org/wp-content/uploads/2026/03/RSLI-Jan-2023-scaled.jpg
ORGANIZER;CN="Recorder Society of Long Island":MAILTO:eventsrsli@gmail.com
END:VEVENT
BEGIN:VEVENT
DTSTART;TZID=America/New_York:20260214T100000
DTEND;TZID=America/New_York:20260214T123000
DTSTAMP:20260422T001843
CREATED:20260209T143852Z
LAST-MODIFIED:20260209T143852Z
UID:10022209-1771063200-1771072200@www.huntingtonarts.org
SUMMARY:Recorder Society of Long Island presents Playing Meeting 2/14/2026
DESCRIPTION:RSLI is a welcoming group of recorder players of all abilities. Our 2/14/26 playing meeting will be coached by Sian Ricketts. Sian is a vocalist and period woodwinds specialist who performs Medieval\, Renaissance\, and Baroque music with several well known ensembles including Piffaro\, Forgotten Clefs and Labyrinth Baroque. We look forward to a wonderful morning of music making and comradery.
URL:https://www.huntingtonarts.org/event/recorder-society-of-long-island-presents-playing-meeting-2-14-2026/
LOCATION:St. Luke Lutheran Church\, 20 Candlewood Path\, Huntington Station\, NY
CATEGORIES:Music
ATTACH;FMTTYPE=image/jpeg:https://www.huntingtonarts.org/wp-content/uploads/2026/02/RSLI-Sept-2023-scaled.jpg
ORGANIZER;CN="Recorder Society of Long Island":MAILTO:eventsrsli@gmail.com
END:VEVENT
BEGIN:VEVENT
DTSTART;TZID=America/New_York:20251213T100000
DTEND;TZID=America/New_York:20251213T120000
DTSTAMP:20260422T001843
CREATED:20251209T154447Z
LAST-MODIFIED:20251209T154447Z
UID:10017525-1765620000-1765627200@www.huntingtonarts.org
SUMMARY:Recorder Society of Long Island Playing MeRachel Begley performs as a soloist and with ensembles across North America\, and has been hailed for her virtuosic and sensitive playing on both recorders and historical bassoons. eting
DESCRIPTION:The Recorder Society of Long Island is a group of recorder enthusiasts that meets on the second Saturday of the month to play music under the direction of an experienced coach. We welcome players of all levels from novice to advanced to join the fun of making music together. Our 12/13/25 meeting will be led by our Music Director\, Rachel Begley.\nRachel Begley performs as a soloist and with ensembles across North America\, and has been hailed for her virtuosic and sensitive playing on both recorders and historical bassoons. She will be presenting a selection of seasonal music for our enjoyment.
URL:https://www.huntingtonarts.org/event/recorder-society-of-long-island-playing-merachel-begley-performs-as-a-soloist-and-with-ensembles-across-north-america-and-has-been-hailed-for-her-virtuosic-and-sensitive-playing-on-both-recorders-and/
LOCATION:St. Luke Lutheran Church\, 20 Candlewood Path\, Huntington Station\, NY
CATEGORIES:Music
ATTACH;FMTTYPE=image/jpeg:https://www.huntingtonarts.org/wp-content/uploads/2025/12/RSLI-Sept-2023-scaled.jpg
ORGANIZER;CN="Recorder Society of Long Island":MAILTO:eventsrsli@gmail.com
END:VEVENT
BEGIN:VEVENT
DTSTART;TZID=America/New_York:20251004T100000
DTEND;TZID=America/New_York:20251004T123000
DTSTAMP:20260422T001843
CREATED:20251001T181716Z
LAST-MODIFIED:20251001T181716Z
UID:10017077-1759572000-1759581000@www.huntingtonarts.org
SUMMARY:Recorder Society of Long Island Playing Meeting
DESCRIPTION:RSLI is a welcoming group of recorder players of all levels who meet monthly to play music together. Our music director\, Rachel Begley\, will be leading the 10/4/25 session. Please look at our website RSLI.info for more information.
URL:https://www.huntingtonarts.org/event/recorder-society-of-long-island-playing-meeting-2/
LOCATION:St. Luke Lutheran Church\, 20 Candlewood Path\, Huntington Station\, NY
CATEGORIES:Music
ATTACH;FMTTYPE=image/jpeg:https://www.huntingtonarts.org/wp-content/uploads/2025/09/IMG_8799-1-scaled.jpg
ORGANIZER;CN="Recorder Society of Long Island":MAILTO:eventsrsli@gmail.com
END:VEVENT
BEGIN:VEVENT
DTSTART;TZID=America/New_York:20250913T100000
DTEND;TZID=America/New_York:20250913T123000
DTSTAMP:20260422T001843
CREATED:20250909T173422Z
LAST-MODIFIED:20250909T173422Z
UID:10016196-1757757600-1757766600@www.huntingtonarts.org
SUMMARY:Recorder Society of Long Island Playing Meeting 9/13/25
DESCRIPTION:RSLI is a welcoming group of recorder players of all levels from beginners to experienced players. We meet monthly under the direction of a professional instructor to play music that can span several centuries. We meet at St.Luke Lutheran Church in Dix Hills. Our first meeting of the 2025-2026 season is 9/13/25. For more information\, go RSLI.info\, or email eventsRSLI@gamil.com.
URL:https://www.huntingtonarts.org/event/recorder-society-of-long-island-playing-meeting-9-13-25/
LOCATION:St. Luke Lutheran Church\, 20 Candlewood Path\, Huntington Station\, NY
CATEGORIES:Music
ATTACH;FMTTYPE=image/jpeg:https://www.huntingtonarts.org/wp-content/uploads/2025/09/IMG_8966-scaled.jpg
ORGANIZER;CN="Recorder Society of Long Island":MAILTO:eventsrsli@gmail.com
END:VEVENT
BEGIN:VEVENT
DTSTART;TZID=America/New_York:20250510T100000
DTEND;TZID=America/New_York:20250510T123000
DTSTAMP:20260422T001843
CREATED:20250429T150335Z
LAST-MODIFIED:20250429T150335Z
UID:10015597-1746871200-1746880200@www.huntingtonarts.org
SUMMARY:Recorder Society of Long Island presents: Playing Meeting 5/10/2025
DESCRIPTION:The Recorder Society of Long Island welcomes Susan Thompson to lead our 5/10/25 playing meeting. Susan is the curator of Yale University’s collection of historical musical instruments and a frequent coach of recorder workshops. RSLI welcomes players of all levels to join our meeting; please email eventsRSLI@gmail.com for more information.
URL:https://www.huntingtonarts.org/event/recorder-society-of-long-island-presents-playing-meeting-5-10-2025/
LOCATION:St. Luke Lutheran Church\, 20 Candlewood Path\, Huntington Station\, NY
CATEGORIES:Music
ATTACH;FMTTYPE=image/jpeg:https://www.huntingtonarts.org/wp-content/uploads/2025/04/IMG_8967-scaled.jpg
ORGANIZER;CN="Recorder Society of Long Island":MAILTO:eventsrsli@gmail.com
END:VEVENT
BEGIN:VEVENT
DTSTART;TZID=America/New_York:20250412T100000
DTEND;TZID=America/New_York:20250412T123000
DTSTAMP:20260422T001843
CREATED:20250401T190924Z
LAST-MODIFIED:20250401T190924Z
UID:10015302-1744452000-1744461000@www.huntingtonarts.org
SUMMARY:Recorder Society of Long Island (RSLI) presents Playing Meeting 4/12/25
DESCRIPTION:Rachel Begley\, virtuoso recorder player and bassoonist will lead the 4/12/25 session at St. Luke Lutheran Church in Dix Hills. The Recorder Society of Long Island is a welcoming group of recorder players of all levels. We have monthly meetings form September to May\, and welcome newcomers to join in the joy of music making together! You can find more information at our website\, RSLI.info\, or by emailing eventsRSLI@gmail.com.
URL:https://www.huntingtonarts.org/event/recorder-society-of-long-island-rsli-presents-playing-meeting-4-12-25/
LOCATION:St. Luke Lutheran Church\, 20 Candlewood Path\, Huntington Station\, NY
CATEGORIES:Music
ATTACH;FMTTYPE=image/jpeg:https://www.huntingtonarts.org/wp-content/uploads/2025/03/IMG_8799-scaled.jpg
ORGANIZER;CN="Recorder Society of Long Island":MAILTO:eventsrsli@gmail.com
END:VEVENT
BEGIN:VEVENT
DTSTART;TZID=America/New_York:20250308T103000
DTEND;TZID=America/New_York:20250308T123000
DTSTAMP:20260422T001843
CREATED:20250303T145129Z
LAST-MODIFIED:20250303T145129Z
UID:10015275-1741429800-1741437000@www.huntingtonarts.org
SUMMARY:Recorder Society of Long Island presents Playing Meeting
DESCRIPTION:RSLI is pleased to welcome Larry Zukof to lead our 3/8/25 playing meeting. Lawrence Zukof (recorder\, voice\, and viola da gamba)\, an early music specialist\,\nhas performed with numerous ensembles\, including the Boston Camerata\, the Civic Orchestra of Boston\, Orchestra New England\, and the Southern CT\nCamerata. Larry has sung with the Pro-Arte Singers (CT)\, the Yale Camerata and currently\, a member of a vocal quartet at the historic Center Church on the New\nHaven Green.\nWith extensive experience as a workshop leader for various chapters of the American Recorder Society (ARS)\, Larry is part of the ARS national Traveling\nTeacher Program\, Music Director of the Eastern CT Recorder Society\, and on the teaching faculty for the Junior Recorder Society (a program of Voices of Music).\nLarry has also been on the faculty at Early Music summer programs at Pinewoods\, Amherst Early Music\, and he teaches at the Neighborhood Music School (New\nHaven\, CT) as well as privately.\nLarry received his Master of Music degree in early music from the New England Conservatory of Music (Boston\, MA). He was the Executive Director of the\nNeighborhood Music School (1996-2014) and the Brookline Music School\, MA (1984-1996).
URL:https://www.huntingtonarts.org/event/recorder-society-of-long-island-presents-playing-meeting/
LOCATION:St. Luke Lutheran Church\, 20 Candlewood Path\, Huntington Station\, NY
CATEGORIES:Music
ATTACH;FMTTYPE=image/png:https://www.huntingtonarts.org/wp-content/uploads/2025/02/Larry-Zukof.png
ORGANIZER;CN="Recorder Society of Long Island":MAILTO:eventsrsli@gmail.com
END:VEVENT
END:VCALENDAR