BEGIN:VCALENDAR
VERSION:2.0
PRODID:-//Huntington Arts Council - ECPv6.15.20//NONSGML v1.0//EN
CALSCALE:GREGORIAN
METHOD:PUBLISH
X-ORIGINAL-URL:https://www.huntingtonarts.org
X-WR-CALDESC:Events for Huntington Arts Council
REFRESH-INTERVAL;VALUE=DURATION:PT1H
X-Robots-Tag:noindex
X-PUBLISHED-TTL:PT1H
BEGIN:VTIMEZONE
TZID:America/New_York
BEGIN:DAYLIGHT
TZOFFSETFROM:-0500
TZOFFSETTO:-0400
TZNAME:EDT
DTSTART:20230312T070000
END:DAYLIGHT
BEGIN:STANDARD
TZOFFSETFROM:-0400
TZOFFSETTO:-0500
TZNAME:EST
DTSTART:20231105T060000
END:STANDARD
BEGIN:DAYLIGHT
TZOFFSETFROM:-0500
TZOFFSETTO:-0400
TZNAME:EDT
DTSTART:20240310T070000
END:DAYLIGHT
BEGIN:STANDARD
TZOFFSETFROM:-0400
TZOFFSETTO:-0500
TZNAME:EST
DTSTART:20241103T060000
END:STANDARD
BEGIN:DAYLIGHT
TZOFFSETFROM:-0500
TZOFFSETTO:-0400
TZNAME:EDT
DTSTART:20250309T070000
END:DAYLIGHT
BEGIN:STANDARD
TZOFFSETFROM:-0400
TZOFFSETTO:-0500
TZNAME:EST
DTSTART:20251102T060000
END:STANDARD
END:VTIMEZONE
BEGIN:VEVENT
DTSTART;TZID=America/New_York:20241214T200000
DTEND;TZID=America/New_York:20241214T213000
DTSTAMP:20260422T070851
CREATED:20240909T140756Z
LAST-MODIFIED:20240909T140756Z
UID:10014270-1734206400-1734211800@www.huntingtonarts.org
SUMMARY:Long Island Symphonic Choral Association presents Into the Light
DESCRIPTION:An evening of beautiful choral music accompanied by a 15 piece orchestra. The orchestra is comprised mostly of DMA students from Stony Brook University and the singers are dedicated Long Island Symphonic Choral Association members whose organization has been singing for over 50 years. The program selection was made being very mindful that Christmas and Hanukah fall on the same day this year. Come help us celebrate with a reception that follows the program.
URL:https://www.huntingtonarts.org/event/long-island-symphonic-choral-association-presents-into-the-light/
LOCATION:St James Roman Catholic Church\, 429 Route 25A\, East Setauket\, New York\, 11733
CATEGORIES:Music
ATTACH;FMTTYPE=image/png:https://www.huntingtonarts.org/wp-content/uploads/2024/09/Lisca-logo.png
ORGANIZER;CN="LONG ISLAND SYMPHONIC CHORAL ASSOCIATION":MAILTO:martimat2743@gmail.com
END:VEVENT
END:VCALENDAR