BEGIN:VCALENDAR
VERSION:2.0
PRODID:-//Huntington Arts Council - ECPv6.15.20//NONSGML v1.0//EN
CALSCALE:GREGORIAN
METHOD:PUBLISH
X-WR-CALNAME:Huntington Arts Council
X-ORIGINAL-URL:https://www.huntingtonarts.org
X-WR-CALDESC:Events for Huntington Arts Council
REFRESH-INTERVAL;VALUE=DURATION:PT1H
X-Robots-Tag:noindex
X-PUBLISHED-TTL:PT1H
BEGIN:VTIMEZONE
TZID:America/New_York
BEGIN:DAYLIGHT
TZOFFSETFROM:-0500
TZOFFSETTO:-0400
TZNAME:EDT
DTSTART:20240310T070000
END:DAYLIGHT
BEGIN:STANDARD
TZOFFSETFROM:-0400
TZOFFSETTO:-0500
TZNAME:EST
DTSTART:20241103T060000
END:STANDARD
BEGIN:DAYLIGHT
TZOFFSETFROM:-0500
TZOFFSETTO:-0400
TZNAME:EDT
DTSTART:20250309T070000
END:DAYLIGHT
BEGIN:STANDARD
TZOFFSETFROM:-0400
TZOFFSETTO:-0500
TZNAME:EST
DTSTART:20251102T060000
END:STANDARD
BEGIN:DAYLIGHT
TZOFFSETFROM:-0500
TZOFFSETTO:-0400
TZNAME:EDT
DTSTART:20260308T070000
END:DAYLIGHT
BEGIN:STANDARD
TZOFFSETFROM:-0400
TZOFFSETTO:-0500
TZNAME:EST
DTSTART:20261101T060000
END:STANDARD
END:VTIMEZONE
BEGIN:VEVENT
DTSTART;TZID=America/New_York:20250921T080000
DTEND;TZID=America/New_York:20251022T170000
DTSTAMP:20260422T034748
CREATED:20250421T175807Z
LAST-MODIFIED:20250421T175807Z
UID:10015315-1758441600-1761152400@www.huntingtonarts.org
SUMMARY:Ron Becker Presents: Solo Exhibit at Shelter Rock Art Gallery
DESCRIPTION:Shelter Rock Art Gallery\nUnitarian Universalist Congregation at Shelter Rock\n48 Shelter Rock Rd.\nManhasset\, NY 11030\n1-516-627-6560\nexhibit dates: September 21 – October 22\, 2025\nOpening reception- Sept. 21\, 2025 1pm – 3pm\nContact Gallery for viewing appt. post reception
URL:https://www.huntingtonarts.org/event/ron-becker-presents-solo-exhibit-at-shelter-rock-art-gallery/
LOCATION:Shelter Rock Art Gallery\, 48 Shelter Rock Road\, Manhasset\, NY\, 11030
CATEGORIES:Exhibitions
ATTACH;FMTTYPE=image/jpeg:https://www.huntingtonarts.org/wp-content/uploads/2025/04/Sacred-Beauty-4MB.jpg
END:VEVENT
BEGIN:VEVENT
DTSTART;TZID=America/New_York:20250506T080000
DTEND;TZID=America/New_York:20250528T170000
DTSTAMP:20260422T034748
CREATED:20250506T181620Z
LAST-MODIFIED:20250506T181620Z
UID:10015616-1746518400-1748451600@www.huntingtonarts.org
SUMMARY:Artist Member Karen Kirshner's work  on display at The Shelter Rock Gallery
DESCRIPTION:Karen Kirshner\, “Follow my lead”\, in the National League of American pen\, Women exhibition at the Shelter\, Rock Gallery\, along with three new paintings. \nApril 24 to May 28\, 2025 \nReception Date: Sunday May 18th\, 2025\, 1 -3 pm.  \nThe Art Gallery is a multipurpose room. Please contact 516-627-6560 ext. 2933 to confirm best hours for viewing.
URL:https://www.huntingtonarts.org/event/artist-member-karen-kirshners-work-on-display-at-the-shelter-rock-gallery/
LOCATION:Shelter Rock Art Gallery\, 48 Shelter Rock Road\, Manhasset\, NY\, 11030
CATEGORIES:Exhibitions
ATTACH;FMTTYPE=image/jpeg:https://www.huntingtonarts.org/wp-content/uploads/2025/05/KirshnerFollowMyLead.jpg
END:VEVENT
END:VCALENDAR