BEGIN:VCALENDAR
VERSION:2.0
PRODID:-//Huntington Arts Council - ECPv6.15.20//NONSGML v1.0//EN
CALSCALE:GREGORIAN
METHOD:PUBLISH
X-WR-CALNAME:Huntington Arts Council
X-ORIGINAL-URL:https://www.huntingtonarts.org
X-WR-CALDESC:Events for Huntington Arts Council
REFRESH-INTERVAL;VALUE=DURATION:PT1H
X-Robots-Tag:noindex
X-PUBLISHED-TTL:PT1H
BEGIN:VTIMEZONE
TZID:America/New_York
BEGIN:DAYLIGHT
TZOFFSETFROM:-0500
TZOFFSETTO:-0400
TZNAME:EDT
DTSTART:20240310T070000
END:DAYLIGHT
BEGIN:STANDARD
TZOFFSETFROM:-0400
TZOFFSETTO:-0500
TZNAME:EST
DTSTART:20241103T060000
END:STANDARD
BEGIN:DAYLIGHT
TZOFFSETFROM:-0500
TZOFFSETTO:-0400
TZNAME:EDT
DTSTART:20250309T070000
END:DAYLIGHT
BEGIN:STANDARD
TZOFFSETFROM:-0400
TZOFFSETTO:-0500
TZNAME:EST
DTSTART:20251102T060000
END:STANDARD
BEGIN:DAYLIGHT
TZOFFSETFROM:-0500
TZOFFSETTO:-0400
TZNAME:EDT
DTSTART:20260308T070000
END:DAYLIGHT
BEGIN:STANDARD
TZOFFSETFROM:-0400
TZOFFSETTO:-0500
TZNAME:EST
DTSTART:20261101T060000
END:STANDARD
END:VTIMEZONE
BEGIN:VEVENT
DTSTART;TZID=America/New_York:20251108T190000
DTEND;TZID=America/New_York:20251108T203000
DTSTAMP:20260422T020914
CREATED:20250902T181241Z
LAST-MODIFIED:20250902T181241Z
UID:10016075-1762628400-1762633800@www.huntingtonarts.org
SUMMARY:Serenade Duo presents Concert & Conversation
DESCRIPTION:Join international award-winning ensemble Serenade Duo\, Michelle LaPorte flutist and Gerry Saulter guitarist\, for an engaging recital of “Global Chamber Music” in the historic Setauket Neighborhood House. Enjoy the Duo’s program “Artful Expressions” featuring flute and guitar music by composers from Around the World surrounded by the inspiring exhibition of works by the Setauket Artists. To enhance the listening experience\, Serenade Duo will share some friendly conversation about the pieces and composers. Audience interaction is encouraged – be a part of a musical event designed to bring people and the arts together! \nFree General Admission\nPay-What-You-Wish contributions appreciated. Seating is limited.\nPlease register to attend: www.serenadeduo.com/calendar \nMichelle LaPorte is a 2025 Artist Fellowship Grant Recipient. This work is supported by Long Island Grants for the Arts through funds provided by the office of the Governor and the New York State Legislature and administered by The Huntington Arts Council.
URL:https://www.huntingtonarts.org/event/serenade-duo-presents-concert-conversation/
LOCATION:Setauket Neighborhood House\, 95 Main Street\, East Setauket\, 11733\, United States
CATEGORIES:Exhibitions,Music
ATTACH;FMTTYPE=image/jpeg:https://www.huntingtonarts.org/wp-content/uploads/2025/08/SERENADE-Small-version-1.jpg
ORGANIZER;CN="Serenade Duo":MAILTO:serenadeduo@gmail.com
END:VEVENT
END:VCALENDAR