BEGIN:VCALENDAR
VERSION:2.0
PRODID:-//Huntington Arts Council - ECPv6.15.20//NONSGML v1.0//EN
CALSCALE:GREGORIAN
METHOD:PUBLISH
X-ORIGINAL-URL:https://www.huntingtonarts.org
X-WR-CALDESC:Events for Huntington Arts Council
REFRESH-INTERVAL;VALUE=DURATION:PT1H
X-Robots-Tag:noindex
X-PUBLISHED-TTL:PT1H
BEGIN:VTIMEZONE
TZID:America/New_York
BEGIN:DAYLIGHT
TZOFFSETFROM:-0500
TZOFFSETTO:-0400
TZNAME:EDT
DTSTART:20250309T070000
END:DAYLIGHT
BEGIN:STANDARD
TZOFFSETFROM:-0400
TZOFFSETTO:-0500
TZNAME:EST
DTSTART:20251102T060000
END:STANDARD
BEGIN:DAYLIGHT
TZOFFSETFROM:-0500
TZOFFSETTO:-0400
TZNAME:EDT
DTSTART:20260308T070000
END:DAYLIGHT
BEGIN:STANDARD
TZOFFSETFROM:-0400
TZOFFSETTO:-0500
TZNAME:EST
DTSTART:20261101T060000
END:STANDARD
BEGIN:DAYLIGHT
TZOFFSETFROM:-0500
TZOFFSETTO:-0400
TZNAME:EDT
DTSTART:20270314T070000
END:DAYLIGHT
BEGIN:STANDARD
TZOFFSETFROM:-0400
TZOFFSETTO:-0500
TZNAME:EST
DTSTART:20271107T060000
END:STANDARD
END:VTIMEZONE
BEGIN:VEVENT
DTSTART;TZID=America/New_York:20260115T080000
DTEND;TZID=America/New_York:20260228T170000
DTSTAMP:20260422T102208
CREATED:20251117T190246Z
LAST-MODIFIED:20251117T190246Z
UID:10017515-1768464000-1772298000@www.huntingtonarts.org
SUMMARY:Artist Member Michele Evola Solo Exhibition at Sea Cliff Arts Council: Butterflies
DESCRIPTION:Butterflies\nFor over forty years\, butterflies have appeared throughout my work—first as quiet symbols of beauty\, and gradually as emblems of transformation. \nMy paintings\, in oil\, mixed media and on the computer explore the delicate balance between structure and flight\, realism and abstraction. I am drawn to the way color and texture can evoke movement\, layer by layer\, I build surfaces that suggest both fragility and endurance. \nThis body of work is a visual record of time and change. Each butterfly carries with it a memory of a certain period in my life\, a reflection of evolving technique and perspective. \nOpening Reception: January 23rd\, 6:00 – 8:00PM 
URL:https://www.huntingtonarts.org/event/artist-member-michele-evola-solo-exhibition-at-sea-cliff-arts-council-butterflies/
LOCATION:Sea Cliff Arts Council\, 86 Roslyn Avenue\, Sea Cliff\, NY\, 11579
CATEGORIES:Exhibitions
ATTACH;FMTTYPE=application/pdf:https://www.huntingtonarts.org/wp-content/uploads/2025/11/invite.pdf
END:VEVENT
END:VCALENDAR