BEGIN:VCALENDAR
VERSION:2.0
PRODID:-//Huntington Arts Council - ECPv6.15.20//NONSGML v1.0//EN
CALSCALE:GREGORIAN
METHOD:PUBLISH
X-ORIGINAL-URL:https://www.huntingtonarts.org
X-WR-CALDESC:Events for Huntington Arts Council
REFRESH-INTERVAL;VALUE=DURATION:PT1H
X-Robots-Tag:noindex
X-PUBLISHED-TTL:PT1H
BEGIN:VTIMEZONE
TZID:America/New_York
BEGIN:DAYLIGHT
TZOFFSETFROM:-0500
TZOFFSETTO:-0400
TZNAME:EDT
DTSTART:20220313T070000
END:DAYLIGHT
BEGIN:STANDARD
TZOFFSETFROM:-0400
TZOFFSETTO:-0500
TZNAME:EST
DTSTART:20221106T060000
END:STANDARD
BEGIN:DAYLIGHT
TZOFFSETFROM:-0500
TZOFFSETTO:-0400
TZNAME:EDT
DTSTART:20230312T070000
END:DAYLIGHT
BEGIN:STANDARD
TZOFFSETFROM:-0400
TZOFFSETTO:-0500
TZNAME:EST
DTSTART:20231105T060000
END:STANDARD
BEGIN:DAYLIGHT
TZOFFSETFROM:-0500
TZOFFSETTO:-0400
TZNAME:EDT
DTSTART:20240310T070000
END:DAYLIGHT
BEGIN:STANDARD
TZOFFSETFROM:-0400
TZOFFSETTO:-0500
TZNAME:EST
DTSTART:20241103T060000
END:STANDARD
BEGIN:DAYLIGHT
TZOFFSETFROM:-0500
TZOFFSETTO:-0400
TZNAME:EDT
DTSTART:20250309T070000
END:DAYLIGHT
BEGIN:STANDARD
TZOFFSETFROM:-0400
TZOFFSETTO:-0500
TZNAME:EST
DTSTART:20251102T060000
END:STANDARD
BEGIN:DAYLIGHT
TZOFFSETFROM:-0500
TZOFFSETTO:-0400
TZNAME:EDT
DTSTART:20260308T070000
END:DAYLIGHT
BEGIN:STANDARD
TZOFFSETFROM:-0400
TZOFFSETTO:-0500
TZNAME:EST
DTSTART:20261101T060000
END:STANDARD
BEGIN:DAYLIGHT
TZOFFSETFROM:-0500
TZOFFSETTO:-0400
TZNAME:EDT
DTSTART:20270314T070000
END:DAYLIGHT
BEGIN:STANDARD
TZOFFSETFROM:-0400
TZOFFSETTO:-0500
TZNAME:EST
DTSTART:20271107T060000
END:STANDARD
END:VTIMEZONE
BEGIN:VEVENT
DTSTART;TZID=America/New_York:20260228T130000
DTEND;TZID=America/New_York:20260228T150000
DTSTAMP:20260421T230946
CREATED:20250929T195803Z
LAST-MODIFIED:20250929T195803Z
UID:10017075-1772283600-1772290800@www.huntingtonarts.org
SUMMARY:Suburban Art League presents Awards Reception
DESCRIPTION:Suburban Art League will host their yearly ‘2026 Members Only Juried Exhibition’ at the newly renovated Plainview Old Bethpage Library\, 999 Old Country Rd\, Plainview. Show runs Feb 1-Feb 28 . Join us at our Awards Reception with refreshments on Saturday\, February 28th from 1-3PM. Check out our website for more info and events and become a member today!
URL:https://www.huntingtonarts.org/event/suburban-art-league-presents-awards-reception/
LOCATION:Plainview/Old Bethpage Library\, 999 Old Country Road\, Plainview\, NY\, 11803\, United States
CATEGORIES:Exhibitions
ATTACH;FMTTYPE=image/png:https://www.huntingtonarts.org/wp-content/uploads/2025/09/SAL-logo-orig-small-2.png
ORGANIZER;CN="Suburban Art League":MAILTO:tomandtony@msn.com
GEO:40.7749112;-73.4732509
X-APPLE-STRUCTURED-LOCATION;VALUE=URI;X-ADDRESS=Plainview/Old Bethpage Library 999 Old Country Road Plainview NY 11803 United States;X-APPLE-RADIUS=500;X-TITLE=999 Old Country Road:geo:-73.4732509,40.7749112
END:VEVENT
BEGIN:VEVENT
DTSTART;TZID=America/New_York:20260201T100000
DTEND;TZID=America/New_York:20260228T170000
DTSTAMP:20260421T230946
CREATED:20250929T200432Z
LAST-MODIFIED:20250929T200432Z
UID:10017076-1769940000-1772298000@www.huntingtonarts.org
SUMMARY:Suburban Art League presents Members Exhibition
DESCRIPTION:Suburban Art League will host their yearly ‘2026 Members Only Juried Exhibition’ at the newly renovated Plainview Old Bethpage Library\, 999 Old Country Rd\, Plainview. Come and view the beautiful works of art from local artists at our Art Exhibition and Sale. Show runs Feb 1-Feb 28 . Join us at our Awards Reception with refreshments on Saturday\, February 28th from 1-3PM. Check out our website for more info and events and become a member today!
URL:https://www.huntingtonarts.org/event/suburban-art-league-presents-members-exhibition/
LOCATION:Plainview/Old Bethpage Library\, 999 Old Country Road\, Plainview\, NY\, 11803\, United States
CATEGORIES:Exhibitions
ATTACH;FMTTYPE=image/png:https://www.huntingtonarts.org/wp-content/uploads/2025/09/SAL-logo-orig-small-3.png
ORGANIZER;CN="Suburban Art League":MAILTO:tomandtony@msn.com
GEO:40.7749112;-73.4732509
X-APPLE-STRUCTURED-LOCATION;VALUE=URI;X-ADDRESS=Plainview/Old Bethpage Library 999 Old Country Road Plainview NY 11803 United States;X-APPLE-RADIUS=500;X-TITLE=999 Old Country Road:geo:-73.4732509,40.7749112
END:VEVENT
BEGIN:VEVENT
DTSTART;TZID=America/New_York:20260102T100000
DTEND;TZID=America/New_York:20260119T233000
DTSTAMP:20260421T230946
CREATED:20250929T194803Z
LAST-MODIFIED:20250929T194803Z
UID:10017074-1767348000-1768865400@www.huntingtonarts.org
SUMMARY:Suburban Art League presents Call to Artists: Members Only Juried Exhibition
DESCRIPTION:Suburban Art League will host their yearly ‘2026 Members Only Juried Exhibition’ at the newly renovated Plainview Old Bethpage Library\, 999 Old Country Rd\, Plainview. Registration is from January 2nd through Jan. 19th 2026\, for our Art Exhibition and Sale where members are welcome to submit work for cash awards and prizes. Show runs Feb 1-Feb 28 . Join us at our Awards Reception with refreshments on Saturday\, February 28th from 1-3PM. Check out our website for more info and events and become a member today!
URL:https://www.huntingtonarts.org/event/suburban-art-league-presents-call-to-artists-members-only-juried-exhibition/
LOCATION:Plainview/Old Bethpage Library\, 999 Old Country Road\, Plainview\, NY\, 11803\, United States
CATEGORIES:Exhibitions
ATTACH;FMTTYPE=image/png:https://www.huntingtonarts.org/wp-content/uploads/2025/09/SAL-logo-orig-small-1.png
ORGANIZER;CN="Suburban Art League":MAILTO:tomandtony@msn.com
GEO:40.7749112;-73.4732509
X-APPLE-STRUCTURED-LOCATION;VALUE=URI;X-ADDRESS=Plainview/Old Bethpage Library 999 Old Country Road Plainview NY 11803 United States;X-APPLE-RADIUS=500;X-TITLE=999 Old Country Road:geo:-73.4732509,40.7749112
END:VEVENT
BEGIN:VEVENT
DTSTART;TZID=America/New_York:20250222T130000
DTEND;TZID=America/New_York:20250222T150000
DTSTAMP:20260421T230946
CREATED:20240906T155348Z
LAST-MODIFIED:20241111T182418Z
UID:10014215-1740229200-1740236400@www.huntingtonarts.org
SUMMARY:DATE CHANGE Suburban Art League presents Art Exhibit Awards Reception
DESCRIPTION:SAL Awards Ceremony with refreshments. Date changed from Feb 8 to Feb 22. Listen to our professionl judge critique the winning pieces and enjoy the company of other artists. View the work and enjoy refreshments from 1-1:30\, award cerempny begins at 1:30.
URL:https://www.huntingtonarts.org/event/suburban-art-league-presents-art-exhibit-awards-reception/
LOCATION:Plainview/Old Bethpage Library\, 999 Old Country Road\, Plainview\, NY\, 11803\, United States
CATEGORIES:Exhibitions
ATTACH;FMTTYPE=image/png:https://www.huntingtonarts.org/wp-content/uploads/2024/08/SAL-logo-orig-small-2.png
ORGANIZER;CN="SAL-Suburban Art League":MAILTO:Suburbanartleague@gmail.com
GEO:40.7749112;-73.4732509
X-APPLE-STRUCTURED-LOCATION;VALUE=URI;X-ADDRESS=Plainview/Old Bethpage Library 999 Old Country Road Plainview NY 11803 United States;X-APPLE-RADIUS=500;X-TITLE=999 Old Country Road:geo:-73.4732509,40.7749112
END:VEVENT
BEGIN:VEVENT
DTSTART;TZID=America/New_York:20250201T080000
DTEND;TZID=America/New_York:20250228T170000
DTSTAMP:20260421T230946
CREATED:20240906T154949Z
LAST-MODIFIED:20241114T131122Z
UID:10014214-1738396800-1740762000@www.huntingtonarts.org
SUMMARY:Suburban Art League presents  Art Exhibit and Sale
DESCRIPTION:Art Exhibition and Sale Feb 1-Feb 28 where all are welcome to view the work through the month and join us at our Feb. 22 Awards Reception with refreshments from 1-3PM.
URL:https://www.huntingtonarts.org/event/suburban-art-league-presents-members-only-art-exhibit-and-sale/
LOCATION:Plainview/Old Bethpage Library\, 999 Old Country Road\, Plainview\, NY\, 11803\, United States
CATEGORIES:Exhibitions
ATTACH;FMTTYPE=image/png:https://www.huntingtonarts.org/wp-content/uploads/2024/08/SAL-logo-orig-small-1.png
ORGANIZER;CN="SAL-Suburban Art League":MAILTO:Suburbanartleague@gmail.com
GEO:40.7749112;-73.4732509
X-APPLE-STRUCTURED-LOCATION;VALUE=URI;X-ADDRESS=Plainview/Old Bethpage Library 999 Old Country Road Plainview NY 11803 United States;X-APPLE-RADIUS=500;X-TITLE=999 Old Country Road:geo:-73.4732509,40.7749112
END:VEVENT
BEGIN:VEVENT
DTSTART;TZID=America/New_York:20240312T190000
DTEND;TZID=America/New_York:20240312T210000
DTSTAMP:20260421T230946
CREATED:20240304T190213Z
LAST-MODIFIED:20240304T190213Z
UID:10010243-1710270000-1710277200@www.huntingtonarts.org
SUMMARY:Independent Art Society presents Free Silk Painting Demo With Vivien Pollack
DESCRIPTION:Free silk painting Demo by Vivien Pollack at the Plainview -Old Bethpage Library at 999 Old Country Rd Plainview organized by the Independent Art Society . 7- 9 PM March 12th https://www.independentartsociety.org/
URL:https://www.huntingtonarts.org/event/independent-art-society-presents-free-silk-painting-demo-with-vivien-pollack/
LOCATION:Plainview/Old Bethpage Library\, 999 Old Country Road\, Plainview\, NY\, 11803\, United States
CATEGORIES:Art Demo
ORGANIZER;CN="Independant Art Society":MAILTO:vivienpollackdesign@gmail.com
GEO:40.7749112;-73.4732509
X-APPLE-STRUCTURED-LOCATION;VALUE=URI;X-ADDRESS=Plainview/Old Bethpage Library 999 Old Country Road Plainview NY 11803 United States;X-APPLE-RADIUS=500;X-TITLE=999 Old Country Road:geo:-73.4732509,40.7749112
END:VEVENT
BEGIN:VEVENT
DTSTART;TZID=America/New_York:20240203T130000
DTEND;TZID=America/New_York:20240203T150000
DTSTAMP:20260421T230946
CREATED:20230912T184705Z
LAST-MODIFIED:20240127T014921Z
UID:10006474-1706965200-1706972400@www.huntingtonarts.org
SUMMARY:Suburban Art League’s Exhibit Awards & Critiques Ceremony
DESCRIPTION:Join us as a professional judge provides critiques of the top 7 pieces selected for composition and quality as being the best of the best. Light refreshments will be provided.
URL:https://www.huntingtonarts.org/event/suburban-art-leagues-free-critiques-and-awards-ceremony/
LOCATION:Plainview/Old Bethpage Library\, 999 Old Country Road\, Plainview\, NY\, 11803\, United States
CATEGORIES:Exhibitions
ATTACH;FMTTYPE=image/png:https://www.huntingtonarts.org/wp-content/uploads/2023/09/SAL-logo-orig-small-5.png
ORGANIZER;CN="SAL-Suburban Art League":MAILTO:Suburbanartleague@gmail.com
GEO:40.7749112;-73.4732509
X-APPLE-STRUCTURED-LOCATION;VALUE=URI;X-ADDRESS=Plainview/Old Bethpage Library 999 Old Country Road Plainview NY 11803 United States;X-APPLE-RADIUS=500;X-TITLE=999 Old Country Road:geo:-73.4732509,40.7749112
END:VEVENT
BEGIN:VEVENT
DTSTART;VALUE=DATE:20240201
DTEND;VALUE=DATE:20240301
DTSTAMP:20260421T230946
CREATED:20240126T171834Z
LAST-MODIFIED:20240127T015704Z
UID:10010173-1706745600-1709251199@www.huntingtonarts.org
SUMMARY:Suburban Art Leagues Art Exhibit and Sale
DESCRIPTION:Join Suburban Art League’s Open art exhibit at the Plainview Old Bethpage Public Library\, throughout the month of Feb.\, where over 75 (2D and 3D) pieces of art will be on display. Most of which are for sale. Email us at suburbanartleague@gmail.com or ask the librarian for the price list if you are interested in purchasing a piece on display. Join us for our opening day Reception and Award Ceremony (including light refreshments) on Feb. 3rd from 1-3PM where critiques will be given by a professional judge to those pieces winning an award\, cash or other prizes. \nIf you would like to participate as an artist displaying your work in our May exhibit (open to the public to enter)\, please visit our website for a registration form which must be recieved online or vial USPS by April 17\, 2024. More information is published on our site https://www.suburbanartleague.com/art-exhibitions.html
URL:https://www.huntingtonarts.org/event/suburban-art-leagues-art-exhibit-and-sale-2/
LOCATION:Plainview/Old Bethpage Library\, 999 Old Country Road\, Plainview\, NY\, 11803\, United States
CATEGORIES:Exhibitions
ATTACH;FMTTYPE=image/png:https://www.huntingtonarts.org/wp-content/uploads/2024/01/SAL-logo-orig-2.png
ORGANIZER;CN="SAL-Suburban Art League":MAILTO:Suburbanartleague@gmail.com
GEO:40.7749112;-73.4732509
X-APPLE-STRUCTURED-LOCATION;VALUE=URI;X-ADDRESS=Plainview/Old Bethpage Library 999 Old Country Road Plainview NY 11803 United States;X-APPLE-RADIUS=500;X-TITLE=999 Old Country Road:geo:-73.4732509,40.7749112
END:VEVENT
BEGIN:VEVENT
DTSTART;TZID=America/New_York:20230706T123000
DTEND;TZID=America/New_York:20230706T170000
DTSTAMP:20260421T230946
CREATED:20230707T140504Z
LAST-MODIFIED:20230707T140504Z
UID:10005993-1688646600-1688662800@www.huntingtonarts.org
SUMMARY:Suburban Art League Demo by Steven Assael
DESCRIPTION:Steven Assael will be joining us at the Plainview Old Bethpage Library to do an oil painting demo. Payment must be made online (no money can be taken at the door). Doors open at 12:30. Light refreshments will be served.
URL:https://www.huntingtonarts.org/event/suburban-art-league-demo-by-steven-assael/
LOCATION:Plainview/Old Bethpage Library\, 999 Old Country Road\, Plainview\, NY\, 11803\, United States
CATEGORIES:Art Demo
ATTACH;FMTTYPE=image/png:https://www.huntingtonarts.org/wp-content/uploads/2023/06/SAL-logo-orig-small.png
ORGANIZER;CN="Suburban Art League":MAILTO:tomandtony@msn.com
GEO:40.7749112;-73.4732509
X-APPLE-STRUCTURED-LOCATION;VALUE=URI;X-ADDRESS=Plainview/Old Bethpage Library 999 Old Country Road Plainview NY 11803 United States;X-APPLE-RADIUS=500;X-TITLE=999 Old Country Road:geo:-73.4732509,40.7749112
END:VEVENT
BEGIN:VEVENT
DTSTART;TZID=America/New_York:20230201T000000
DTEND;TZID=America/New_York:20230228T235959
DTSTAMP:20260421T230946
CREATED:20221125T212742Z
LAST-MODIFIED:20221125T212742Z
UID:10004809-1675209600-1677628799@www.huntingtonarts.org
SUMMARY:Suburban Art League’s Sue Ditkowsky Memorial Member Judged Exhibit
DESCRIPTION:Suburban Art League has 69 pieces of art on display for viewing at the Plainview Old Bethpage Library. This is a member judged exhibit with cash\, ribbons and prizes awarded. Art on display for the entire month of February with our Awards Ceremony Reception including music and critiques by Marc Josloff Feb. 4th from1-3PM.
URL:https://www.huntingtonarts.org/event/sue-ditkowsky-memorial-member-judged-exhibit/
LOCATION:Plainview/Old Bethpage Library\, 999 Old Country Road\, Plainview\, NY\, 11803\, United States
CATEGORIES:Exhibitions
ATTACH;FMTTYPE=:
ORGANIZER;CN="Suburban Art League":MAILTO:tomandtony@msn.com
GEO:40.7749112;-73.4732509
X-APPLE-STRUCTURED-LOCATION;VALUE=URI;X-ADDRESS=Plainview/Old Bethpage Library 999 Old Country Road Plainview NY 11803 United States;X-APPLE-RADIUS=500;X-TITLE=999 Old Country Road:geo:-73.4732509,40.7749112
END:VEVENT
END:VCALENDAR