BEGIN:VCALENDAR
VERSION:2.0
PRODID:-//Huntington Arts Council - ECPv6.15.20//NONSGML v1.0//EN
CALSCALE:GREGORIAN
METHOD:PUBLISH
X-ORIGINAL-URL:https://www.huntingtonarts.org
X-WR-CALDESC:Events for Huntington Arts Council
REFRESH-INTERVAL;VALUE=DURATION:PT1H
X-Robots-Tag:noindex
X-PUBLISHED-TTL:PT1H
BEGIN:VTIMEZONE
TZID:America/New_York
BEGIN:DAYLIGHT
TZOFFSETFROM:-0500
TZOFFSETTO:-0400
TZNAME:EDT
DTSTART:20210314T070000
END:DAYLIGHT
BEGIN:STANDARD
TZOFFSETFROM:-0400
TZOFFSETTO:-0500
TZNAME:EST
DTSTART:20211107T060000
END:STANDARD
BEGIN:DAYLIGHT
TZOFFSETFROM:-0500
TZOFFSETTO:-0400
TZNAME:EDT
DTSTART:20220313T070000
END:DAYLIGHT
BEGIN:STANDARD
TZOFFSETFROM:-0400
TZOFFSETTO:-0500
TZNAME:EST
DTSTART:20221106T060000
END:STANDARD
BEGIN:DAYLIGHT
TZOFFSETFROM:-0500
TZOFFSETTO:-0400
TZNAME:EDT
DTSTART:20230312T070000
END:DAYLIGHT
BEGIN:STANDARD
TZOFFSETFROM:-0400
TZOFFSETTO:-0500
TZNAME:EST
DTSTART:20231105T060000
END:STANDARD
BEGIN:DAYLIGHT
TZOFFSETFROM:-0500
TZOFFSETTO:-0400
TZNAME:EDT
DTSTART:20240310T070000
END:DAYLIGHT
BEGIN:STANDARD
TZOFFSETFROM:-0400
TZOFFSETTO:-0500
TZNAME:EST
DTSTART:20241103T060000
END:STANDARD
END:VTIMEZONE
BEGIN:VEVENT
DTSTART;TZID=America/New_York:20230916T193000
DTEND;TZID=America/New_York:20231008T193000
DTSTAMP:20260422T222454
CREATED:20230414T160250Z
LAST-MODIFIED:20230613T114923Z
UID:10005805-1694892600-1696793400@www.huntingtonarts.org
SUMMARY:EastLine Theatre presents References to Salvador Dalí Make Me Hot by José Rivera
DESCRIPTION:On a moonlit July night in Barstow\, California\, strange\, seductive things can happen\, especially if you talk to the moon. Join us in celebrating Hispanic Heritage Month at Westbury Arts with this surrealist fantasy from Oscar nominee José Rivera. \nPerformances September 16\, 17\, 23\, 24\, 29\, 30 and October 6\, 8 at Westbury Arts
URL:https://www.huntingtonarts.org/event/eastline-theatre-presents-references-to-salvador-dali-make-me-hot-by-jose-rivera/
LOCATION:Westbury Arts\, 255 Schenck Ave\, Westbury\, NY\, 11590\, United States
CATEGORIES:Theater
ATTACH;FMTTYPE=image/png:https://www.huntingtonarts.org/wp-content/uploads/2023/04/The-Mountaintop.png
ORGANIZER;CN="EastLine Theatre":MAILTO:info@eastlinetheatre.org
END:VEVENT
BEGIN:VEVENT
DTSTART;TZID=America/New_York:20221217T080000
DTEND;TZID=America/New_York:20221217T170000
DTSTAMP:20260422T222454
CREATED:20220822T170538Z
LAST-MODIFIED:20220822T170538Z
UID:10004784-1671264000-1671296400@www.huntingtonarts.org
SUMMARY:EastLine Theatre presents These Gilded Souls - A Jazz Age Ghost Story by Aly Kantor
DESCRIPTION:In the ruins of a Gold Coast mansion\, Nick Carraway finds the ghosts of his past. Through memories of Jazz Age decadence\, murder\, and the mysterious Jay Gatsby\, Aly Kantor weaves a queer perspective from the classic American novel. \nEastLine Theatre is thrilled to produce this world premiere adaptation of a Long Island story from Long Island playwright Aly Kantor.
URL:https://www.huntingtonarts.org/event/eastline-theatre-presents-these-gilded-souls-a-jazz-age-ghost-story-by-aly-kantor/2022-12-17/
LOCATION:Westbury Arts\, 255 Schenck Ave\, Westbury\, NY\, 11590\, United States
ATTACH;FMTTYPE=image/jpeg:https://www.huntingtonarts.org/wp-content/uploads/2022/08/A7A6F36C-1D52-440B-8C2B-E9BB93A9698F-1.jpeg
ORGANIZER;CN="EastLine Theatre":MAILTO:info@eastlinetheatre.org
END:VEVENT
BEGIN:VEVENT
DTSTART;TZID=America/New_York:20221105T190000
DTEND;TZID=America/New_York:20221126T190000
DTSTAMP:20260422T222454
CREATED:20220823T150957Z
LAST-MODIFIED:20220823T150957Z
UID:10004846-1667674800-1669489200@www.huntingtonarts.org
SUMMARY:Westbury Arts Call for Village of Westbury 90th Anniversary Photograph Exhibition
DESCRIPTION:Westbury Arts in collaboration with the Westbury Historical Society is inviting local residents\, organizations and\nbusinesses to submit for consideration into our photography show up to three of your best digital images taken\nin Westbury (color or black & white). Photos can be historical in content or can show everyday living. We hope to\nmake this show into a mega exhibition with one part at the Westbury Memorial Library\, a second part at the home\nof Westbury Arts off Post Avenue and a third part at the Yes We Can Center that is also nearby.\nThis month-long exhibit will be held in November 2022. \nSubmission Guidelines:\n• Submit digital copies to Alex@WestburyArts.org\n• Please submit images in .jpg format labeled with the following information: Artist Name\, Title of photograph\, Year\n• In your email please include a sentence for each image explaining to the viewer what is going on in the photograph.\n• Limit: 3 entries per person\n• Deadline for entries: October 15\, 2022\n• Accepted photographers will be notified by October 20\,2022 (Only those accepted will be notified.)\nPlease don’t send original photographs to Westbury Arts. We will print and frame your digital images for the show. After the exhibit the digital images will be deleted.
URL:https://www.huntingtonarts.org/event/westbury-arts-call-for-village-of-westbury-90th-anniversary-photograph-exhibition/
LOCATION:Westbury Arts\, 255 Schenck Ave\, Westbury\, NY\, 11590\, United States
CATEGORIES:Exhibitions
ATTACH;FMTTYPE=image/png:https://www.huntingtonarts.org/wp-content/uploads/2022/08/logo-1.png
ORGANIZER;CN="Stanley Turetsky":MAILTO:stanley@westburyarts.org
END:VEVENT
BEGIN:VEVENT
DTSTART;TZID=America/New_York:20221007T070000
DTEND;TZID=America/New_York:20221007T210000
DTSTAMP:20260422T222454
CREATED:20220822T170924Z
LAST-MODIFIED:20220822T170924Z
UID:10004881-1665126000-1665176400@www.huntingtonarts.org
SUMMARY:Westbury Arts: Screening of the Film “Undocumented: The life of Dr. Harold Fernandez from Medellin to Princeton and Harvard.”
DESCRIPTION:The film Undocumented is the story of Dr. Harold Fernandez who came to the US in a small boat from Colombia and became one of the best cardiologist. Produced and Directed by Patricia Shih\, this film teaches a valuable life lesson that must be shared. Join us on October 7\, 2022 at 7:00 PM at Westbury Arts\, 255 Schenck Ave\, Westbury\, NY \nTickets: https://www.eventbrite.com/e/undocumented-doc-the-story-of-dr-harold-fernandez-journey-to-the-usa-tickets-377892946977
URL:https://www.huntingtonarts.org/event/westbury-arts-screening-of-the-film-undocumented-the-life-of-dr-harold-fernandez-from-medellin-to-princeton-and-harvard/
LOCATION:Westbury Arts\, 255 Schenck Ave\, Westbury\, NY\, 11590\, United States
CATEGORIES:Film/Media
ATTACH;FMTTYPE=image/jpeg:https://www.huntingtonarts.org/wp-content/uploads/2022/08/Patricia-Shih-and-Dr-F-2.jpg
ORGANIZER;CN="Stanley Turetsky":MAILTO:stanley@westburyarts.org
END:VEVENT
BEGIN:VEVENT
DTSTART;TZID=America/New_York:20221002T150000
DTEND;TZID=America/New_York:20221002T173000
DTSTAMP:20260422T222454
CREATED:20220823T145830Z
LAST-MODIFIED:20220823T145830Z
UID:10005080-1664722800-1664731800@www.huntingtonarts.org
SUMMARY:EastLine Theatre presents Anna in the Tropics by Nilo Cruz
DESCRIPTION:Nilo Cruz’s Pulitzer Prize winner comes to Westbury in celebration of Hispanic Heritage Month. Free tickets with a refundable reservation. \n‘I have dreams and they are full of white snow\,\nand Anna Karenina is dancing waltzes with Vronsky.\nThen I see them in a little room\,\nand all the snow melts from the heat of their bodies.’ \nTampa\, Florida\, 1929. In a Cuban–American cigar factory\, where cigars are still rolled by hand and “lectors” are employed to educate and entertain the workers\, the arrival of a new lector is cause for celebration. But when he begins to read aloud from Anna Karenina\, he unwittingly becomes a catalyst in the lives of his avid listeners\, for whom Tolstoy\, the tropics\, and the American dream prove a volatile combination. \nEastLine Theatre in association with Westbury Arts will present Nilo Cruz’s Pulitzer Prize-winning Anna in the Tropics this September\, in celebration of Hispanic Heritage Month. \nThis production is part of EastLine’s Theatre for All initiative.
URL:https://www.huntingtonarts.org/event/eastline-theatre-presents-anna-in-the-tropics-by-nilo-cruz/2022-10-02/
LOCATION:Westbury Arts\, 255 Schenck Ave\, Westbury\, NY\, 11590\, United States
ATTACH;FMTTYPE=image/jpeg:https://www.huntingtonarts.org/wp-content/uploads/2022/08/5E1CB22A-141B-48DA-BEA9-553F976C42F4-1.jpeg
ORGANIZER;CN="EastLine Theatre":MAILTO:info@eastlinetheatre.org
END:VEVENT
BEGIN:VEVENT
DTSTART;TZID=America/New_York:20221002T080000
DTEND;TZID=America/New_York:20221002T170000
DTSTAMP:20260422T222454
CREATED:20220407T190823Z
LAST-MODIFIED:20220407T190823Z
UID:10005071-1664697600-1664730000@www.huntingtonarts.org
SUMMARY:EastLine Theatre's Production of "Anna in the Tropics" at Westbury Arts
DESCRIPTION:Winner of the 2003 Pulitzer Prize\, set in Ybor City\, Florida\, in 1929. Here\, a cadre of Cuban-Americans\, primarily female cigar factory laborers who hand roll each cigar await the arrival of their new lector\, Juan Julian. The lector serves to entertain the workers by reading great stories. Most of the group is overjoyed by the presence of this new\, handsome lector\, but when he starts reading from the Russian classic\, Anna Karenina\, the scandalous lives of Tolstoy’s characters start to intertwine with the lives of his listeners. As Juan Julian reads\, the hot\, humid Florida summer strangely starts to resemble the cold Russian winter of Tolstoy. Infidelity\, money problems\, and violence spring to the surface as the owners and workers grapple with their newfound understanding of life\, love and business.
URL:https://www.huntingtonarts.org/event/eastline-theatres-production-of-anna-in-the-tropics-at-westbury-arts-2/2022-10-02/
LOCATION:Westbury Arts\, 255 Schenck Ave\, Westbury\, NY\, 11590\, United States
CATEGORIES:Theater
ATTACH;FMTTYPE=image/jpeg:https://www.huntingtonarts.org/wp-content/uploads/2022/03/Eastline-1.jpg
ORGANIZER;CN="EastLine Theatre":MAILTO:info@eastlinetheatre.org
END:VEVENT
BEGIN:VEVENT
DTSTART;TZID=America/New_York:20220924T080000
DTEND;TZID=America/New_York:20220924T170000
DTSTAMP:20260422T222454
CREATED:20220407T190918Z
LAST-MODIFIED:20220407T190918Z
UID:10005083-1664006400-1664038800@www.huntingtonarts.org
SUMMARY:EastLine Theatre’s Production of “Anna  in the Tropics” at Westbury Arts
DESCRIPTION:Winner of the 2003 Pulitzer Prize\, set in Ybor City\, Florida\, in 1929. Here\, a cadre of Cuban-Americans\, primarily female cigar factory laborers who hand roll each cigar await the arrival of their new lector\, Juan Julian. The lector serves to entertain the workers by reading great stories. Most of the group is overjoyed by the presence of this new\, handsome lector\, but when he starts reading from the Russian classic\, Anna Karenina\, the scandalous lives of Tolstoy’s characters start to intertwine with the lives of his listeners. As Juan Julian reads\, the hot\, humid Florida summer strangely starts to resemble the cold Russian winter of Tolstoy. Infidelity\, money problems\, and violence spring to the surface as the owners and workers grapple with their newfound understanding of life\, love and business.
URL:https://www.huntingtonarts.org/event/eastline-theatres-production-of-anna-in-the-tropics-at-westbury-arts-3/2022-09-24/
LOCATION:Westbury Arts\, 255 Schenck Ave\, Westbury\, NY\, 11590\, United States
CATEGORIES:Theater
ATTACH;FMTTYPE=image/png:https://www.huntingtonarts.org/wp-content/uploads/2022/03/Picture1-5.png
ORGANIZER;CN="EastLine Theatre":MAILTO:info@eastlinetheatre.org
END:VEVENT
BEGIN:VEVENT
DTSTART;TZID=America/New_York:20220915T190000
DTEND;TZID=America/New_York:20220915T210000
DTSTAMP:20260422T222454
CREATED:20220407T190655Z
LAST-MODIFIED:20220407T190655Z
UID:10005063-1663268400-1663275600@www.huntingtonarts.org
SUMMARY:Westbury Arts' Hispanic Heritage Month Art Exhibition Opening
DESCRIPTION:A juried art exhibit highlighting emerging and established artists from Long Island. The exhibition will run from September 15 through October 15\, 2022. Along with the art exhibit Westbury Arts. Art Exhibition Opening will have live entertainment and refreshments and a Latinx Roundtable Talk\, exploring the diversity within the Hispanic/Latinx community.
URL:https://www.huntingtonarts.org/event/westbury-arts-hispanic-heritage-month-art-exhibition-opening/
LOCATION:Westbury Arts\, 255 Schenck Ave\, Westbury\, NY\, 11590\, United States
CATEGORIES:Exhibitions
ATTACH;FMTTYPE=image/jpeg:https://www.huntingtonarts.org/wp-content/uploads/2022/03/hispanic-heritage.jpg
ORGANIZER;CN="Westbury Arts":MAILTO:julie@westburyarts.org
END:VEVENT
BEGIN:VEVENT
DTSTART;TZID=America/New_York:20220909T100000
DTEND;TZID=America/New_York:20220909T160000
DTSTAMP:20260422T222454
CREATED:20220823T151036Z
LAST-MODIFIED:20220823T151036Z
UID:10005088-1662717600-1662739200@www.huntingtonarts.org
SUMMARY:Westbury Arts presents: Arts on Schenck
DESCRIPTION:In cooperation with the Westbury Business Improvement District’s Street Fair on Saturday\, September 9th (Rain date: Sunday\, September 10th)\, Westbury Arts will host an artists and artisans fair on Schenck Avenue\, both outside and inside our building.
URL:https://www.huntingtonarts.org/event/westbury-arts-presents-arts-on-schenck/
LOCATION:Westbury Arts\, 255 Schenck Ave\, Westbury\, NY\, 11590\, United States
CATEGORIES:Miscellaneous
ATTACH;FMTTYPE=image/png:https://www.huntingtonarts.org/wp-content/uploads/2022/08/logo-1-1.png
ORGANIZER;CN="Stanley Turetsky":MAILTO:stanley@westburyarts.org
END:VEVENT
BEGIN:VEVENT
DTSTART;TZID=America/New_York:20220806T190000
DTEND;TZID=America/New_York:20220806T210000
DTSTAMP:20260422T222454
CREATED:20220405T171847Z
LAST-MODIFIED:20220405T171847Z
UID:10005168-1659812400-1659819600@www.huntingtonarts.org
SUMMARY:Westbury Arts: Treasures Uncovered/Rediscovered: Assemblage and Mixed-Media Art Exhibition Opening
DESCRIPTION:This Exhibition centers around creating mixed-media art featuring found objects\, upcycled materials\, and assemblage pieces. It represents all themes\, ages\, and skill levels. This show can also speak to the power of recycling and eco-friendly initiatives. Prize ribbons (1st\, 2nd\, and 3rd) will be awarded along with a “Juror’s Choice”\nand “Viewer’s Choice.” \nThe Opening Celebration will be held on August 6\, 2022\, from 7:00 until 9:00 PM. Light refreshments will be served. \nThe Gallery will be open for viewing on:\nFridays\, August 12\, 19\, and 26\, 2022 from 2:00 PM until 6:00 PM\nSaturdays\, August 13\, 20\, and 27\, 2022 from 12:00 PM until 4:00 PM
URL:https://www.huntingtonarts.org/event/westbury-arts-treasures-uncovered-rediscovered-assemblage-and-mixed-media-art-exhibition-opening/
LOCATION:Westbury Arts\, 255 Schenck Ave\, Westbury\, NY\, 11590\, United States
CATEGORIES:Exhibitions
ATTACH;FMTTYPE=image/jpeg:https://www.huntingtonarts.org/wp-content/uploads/2022/03/01fa31a597878cb2c8a6e8cc54f79a0e9670972fe8-1.jpg
ORGANIZER;CN="Westbury Arts":MAILTO:julie@westburyarts.org
END:VEVENT
BEGIN:VEVENT
DTSTART;TZID=America/New_York:20220702T190000
DTEND;TZID=America/New_York:20220702T210000
DTSTAMP:20260422T222454
CREATED:20220405T145705Z
LAST-MODIFIED:20220405T145705Z
UID:10005222-1656788400-1656795600@www.huntingtonarts.org
SUMMARY:Westbury Arts presents an Exhibition of Islamic Art
DESCRIPTION:Westbury Arts proudly presents an exhibition of Islamic Art. Across the Islamic world\, visual art has three key characteristics; floral motifs\, geometric designs\, and/or calligraphy. Often overlapping across various art forms and genres\, these elements are influenced by principles in the Qu’ran. This exhibit will be grouped by examples of these three art forms. The show will be curated by Dr. Farouk Khan\, a member of the board of directors of the Islamic Center of Long Island\, and his niece\, Daisy Khan. \nGallery viewing hours:\nSaturdays\, July 9\, 16\, and 23 from 12:00 PM to 4:00 PM\nSundays\, July 10\, 17\, and 24\, from 12:00 PM to 4:00 PM
URL:https://www.huntingtonarts.org/event/westbury-arts-presents-an-exhibition-of-islamic-art/
LOCATION:Westbury Arts\, 255 Schenck Ave\, Westbury\, NY\, 11590\, United States
CATEGORIES:Exhibitions
ATTACH;FMTTYPE=image/png:https://www.huntingtonarts.org/wp-content/uploads/2022/03/Picture1-2.png
ORGANIZER;CN="Westbury Arts":MAILTO:julie@westburyarts.org
END:VEVENT
END:VCALENDAR