BEGIN:VCALENDAR
VERSION:2.0
PRODID:-//Huntington Arts Council - ECPv6.15.20//NONSGML v1.0//EN
CALSCALE:GREGORIAN
METHOD:PUBLISH
X-ORIGINAL-URL:https://www.huntingtonarts.org
X-WR-CALDESC:Events for Huntington Arts Council
REFRESH-INTERVAL;VALUE=DURATION:PT1H
X-Robots-Tag:noindex
X-PUBLISHED-TTL:PT1H
BEGIN:VTIMEZONE
TZID:America/New_York
BEGIN:DAYLIGHT
TZOFFSETFROM:-0500
TZOFFSETTO:-0400
TZNAME:EDT
DTSTART:20220313T070000
END:DAYLIGHT
BEGIN:STANDARD
TZOFFSETFROM:-0400
TZOFFSETTO:-0500
TZNAME:EST
DTSTART:20221106T060000
END:STANDARD
BEGIN:DAYLIGHT
TZOFFSETFROM:-0500
TZOFFSETTO:-0400
TZNAME:EDT
DTSTART:20230312T070000
END:DAYLIGHT
BEGIN:STANDARD
TZOFFSETFROM:-0400
TZOFFSETTO:-0500
TZNAME:EST
DTSTART:20231105T060000
END:STANDARD
BEGIN:DAYLIGHT
TZOFFSETFROM:-0500
TZOFFSETTO:-0400
TZNAME:EDT
DTSTART:20240310T070000
END:DAYLIGHT
BEGIN:STANDARD
TZOFFSETFROM:-0400
TZOFFSETTO:-0500
TZNAME:EST
DTSTART:20241103T060000
END:STANDARD
BEGIN:DAYLIGHT
TZOFFSETFROM:-0500
TZOFFSETTO:-0400
TZNAME:EDT
DTSTART:20250309T070000
END:DAYLIGHT
BEGIN:STANDARD
TZOFFSETFROM:-0400
TZOFFSETTO:-0500
TZNAME:EST
DTSTART:20251102T060000
END:STANDARD
BEGIN:DAYLIGHT
TZOFFSETFROM:-0500
TZOFFSETTO:-0400
TZNAME:EDT
DTSTART:20260308T070000
END:DAYLIGHT
BEGIN:STANDARD
TZOFFSETFROM:-0400
TZOFFSETTO:-0500
TZNAME:EST
DTSTART:20261101T060000
END:STANDARD
END:VTIMEZONE
BEGIN:VEVENT
DTSTART;TZID=America/New_York:20250215T170000
DTEND;TZID=America/New_York:20250419T170000
DTSTAMP:20260422T131651
CREATED:20250214T191451Z
LAST-MODIFIED:20250214T191451Z
UID:10015270-1739638800-1745082000@www.huntingtonarts.org
SUMMARY:MYTHOS” at MOCA LI: Museum of Contemporary Art curated by John Cino\, Patchogue Arts Council
DESCRIPTION:Mythos brings together five visionary artists—Madeline Daversa\, Barbara Ludwig\, Joe Pomarico\, William Randazzo\, and Maria Spector—to explore the power of storytelling in shaping culture and identity. Rooted in mythology\, this exhibition delves into how narratives connect individuals to society\, guiding us through life’s transitions and shared traditions. Experience the profound impact of myth through art. \nExhibition dates: Saturday\, February 15 – April 19\, 2025\nReception: February 15 from 5:00 – 7:00 PM\nAddress: 20 Terry Street\, Suite 116\, Patchogue\, NY\, 11772\nGallery Hours: · Thursday & Friday: 2:00 – 7:00 PM/Saturday & Sunday: 1:00 – 5:00 PM
URL:https://www.huntingtonarts.org/event/mythos-at-moca-li-museum-of-contemporary-art-curated-by-john-cino-patchogue-arts-council/
LOCATION:Patchogue Arts Council\, 	20 Terry Street\, Ste. 116\, Patchogue\, NY\,  11772\, United States
CATEGORIES:Exhibitions
ATTACH;FMTTYPE=image/jpeg:https://www.huntingtonarts.org/wp-content/uploads/2025/02/Mythos_Maria-scaled.jpg
GEO:40.7643648;-73.0127882
X-APPLE-STRUCTURED-LOCATION;VALUE=URI;X-ADDRESS=Patchogue Arts Council 	20 Terry Street Ste. 116 Patchogue NY  11772 United States;X-APPLE-RADIUS=500;X-TITLE=20 Terry Street\, Ste. 116:geo:-73.0127882,40.7643648
END:VEVENT
BEGIN:VEVENT
DTSTART;TZID=America/New_York:20231005T180000
DTEND;TZID=America/New_York:20231009T230000
DTSTAMP:20260422T131651
CREATED:20230912T184857Z
LAST-MODIFIED:20230913T051323Z
UID:10006476-1696528800-1696892400@www.huntingtonarts.org
SUMMARY:Pamela Waldroup Photograph Projected in "LIGHTS on MoCA L.I. Exhibit"
DESCRIPTION:Pamela Waldroup will have one of her photographs projected on the tall PAC MoCA building. LIGHTS ON MoCA L.I. is a rotating series of works curated from an international open call. This Patchogue Arts Council-Museum of Contemporary Art L.I. exhibit will take place during the peak of MoCA L.I.ghts activities\, October 5 – 9\, 2023\, each night from 6-11pm.\n• Patchogue Art Council\, INC.\, PAC MoCA Gallery\, 20 Terry Street\, Patchogue\, NY 11772 * 631-627-8686
URL:https://www.huntingtonarts.org/event/pamela-waldroup-photograph-projected-onto-pac-moca-building/
LOCATION:Patchogue Arts Council\, 	20 Terry Street\, Ste. 116\, Patchogue\, NY\,  11772\, United States
CATEGORIES:Exhibitions
ATTACH;FMTTYPE=image/jpeg:https://www.huntingtonarts.org/wp-content/uploads/2023/09/Waldroup-Pamela_Tractor-Engine-Beauty.jpg
GEO:40.7643648;-73.0127882
X-APPLE-STRUCTURED-LOCATION;VALUE=URI;X-ADDRESS=Patchogue Arts Council 	20 Terry Street Ste. 116 Patchogue NY  11772 United States;X-APPLE-RADIUS=500;X-TITLE=20 Terry Street\, Ste. 116:geo:-73.0127882,40.7643648
END:VEVENT
END:VCALENDAR