BEGIN:VCALENDAR
VERSION:2.0
PRODID:-//Huntington Arts Council - ECPv6.15.20//NONSGML v1.0//EN
CALSCALE:GREGORIAN
METHOD:PUBLISH
X-WR-CALNAME:Huntington Arts Council
X-ORIGINAL-URL:https://www.huntingtonarts.org
X-WR-CALDESC:Events for Huntington Arts Council
REFRESH-INTERVAL;VALUE=DURATION:PT1H
X-Robots-Tag:noindex
X-PUBLISHED-TTL:PT1H
BEGIN:VTIMEZONE
TZID:America/New_York
BEGIN:DAYLIGHT
TZOFFSETFROM:-0500
TZOFFSETTO:-0400
TZNAME:EDT
DTSTART:20220313T070000
END:DAYLIGHT
BEGIN:STANDARD
TZOFFSETFROM:-0400
TZOFFSETTO:-0500
TZNAME:EST
DTSTART:20221106T060000
END:STANDARD
BEGIN:DAYLIGHT
TZOFFSETFROM:-0500
TZOFFSETTO:-0400
TZNAME:EDT
DTSTART:20230312T070000
END:DAYLIGHT
BEGIN:STANDARD
TZOFFSETFROM:-0400
TZOFFSETTO:-0500
TZNAME:EST
DTSTART:20231105T060000
END:STANDARD
BEGIN:DAYLIGHT
TZOFFSETFROM:-0500
TZOFFSETTO:-0400
TZNAME:EDT
DTSTART:20240310T070000
END:DAYLIGHT
BEGIN:STANDARD
TZOFFSETFROM:-0400
TZOFFSETTO:-0500
TZNAME:EST
DTSTART:20241103T060000
END:STANDARD
END:VTIMEZONE
BEGIN:VEVENT
DTSTART;TZID=America/New_York:20230929T110000
DTEND;TZID=America/New_York:20230929T130000
DTSTAMP:20260422T115712
CREATED:20230707T140531Z
LAST-MODIFIED:20230707T140531Z
UID:10005994-1695985200-1695992400@www.huntingtonarts.org
SUMMARY:Suburban Art League’s Free Art Demo
DESCRIPTION:Join us as we watch Robert Zeller do a demo for us . This final event will close our 4 month Summer Exhibit at the Oyster Bay Historical Society. Address is 20 Summit St.\, Oyster Bay. Light refreshments served.
URL:https://www.huntingtonarts.org/event/suburban-art-leagues-free-art-demo/
LOCATION:Oyster Bay Historical Society\, 20 Summit St\, Oyster Bay\, 11771\, United States
CATEGORIES:Art Demo
ATTACH;FMTTYPE=image/png:https://www.huntingtonarts.org/wp-content/uploads/2023/06/SAL-logo-orig-small-1.png
ORGANIZER;CN="Suburban Art League":MAILTO:tomandtony@msn.com
END:VEVENT
BEGIN:VEVENT
DTSTART;VALUE=DATE:20230601
DTEND;VALUE=DATE:20231001
DTSTAMP:20260422T115712
CREATED:20221125T212930Z
LAST-MODIFIED:20230910T042001Z
UID:10004803-1685577600-1696118399@www.huntingtonarts.org
SUMMARY:Suburban Art League Open Judged Exhibit AND ART SALE
DESCRIPTION:Join our 4 month long (June 1 – Sept. 30 ) open art sale exhibit and various monthly activities connecting the past present and future. An historical narrative June 27 at 6 pm by OBHS Executive Director\, Janice Evans Sheppard\, a Reenactor Presentation Aug. 12 at 1pm by Patrick Falci (Rough Rider as Captain Morgan)\, an Awards Ceremony June 17 at 2:30 pm\, and Robert Zeller who do a demo for us. Sept. 29 at 11. Some events may have entry fees. Check our website for registration\, event details and entry fees if not free. ALL ARTISTS WITH AN ENTRY IN EXHIBIT HAS THISE OBHS SAL EXHIBIT EVENT FEES WAIVED
URL:https://www.huntingtonarts.org/event/suburban-art-league-open-judged-exhibit/
LOCATION:United States
CATEGORIES:Exhibitions
ATTACH;FMTTYPE=image/png:https://www.huntingtonarts.org/wp-content/uploads/2022/11/SAL-logo-orig-small.png
ORGANIZER;CN="Suburban Art League":MAILTO:tomandtony@msn.com
END:VEVENT
END:VCALENDAR