BEGIN:VCALENDAR
VERSION:2.0
PRODID:-//Huntington Arts Council - ECPv6.15.20//NONSGML v1.0//EN
CALSCALE:GREGORIAN
METHOD:PUBLISH
X-WR-CALNAME:Huntington Arts Council
X-ORIGINAL-URL:https://www.huntingtonarts.org
X-WR-CALDESC:Events for Huntington Arts Council
REFRESH-INTERVAL;VALUE=DURATION:PT1H
X-Robots-Tag:noindex
X-PUBLISHED-TTL:PT1H
BEGIN:VTIMEZONE
TZID:America/New_York
BEGIN:DAYLIGHT
TZOFFSETFROM:-0500
TZOFFSETTO:-0400
TZNAME:EDT
DTSTART:20230312T070000
END:DAYLIGHT
BEGIN:STANDARD
TZOFFSETFROM:-0400
TZOFFSETTO:-0500
TZNAME:EST
DTSTART:20231105T060000
END:STANDARD
BEGIN:DAYLIGHT
TZOFFSETFROM:-0500
TZOFFSETTO:-0400
TZNAME:EDT
DTSTART:20240310T070000
END:DAYLIGHT
BEGIN:STANDARD
TZOFFSETFROM:-0400
TZOFFSETTO:-0500
TZNAME:EST
DTSTART:20241103T060000
END:STANDARD
BEGIN:DAYLIGHT
TZOFFSETFROM:-0500
TZOFFSETTO:-0400
TZNAME:EDT
DTSTART:20250309T070000
END:DAYLIGHT
BEGIN:STANDARD
TZOFFSETFROM:-0400
TZOFFSETTO:-0500
TZNAME:EST
DTSTART:20251102T060000
END:STANDARD
END:VTIMEZONE
BEGIN:VEVENT
DTSTART;TZID=America/New_York:20240801T203000
DTEND;TZID=America/New_York:20240801T213000
DTSTAMP:20260423T000949
CREATED:20240510T142825Z
LAST-MODIFIED:20240510T142825Z
UID:10013084-1722544200-1722547800@www.huntingtonarts.org
SUMMARY:Northport Community Band presents “Cannons and Kids”
DESCRIPTION:“Cannons and Kids” – Director Don Sherman and a surprise guest conductor wind up the 66th season of free concerts with a spotlight on youth: young musicians from the Northport Schools’ SMartSummer music program present their final concert on the Krueger Bandstand earlier in the evening\, and some will join the Community Band in one selection! A raffle winner from our “Bring a Can to the Concert” food donation campaign will conduct Sousa’s “Stars and Stripes Forever”\, and the traditional Tchaikovsky “1812 Overture” with cannon will be another unforgettable finale.
URL:https://www.huntingtonarts.org/event/northport-community-band-presents-cannons-and-kids/
LOCATION:Northport Village Park\, End of Main Street\, Northport\, NY\, 11768\, United States
CATEGORIES:Children and Family,Music
ATTACH;FMTTYPE=image/jpeg:https://www.huntingtonarts.org/wp-content/uploads/2024/05/NCB-24-Image-4.jpg
ORGANIZER;CN="Northport Community Band":MAILTO:ncb1959@gmail.com
GEO:40.9019436;-73.3409802
X-APPLE-STRUCTURED-LOCATION;VALUE=URI;X-ADDRESS=Northport Village Park End of Main Street Northport NY 11768 United States;X-APPLE-RADIUS=500;X-TITLE=End of Main Street:geo:-73.3409802,40.9019436
END:VEVENT
BEGIN:VEVENT
DTSTART;TZID=America/New_York:20240725T203000
DTEND;TZID=America/New_York:20240725T213000
DTSTAMP:20260423T000949
CREATED:20240510T142555Z
LAST-MODIFIED:20240510T142555Z
UID:10013083-1721939400-1721943000@www.huntingtonarts.org
SUMMARY:Northport Community Band presents “Blues in the Night”
DESCRIPTION:“Blues in the Night” – Director Don Sherman and Guest Conductor Vickie Henson of the Huntington Community Band present a jazzy evening of classics and pops. The Northport Community Jazz Orchestra presents a pre-concert set at 7:45.
URL:https://www.huntingtonarts.org/event/northport-community-band-presents-blues-in-the-night/
LOCATION:Northport Village Park\, End of Main Street\, Northport\, NY\, 11768\, United States
CATEGORIES:Children and Family,Music
ATTACH;FMTTYPE=image/jpeg:https://www.huntingtonarts.org/wp-content/uploads/2024/05/NCB-24-Image-3.jpg
ORGANIZER;CN="Northport Community Band":MAILTO:ncb1959@gmail.com
GEO:40.9019436;-73.3409802
X-APPLE-STRUCTURED-LOCATION;VALUE=URI;X-ADDRESS=Northport Village Park End of Main Street Northport NY 11768 United States;X-APPLE-RADIUS=500;X-TITLE=End of Main Street:geo:-73.3409802,40.9019436
END:VEVENT
BEGIN:VEVENT
DTSTART;TZID=America/New_York:20240718T203000
DTEND;TZID=America/New_York:20240718T213000
DTSTAMP:20260423T000949
CREATED:20240510T141819Z
LAST-MODIFIED:20240510T141819Z
UID:10013082-1721334600-1721338200@www.huntingtonarts.org
SUMMARY:Northport Community Band presents “Long Ago and Far Away”
DESCRIPTION:“Long Ago and Far Away” – Director Don Sherman and a surprise guest conductor will welcome the Northport Chorale in another free concert of classics and pops featuring songs and stories in concert band form by the harbor’s edge. The Chorale\, led by Matthew Ho\, will perform with the band AND present a pre-concert set at 7:45.
URL:https://www.huntingtonarts.org/event/northport-community-band-presents-long-ago-and-far-away/
LOCATION:Northport Village Park\, End of Main Street\, Northport\, NY\, 11768\, United States
CATEGORIES:Children and Family,Music
ATTACH;FMTTYPE=image/jpeg:https://www.huntingtonarts.org/wp-content/uploads/2024/05/NCB-24-Image-2.jpg
ORGANIZER;CN="Northport Community Band":MAILTO:ncb1959@gmail.com
GEO:40.9019436;-73.3409802
X-APPLE-STRUCTURED-LOCATION;VALUE=URI;X-ADDRESS=Northport Village Park End of Main Street Northport NY 11768 United States;X-APPLE-RADIUS=500;X-TITLE=End of Main Street:geo:-73.3409802,40.9019436
END:VEVENT
BEGIN:VEVENT
DTSTART;TZID=America/New_York:20240711T203000
DTEND;TZID=America/New_York:20240711T213000
DTSTAMP:20260423T000949
CREATED:20240510T141647Z
LAST-MODIFIED:20240510T141647Z
UID:10013081-1720729800-1720733400@www.huntingtonarts.org
SUMMARY:Northport Community Band presents “Comedy Tonight”
DESCRIPTION:“Comedy Tonight” – Director Don Sherman and Guest Conductor Eric Mahl of the Northport Symphony Orchestra present another free concert of classics and pops featuring comedy in music\, including tributes to Spike Jones and PDQ Bach.
URL:https://www.huntingtonarts.org/event/northport-community-band-presents-comedy-tonight/
LOCATION:Northport Village Park\, End of Main Street\, Northport\, NY\, 11768\, United States
CATEGORIES:Children and Family,Music
ATTACH;FMTTYPE=image/jpeg:https://www.huntingtonarts.org/wp-content/uploads/2024/05/NCB-24-Image-1.jpg
ORGANIZER;CN="Northport Community Band":MAILTO:ncb1959@gmail.com
GEO:40.9019436;-73.3409802
X-APPLE-STRUCTURED-LOCATION;VALUE=URI;X-ADDRESS=Northport Village Park End of Main Street Northport NY 11768 United States;X-APPLE-RADIUS=500;X-TITLE=End of Main Street:geo:-73.3409802,40.9019436
END:VEVENT
BEGIN:VEVENT
DTSTART;TZID=America/New_York:20240704T203000
DTEND;TZID=America/New_York:20240704T213000
DTSTAMP:20260423T000949
CREATED:20240510T161752Z
LAST-MODIFIED:20240510T161752Z
UID:10013085-1720125000-1720128600@www.huntingtonarts.org
SUMMARY:Northport Community Band presents "Families and Flags on the Fourth!"
DESCRIPTION:“Families and Flags on the Fourth!” Free concert of classics and pops performed by the Northport Community Band with Director Don Sherman\, Guest Conductor Helen Bauer of the Northwinds Concert Band\, soloists and surprises. Sousa\, Armed Forces Salute\, patriotic favorites and more.
URL:https://www.huntingtonarts.org/event/northport-community-band-presents-families-and-flags-on-the-fourth/
LOCATION:Northport Village Park\, End of Main Street\, Northport\, NY\, 11768\, United States
CATEGORIES:Children and Family,Music
ATTACH;FMTTYPE=image/jpeg:https://www.huntingtonarts.org/wp-content/uploads/2024/05/NCB-24-Image-5.jpg
ORGANIZER;CN="Northport Community Band":MAILTO:ncb1959@gmail.com
GEO:40.9019436;-73.3409802
X-APPLE-STRUCTURED-LOCATION;VALUE=URI;X-ADDRESS=Northport Village Park End of Main Street Northport NY 11768 United States;X-APPLE-RADIUS=500;X-TITLE=End of Main Street:geo:-73.3409802,40.9019436
END:VEVENT
END:VCALENDAR