BEGIN:VCALENDAR
VERSION:2.0
PRODID:-//Huntington Arts Council - ECPv6.15.20//NONSGML v1.0//EN
CALSCALE:GREGORIAN
METHOD:PUBLISH
X-WR-CALNAME:Huntington Arts Council
X-ORIGINAL-URL:https://www.huntingtonarts.org
X-WR-CALDESC:Events for Huntington Arts Council
REFRESH-INTERVAL;VALUE=DURATION:PT1H
X-Robots-Tag:noindex
X-PUBLISHED-TTL:PT1H
BEGIN:VTIMEZONE
TZID:America/New_York
BEGIN:DAYLIGHT
TZOFFSETFROM:-0500
TZOFFSETTO:-0400
TZNAME:EDT
DTSTART:20220313T070000
END:DAYLIGHT
BEGIN:STANDARD
TZOFFSETFROM:-0400
TZOFFSETTO:-0500
TZNAME:EST
DTSTART:20221106T060000
END:STANDARD
BEGIN:DAYLIGHT
TZOFFSETFROM:-0500
TZOFFSETTO:-0400
TZNAME:EDT
DTSTART:20230312T070000
END:DAYLIGHT
BEGIN:STANDARD
TZOFFSETFROM:-0400
TZOFFSETTO:-0500
TZNAME:EST
DTSTART:20231105T060000
END:STANDARD
BEGIN:DAYLIGHT
TZOFFSETFROM:-0500
TZOFFSETTO:-0400
TZNAME:EDT
DTSTART:20240310T070000
END:DAYLIGHT
BEGIN:STANDARD
TZOFFSETFROM:-0400
TZOFFSETTO:-0500
TZNAME:EST
DTSTART:20241103T060000
END:STANDARD
END:VTIMEZONE
BEGIN:VEVENT
DTSTART;TZID=America/New_York:20230519T200000
DTEND;TZID=America/New_York:20230519T223000
DTSTAMP:20260422T150406
CREATED:20230119T195102Z
LAST-MODIFIED:20230613T115848Z
UID:10005975-1684526400-1684535400@www.huntingtonarts.org
SUMMARY:Northport Chorale Spring Concert
DESCRIPTION:The Northport Chorale presents a fanciful\, dream-filled concert woven with silken melodies and the gently flowing harmonies of Lauridsen\, Whitacre\, and Rutter\, among others. Robert Frost set to music. Plus the added joy and exuberance of an appearance by the Northport Community Band. Come spend an evening celebrating the year’s most vibrant season – Spring! with the Northport Chorale
URL:https://www.huntingtonarts.org/event/northport-chorale-spring-concert-2/
LOCATION:Northport Middle School\, 11 Middleville Rd.\, Northport\, NY\, 11768\, United States
CATEGORIES:Music
ATTACH;FMTTYPE=image/png:https://www.huntingtonarts.org/wp-content/uploads/2022/06/Screen-Shot-2022-06-03-at-2.01.45-PM.png
GEO:40.9000826;-73.3202909
X-APPLE-STRUCTURED-LOCATION;VALUE=URI;X-ADDRESS=Northport Middle School 11 Middleville Rd. Northport NY 11768 United States;X-APPLE-RADIUS=500;X-TITLE=11 Middleville Rd.:geo:-73.3202909,40.9000826
END:VEVENT
END:VCALENDAR