BEGIN:VCALENDAR
VERSION:2.0
PRODID:-//Huntington Arts Council - ECPv6.15.20//NONSGML v1.0//EN
CALSCALE:GREGORIAN
METHOD:PUBLISH
X-WR-CALNAME:Huntington Arts Council
X-ORIGINAL-URL:https://www.huntingtonarts.org
X-WR-CALDESC:Events for Huntington Arts Council
REFRESH-INTERVAL;VALUE=DURATION:PT1H
X-Robots-Tag:noindex
X-PUBLISHED-TTL:PT1H
BEGIN:VTIMEZONE
TZID:America/New_York
BEGIN:DAYLIGHT
TZOFFSETFROM:-0500
TZOFFSETTO:-0400
TZNAME:EDT
DTSTART:20250309T070000
END:DAYLIGHT
BEGIN:STANDARD
TZOFFSETFROM:-0400
TZOFFSETTO:-0500
TZNAME:EST
DTSTART:20251102T060000
END:STANDARD
BEGIN:DAYLIGHT
TZOFFSETFROM:-0500
TZOFFSETTO:-0400
TZNAME:EDT
DTSTART:20260308T070000
END:DAYLIGHT
BEGIN:STANDARD
TZOFFSETFROM:-0400
TZOFFSETTO:-0500
TZNAME:EST
DTSTART:20261101T060000
END:STANDARD
BEGIN:DAYLIGHT
TZOFFSETFROM:-0500
TZOFFSETTO:-0400
TZNAME:EDT
DTSTART:20270314T070000
END:DAYLIGHT
BEGIN:STANDARD
TZOFFSETFROM:-0400
TZOFFSETTO:-0500
TZNAME:EST
DTSTART:20271107T060000
END:STANDARD
END:VTIMEZONE
BEGIN:VEVENT
DTSTART;TZID=America/New_York:20260208T140000
DTEND;TZID=America/New_York:20260208T150000
DTSTAMP:20260421T212025
CREATED:20260128T163414Z
LAST-MODIFIED:20260128T163414Z
UID:10022183-1770559200-1770562800@www.huntingtonarts.org
SUMMARY:Serenade Duo presents Concert & Conversation
DESCRIPTION:Flute & Guitar Global Chamber Music: Heritage\, Humanity\, and Hope \nShare a musical afternoon with the award-winning Serenade Duo\, flutist Michelle LaPorte and guitarist Gerry Saulter. Experience cross-cultural stories and find strength\, comfort\, and inspiration through contemporary flute and guitar repertoire. Featuring composers from Cuba\, Argentina\, Spain\, France\, and Puerto Rico. \nPlease register to attend this FREE program.\nhttps://northshorepl.librarycalendar.com/event/test-concert-conversation-serenade-duo-309\nwww.serenadeduo
URL:https://www.huntingtonarts.org/event/serenade-duo-presents-concert-conversation-3/
LOCATION:North Shore Public Library\, 250 Route 25A\, Shoreham\, NY\, 11786\, United States
CATEGORIES:Music
ATTACH;FMTTYPE=image/png:https://www.huntingtonarts.org/wp-content/uploads/2026/01/2026.png
ORGANIZER;CN="Serenade Duo":MAILTO:serenadeduo@gmail.com
GEO:40.9448665;-72.8810973
X-APPLE-STRUCTURED-LOCATION;VALUE=URI;X-ADDRESS=North Shore Public Library 250 Route 25A Shoreham NY 11786 United States;X-APPLE-RADIUS=500;X-TITLE=250 Route 25A:geo:-72.8810973,40.9448665
END:VEVENT
END:VCALENDAR