BEGIN:VCALENDAR
VERSION:2.0
PRODID:-//Huntington Arts Council - ECPv6.15.20//NONSGML v1.0//EN
CALSCALE:GREGORIAN
METHOD:PUBLISH
X-ORIGINAL-URL:https://www.huntingtonarts.org
X-WR-CALDESC:Events for Huntington Arts Council
REFRESH-INTERVAL;VALUE=DURATION:PT1H
X-Robots-Tag:noindex
X-PUBLISHED-TTL:PT1H
BEGIN:VTIMEZONE
TZID:America/New_York
BEGIN:DAYLIGHT
TZOFFSETFROM:-0500
TZOFFSETTO:-0400
TZNAME:EDT
DTSTART:20250309T070000
END:DAYLIGHT
BEGIN:STANDARD
TZOFFSETFROM:-0400
TZOFFSETTO:-0500
TZNAME:EST
DTSTART:20251102T060000
END:STANDARD
BEGIN:DAYLIGHT
TZOFFSETFROM:-0500
TZOFFSETTO:-0400
TZNAME:EDT
DTSTART:20260308T070000
END:DAYLIGHT
BEGIN:STANDARD
TZOFFSETFROM:-0400
TZOFFSETTO:-0500
TZNAME:EST
DTSTART:20261101T060000
END:STANDARD
BEGIN:DAYLIGHT
TZOFFSETFROM:-0500
TZOFFSETTO:-0400
TZNAME:EDT
DTSTART:20270314T070000
END:DAYLIGHT
BEGIN:STANDARD
TZOFFSETFROM:-0400
TZOFFSETTO:-0500
TZNAME:EST
DTSTART:20271107T060000
END:STANDARD
END:VTIMEZONE
BEGIN:VEVENT
DTSTART;TZID=America/New_York:20260507T180000
DTEND;TZID=America/New_York:20260507T203000
DTSTAMP:20260422T180151
CREATED:20260316T190313Z
LAST-MODIFIED:20260316T190313Z
UID:10022830-1778176800-1778185800@www.huntingtonarts.org
SUMMARY:The Long Island Fine Art Invitational
DESCRIPTION:The Long Island Fine Art Invitational is a juried exhibition\, showcasing award-winning artists from prominent Long Island art leagues along with outstanding independently selected artists. This inaugural exhibition celebrates the depth of fine art across the region. The event includes an Awards Reception recognizing excellence in multiple fine art categories and offers collectors and the public the chance to experience some of Long Island’s most notable artistic talent. A potion of the sales and proceeds will go to Long Island Cares\, inc
URL:https://www.huntingtonarts.org/event/the-long-island-fine-art-invitational/
LOCATION:Matinecock National Association Community Room\,\, 170 Buckram Road\, Locust Valley\, 11560\, United States
CATEGORIES:Exhibitions
ATTACH;FMTTYPE=image/jpeg:https://www.huntingtonarts.org/wp-content/uploads/2026/03/ChatGPT-Image-Feb-18-2026-at-10_55_48-AM.jpeg
ORGANIZER;CN="Marilou Arcuri":MAILTO:marilouarcuri@gmail.com
END:VEVENT
END:VCALENDAR