BEGIN:VCALENDAR
VERSION:2.0
PRODID:-//Huntington Arts Council - ECPv6.15.20//NONSGML v1.0//EN
CALSCALE:GREGORIAN
METHOD:PUBLISH
X-ORIGINAL-URL:https://www.huntingtonarts.org
X-WR-CALDESC:Events for Huntington Arts Council
REFRESH-INTERVAL;VALUE=DURATION:PT1H
X-Robots-Tag:noindex
X-PUBLISHED-TTL:PT1H
BEGIN:VTIMEZONE
TZID:America/New_York
BEGIN:DAYLIGHT
TZOFFSETFROM:-0500
TZOFFSETTO:-0400
TZNAME:EDT
DTSTART:20230312T070000
END:DAYLIGHT
BEGIN:STANDARD
TZOFFSETFROM:-0400
TZOFFSETTO:-0500
TZNAME:EST
DTSTART:20231105T060000
END:STANDARD
BEGIN:DAYLIGHT
TZOFFSETFROM:-0500
TZOFFSETTO:-0400
TZNAME:EDT
DTSTART:20240310T070000
END:DAYLIGHT
BEGIN:STANDARD
TZOFFSETFROM:-0400
TZOFFSETTO:-0500
TZNAME:EST
DTSTART:20241103T060000
END:STANDARD
BEGIN:DAYLIGHT
TZOFFSETFROM:-0500
TZOFFSETTO:-0400
TZNAME:EDT
DTSTART:20250309T070000
END:DAYLIGHT
BEGIN:STANDARD
TZOFFSETFROM:-0400
TZOFFSETTO:-0500
TZNAME:EST
DTSTART:20251102T060000
END:STANDARD
END:VTIMEZONE
BEGIN:VEVENT
DTSTART;TZID=America/New_York:20240501T093000
DTEND;TZID=America/New_York:20240531T200000
DTSTAMP:20260421T231032
CREATED:20240122T143854Z
LAST-MODIFIED:20240122T180323Z
UID:10009609-1714555800-1717185600@www.huntingtonarts.org
SUMMARY:Suburban Art Leagues Art Exhibit and Sale
DESCRIPTION:Join Suburban Art League’s Open art exhibit at the Levittown Public Library\, throughout the month of May\, where over 60 pieces of art will be on display. Most of which are for sale. Email us at suburbanartleague@gmail.com or ask the librarian for the price list if you are interested in purchasing a piece on display. Join us for our opening day reception and award ceremony (including light refreshments) on May 18th from 1-3PM where critiques will be given by a professional judge to those pieces winning an award\, cash or other prizes. \nIf you see this before April 17\, and  would like to participate as an artist displaying your work\, please visit our website for a registration form which must be recieved online or vial USPS by April 17\, 2024. More information is published on our site https://www.suburbanartleague.com/art-exhibitions.html
URL:https://www.huntingtonarts.org/event/suburban-art-leagues-art-exhibit-and-sale/
LOCATION:Levittown Library\, 1 Bluegrass Lane\, Levittown\, 11756\, United States
CATEGORIES:Exhibitions
ATTACH;FMTTYPE=image/png:https://www.huntingtonarts.org/wp-content/uploads/2024/01/SAL-logo-25-percent.png
ORGANIZER;CN="SAL-Suburban Art League":MAILTO:Suburbanartleague@gmail.com
END:VEVENT
END:VCALENDAR