BEGIN:VCALENDAR
VERSION:2.0
PRODID:-//Huntington Arts Council - ECPv6.15.20//NONSGML v1.0//EN
CALSCALE:GREGORIAN
METHOD:PUBLISH
X-ORIGINAL-URL:https://www.huntingtonarts.org
X-WR-CALDESC:Events for Huntington Arts Council
REFRESH-INTERVAL;VALUE=DURATION:PT1H
X-Robots-Tag:noindex
X-PUBLISHED-TTL:PT1H
BEGIN:VTIMEZONE
TZID:America/New_York
BEGIN:DAYLIGHT
TZOFFSETFROM:-0500
TZOFFSETTO:-0400
TZNAME:EDT
DTSTART:20230312T070000
END:DAYLIGHT
BEGIN:STANDARD
TZOFFSETFROM:-0400
TZOFFSETTO:-0500
TZNAME:EST
DTSTART:20231105T060000
END:STANDARD
BEGIN:DAYLIGHT
TZOFFSETFROM:-0500
TZOFFSETTO:-0400
TZNAME:EDT
DTSTART:20240310T070000
END:DAYLIGHT
BEGIN:STANDARD
TZOFFSETFROM:-0400
TZOFFSETTO:-0500
TZNAME:EST
DTSTART:20241103T060000
END:STANDARD
BEGIN:DAYLIGHT
TZOFFSETFROM:-0500
TZOFFSETTO:-0400
TZNAME:EDT
DTSTART:20250309T070000
END:DAYLIGHT
BEGIN:STANDARD
TZOFFSETFROM:-0400
TZOFFSETTO:-0500
TZNAME:EST
DTSTART:20251102T060000
END:STANDARD
END:VTIMEZONE
BEGIN:VEVENT
DTSTART;TZID=America/New_York:20240518T130000
DTEND;TZID=America/New_York:20240518T150000
DTSTAMP:20260422T003640
CREATED:20240122T150939Z
LAST-MODIFIED:20240130T193248Z
UID:10010142-1716037200-1716044400@www.huntingtonarts.org
SUMMARY:Suburban Art League’s Exhibit Awards & Critiques Ceremony
DESCRIPTION:Join Suburban Art League’s Open Art Exhibit Awards Reception downstairs (elevator available and direct access with no stairs if you park on the street near the side door) at the Levittown Public Library where over 60 pieces of art will be on display. Most of which are for sale. Email suburbanartleague@gmail.com or ask the librarian for the price list if you are interested in purchasing a piece on display. Join us for our art reception and award ceremony (including light refreshments) on May 18 from 1-3PM where critiques will be given by a professional judge to those pieces winning an award\, cash or other prizes.
URL:https://www.huntingtonarts.org/event/suburban-art-leagues-exhibit-awards-critiques-ceremony/
LOCATION:Levitown Public Library\, 1 Bluegrass Lane\, Levittown\, 11756\, United States
CATEGORIES:Exhibitions
ATTACH;FMTTYPE=image/png:https://www.huntingtonarts.org/wp-content/uploads/2024/01/SAL-logo-25-percent-25.png
ORGANIZER;CN="SAL-Suburban Art League":MAILTO:Suburbanartleague@gmail.com
END:VEVENT
END:VCALENDAR