BEGIN:VCALENDAR
VERSION:2.0
PRODID:-//Huntington Arts Council - ECPv6.15.20//NONSGML v1.0//EN
CALSCALE:GREGORIAN
METHOD:PUBLISH
X-ORIGINAL-URL:https://www.huntingtonarts.org
X-WR-CALDESC:Events for Huntington Arts Council
REFRESH-INTERVAL;VALUE=DURATION:PT1H
X-Robots-Tag:noindex
X-PUBLISHED-TTL:PT1H
BEGIN:VTIMEZONE
TZID:America/New_York
BEGIN:DAYLIGHT
TZOFFSETFROM:-0500
TZOFFSETTO:-0400
TZNAME:EDT
DTSTART:20240310T070000
END:DAYLIGHT
BEGIN:STANDARD
TZOFFSETFROM:-0400
TZOFFSETTO:-0500
TZNAME:EST
DTSTART:20241103T060000
END:STANDARD
BEGIN:DAYLIGHT
TZOFFSETFROM:-0500
TZOFFSETTO:-0400
TZNAME:EDT
DTSTART:20250309T070000
END:DAYLIGHT
BEGIN:STANDARD
TZOFFSETFROM:-0400
TZOFFSETTO:-0500
TZNAME:EST
DTSTART:20251102T060000
END:STANDARD
BEGIN:DAYLIGHT
TZOFFSETFROM:-0500
TZOFFSETTO:-0400
TZNAME:EDT
DTSTART:20260308T070000
END:DAYLIGHT
BEGIN:STANDARD
TZOFFSETFROM:-0400
TZOFFSETTO:-0500
TZNAME:EST
DTSTART:20261101T060000
END:STANDARD
BEGIN:DAYLIGHT
TZOFFSETFROM:-0500
TZOFFSETTO:-0400
TZNAME:EDT
DTSTART:20270314T070000
END:DAYLIGHT
BEGIN:STANDARD
TZOFFSETFROM:-0400
TZOFFSETTO:-0500
TZNAME:EST
DTSTART:20271107T060000
END:STANDARD
END:VTIMEZONE
BEGIN:VEVENT
DTSTART;TZID=America/New_York:20260318T100000
DTEND;TZID=America/New_York:20260319T170000
DTSTAMP:20260421T201547
CREATED:20260107T153554Z
LAST-MODIFIED:20260107T154447Z
UID:10019209-1773828000-1773939600@www.huntingtonarts.org
SUMMARY:Jan Guarino presents Fearless Watercolors Workshop on Amelia Island
DESCRIPTION:This program is a culmination of ideas I have discovered\, techniques I’ve adapted from classes and workshops I have taken ~ it is my desire to interpret a subject matter to render it unique\, fresh and worthy of being a painting. This medium is unique in the fact that it moves on its own which causes many artists to freeze up and begin to try to control the paint. This workshop shows you techniques that will allow you to feel free while holding onto detail\, gain control\, make corrections and have fun. Learn to trust your instincts with color and add contrast and allow blossoms\, drips and splatters to work for you. You will also learn what makes a good photo to paint from to get the very best painting possible. I offer solutions and tools to try these techniques to integrate into your own artwork. Whether a beginner\, someone who has painted in watercolors or more experienced\, everyone can gain knowledge and techniques from this workshop.
URL:https://www.huntingtonarts.org/event/jan-guarino-presents-fearless-watercolors-workshop-on-amelia-island/
LOCATION:Island Art Association\, 18N 2nd Street\, Fernandina Beach\, FL\, United States
CATEGORIES:Art Demo,Workshop Classes
ATTACH;FMTTYPE=image/jpeg:https://www.huntingtonarts.org/wp-content/uploads/2026/01/Key-Sunset-wm.jpg
ORGANIZER;CN="Jan Guarino":MAILTO:jan@janguarinofineart.com
END:VEVENT
BEGIN:VEVENT
DTSTART;TZID=America/New_York:20250227T100000
DTEND;TZID=America/New_York:20250228T150000
DTSTAMP:20260421T201547
CREATED:20250127T221253Z
LAST-MODIFIED:20250127T221253Z
UID:10015247-1740650400-1740754800@www.huntingtonarts.org
SUMMARY:Jan Guarino presents Fearless Watercolors in Amelia Island
DESCRIPTION:I was once you … seeking and searching for teachers\, classes\, workshops\, dvds\, books\, magazines\, on-line sites – anyone\, anywhere to help me find myself in this incredible medium. I wanted to learn whatever I could to advance my art. Sometimes I was elated on what happened in a class\, but mostly it lead to disappointment – BUT there were pearls worthy of holding onto and integrating into my work. \nIt was from that very frustration I created my classes – based on what I needed as a student and didn’t get. I took the very best of these opportunities and created my workshops and classes – with an array of techniques in painting in watercolors and as an instructor as well. \nYou may not know me\, but I know you. As a student I understand what you wish to get from a workshop and as a teacher I know how to deliver it. I welcome you join me on an amazing 2 day workshop that will be filled with the best of the best. It will be tangible and is meant to be adaptable to enhance your own work. \nThis program is a culmination of techniques I’ve discovered and practice in every class and workshop:\n• Basic supply setup\n• Color Wheel – how to use analogous and complimentary colors\n• Learn why you get muddy paintings\n• Color Temperature – light\, warmth\, cool & shadows\n• 2 Magic Ingredients – learn the intelligence of watercolors\n• Soft & Hard Edges – where and why\n• Develop your Impact Area\n• Easy Composition\n• Correction Techniques\n• Embrace Blossoms\, Drips & Splatters . . . and more\nall while painting beautiful male and female cardinals & sailboats with sky\, land and water.
URL:https://www.huntingtonarts.org/event/jan-guarino-presents-fearless-watercolors-in-amelia-island/
LOCATION:Island Art Association\, 18N 2nd Street\, Fernandina Beach\, FL\, United States
CATEGORIES:Workshop Classes
ATTACH;FMTTYPE=image/jpeg:https://www.huntingtonarts.org/wp-content/uploads/2025/01/Lily-Floral-scaled.jpeg
ORGANIZER;CN="Jan Guarinio":MAILTO:jan@janguarinofineart.com
END:VEVENT
END:VCALENDAR