BEGIN:VCALENDAR
VERSION:2.0
PRODID:-//Huntington Arts Council - ECPv6.15.20//NONSGML v1.0//EN
CALSCALE:GREGORIAN
METHOD:PUBLISH
X-ORIGINAL-URL:https://www.huntingtonarts.org
X-WR-CALDESC:Events for Huntington Arts Council
REFRESH-INTERVAL;VALUE=DURATION:PT1H
X-Robots-Tag:noindex
X-PUBLISHED-TTL:PT1H
BEGIN:VTIMEZONE
TZID:America/New_York
BEGIN:DAYLIGHT
TZOFFSETFROM:-0500
TZOFFSETTO:-0400
TZNAME:EDT
DTSTART:20210314T070000
END:DAYLIGHT
BEGIN:STANDARD
TZOFFSETFROM:-0400
TZOFFSETTO:-0500
TZNAME:EST
DTSTART:20211107T060000
END:STANDARD
BEGIN:DAYLIGHT
TZOFFSETFROM:-0500
TZOFFSETTO:-0400
TZNAME:EDT
DTSTART:20220313T070000
END:DAYLIGHT
BEGIN:STANDARD
TZOFFSETFROM:-0400
TZOFFSETTO:-0500
TZNAME:EST
DTSTART:20221106T060000
END:STANDARD
BEGIN:DAYLIGHT
TZOFFSETFROM:-0500
TZOFFSETTO:-0400
TZNAME:EDT
DTSTART:20230312T070000
END:DAYLIGHT
BEGIN:STANDARD
TZOFFSETFROM:-0400
TZOFFSETTO:-0500
TZNAME:EST
DTSTART:20231105T060000
END:STANDARD
BEGIN:DAYLIGHT
TZOFFSETFROM:-0500
TZOFFSETTO:-0400
TZNAME:EDT
DTSTART:20240310T070000
END:DAYLIGHT
BEGIN:STANDARD
TZOFFSETFROM:-0400
TZOFFSETTO:-0500
TZNAME:EST
DTSTART:20241103T060000
END:STANDARD
BEGIN:DAYLIGHT
TZOFFSETFROM:-0500
TZOFFSETTO:-0400
TZNAME:EDT
DTSTART:20250309T070000
END:DAYLIGHT
BEGIN:STANDARD
TZOFFSETFROM:-0400
TZOFFSETTO:-0500
TZNAME:EST
DTSTART:20251102T060000
END:STANDARD
BEGIN:DAYLIGHT
TZOFFSETFROM:-0500
TZOFFSETTO:-0400
TZNAME:EDT
DTSTART:20260308T070000
END:DAYLIGHT
BEGIN:STANDARD
TZOFFSETFROM:-0400
TZOFFSETTO:-0500
TZNAME:EST
DTSTART:20261101T060000
END:STANDARD
BEGIN:DAYLIGHT
TZOFFSETFROM:-0500
TZOFFSETTO:-0400
TZNAME:EDT
DTSTART:20270314T070000
END:DAYLIGHT
BEGIN:STANDARD
TZOFFSETFROM:-0400
TZOFFSETTO:-0500
TZNAME:EST
DTSTART:20271107T060000
END:STANDARD
END:VTIMEZONE
BEGIN:VEVENT
DTSTART;TZID=America/New_York:20260225T150000
DTEND;TZID=America/New_York:20260225T160000
DTSTAMP:20260421T233738
CREATED:20260114T154643Z
LAST-MODIFIED:20260114T154643Z
UID:10019234-1772031600-1772035200@www.huntingtonarts.org
SUMMARY:Harborfields Library presents Impressionism and Post Impressionism: Avant Garde to Modernism
DESCRIPTION:Presented by Dr. Sandra Palmer\nWe see the art of Monet or Van Gogh everywhere from calendars to posters. Discover what makes their colors and textures so captivating in a discussion on the two major 19th-century French art movements and the artists we still admire today. Registration is underway.
URL:https://www.huntingtonarts.org/event/harborfields-library-presents-impressionism-and-post-impressionism-avant-garde-to-modernism/
LOCATION:Harborfields Library\, 31 Broadway\, Greenlawn\, 11740\, United States
CATEGORIES:Lectures
ORGANIZER;CN="Harborfields Public Library Program Department":MAILTO:programs@harborfieldslibrary.org
END:VEVENT
BEGIN:VEVENT
DTSTART;TZID=America/New_York:20220928T190000
DTEND;TZID=America/New_York:20220928T200000
DTSTAMP:20260421T233738
CREATED:20220817T175455Z
LAST-MODIFIED:20220817T175455Z
UID:10005012-1664391600-1664395200@www.huntingtonarts.org
SUMMARY:Harborfields Public Library presents Israel: A Short History
DESCRIPTION:Israel a Short History by Professional photographer Michael Fairchild is a narrated audio-visual documentary created after an extensive Holy Lands tour in 2019. Fulfilling a life-long ambition to document modern and ancient Israel\, Fairchild explored the mystical locations surrounding the Sea of Galilee\, the Western Wall\, the Church of the Holy Sepulcher\, the Masada desert fortress overlooking the Dead Sea\, and the wrecked tanks at the “Valley of Tears” in the Golan Heights. The key locations at the core of Israel’s history are fascinating. Jerusalem\, the same city that conjures hymns and sermons\, has been captured and recaptured 44 times\, besieged 23 times\, and destroyed twice; a brutal legacy for a place of such deep religious significance. The diversity of people from all over the world in Israel also gave Fairchild ample subject matter for reflection and photography.
URL:https://www.huntingtonarts.org/event/harborfields-public-library-presents-israel-a-short-history/
LOCATION:Harborfields Library\, 31 Broadway\, Greenlawn\, 11740\, United States
CATEGORIES:Film/Media,History,Lectures
ATTACH;FMTTYPE=image/jpeg:https://www.huntingtonarts.org/wp-content/uploads/2022/08/Israel-Wall-Men.jpg
ORGANIZER;CN="Harborfields Library Program Office":MAILTO:harblib@suffolk.lib.ny.us
END:VEVENT
END:VCALENDAR