BEGIN:VCALENDAR
VERSION:2.0
PRODID:-//Huntington Arts Council - ECPv6.15.20//NONSGML v1.0//EN
CALSCALE:GREGORIAN
METHOD:PUBLISH
X-WR-CALNAME:Huntington Arts Council
X-ORIGINAL-URL:https://www.huntingtonarts.org
X-WR-CALDESC:Events for Huntington Arts Council
REFRESH-INTERVAL;VALUE=DURATION:PT1H
X-Robots-Tag:noindex
X-PUBLISHED-TTL:PT1H
BEGIN:VTIMEZONE
TZID:America/New_York
BEGIN:DAYLIGHT
TZOFFSETFROM:-0500
TZOFFSETTO:-0400
TZNAME:EDT
DTSTART:20250309T070000
END:DAYLIGHT
BEGIN:STANDARD
TZOFFSETFROM:-0400
TZOFFSETTO:-0500
TZNAME:EST
DTSTART:20251102T060000
END:STANDARD
BEGIN:DAYLIGHT
TZOFFSETFROM:-0500
TZOFFSETTO:-0400
TZNAME:EDT
DTSTART:20260308T070000
END:DAYLIGHT
BEGIN:STANDARD
TZOFFSETFROM:-0400
TZOFFSETTO:-0500
TZNAME:EST
DTSTART:20261101T060000
END:STANDARD
BEGIN:DAYLIGHT
TZOFFSETFROM:-0500
TZOFFSETTO:-0400
TZNAME:EDT
DTSTART:20270314T070000
END:DAYLIGHT
BEGIN:STANDARD
TZOFFSETFROM:-0400
TZOFFSETTO:-0500
TZNAME:EST
DTSTART:20271107T060000
END:STANDARD
END:VTIMEZONE
BEGIN:VEVENT
DTSTART;TZID=America/New_York:20260313T180000
DTEND;TZID=America/New_York:20260313T210000
DTSTAMP:20260421T234319
CREATED:20251208T203739Z
LAST-MODIFIED:20251208T210627Z
UID:10017607-1773424800-1773435600@www.huntingtonarts.org
SUMMARY:Artist Member Jo Wadler presents Rubber Stamping With Enamels at Gallery North
DESCRIPTION:Instructor: Jo Wadler \nFriday\, March 13\, 6:00pm – 9:00pm \n$100 all materials included \nIf you ever wondered\, dreamed or wanted to experiment with vitreous enamels (fine powered glass) and haven’t had the opportunity\, this class is for you. You will learn how to clean and prepare your copper blanks to allow the enamel to adhere to the copper. You will learn how to sift the enamel on your metal blank. We will trouble shoot along the way as you learn how to use rubber stamps to embellish and pattern your copper blanks. Come an explore the many possibilities this art form can create for you. Warning it can be addicting. \nJo Wadler was a featured enamel artist n the September/October 2016 issue of Lapidary Journal Jewelry Artist. She introduced an innovative technique of combing enameling and rubber stamping. With over 20 years of enameling experience\, Jo emphasizes the creative freedom that her method offers\, allowing artists to explore different textures as well as using bought and creating your own stamps to use in a unique way. \n\n 
URL:https://www.huntingtonarts.org/event/artist-member-jo-wadler-presents-rubber-stamping-with-enamels-at-gallery-north/
LOCATION:Gallery North\, 90 North Country Road\, Setauket\, NY\, 11733\, United States
CATEGORIES:Workshop Classes
ATTACH;FMTTYPE=image/jpeg:https://www.huntingtonarts.org/wp-content/uploads/2025/12/image1.jpeg
GEO:40.9331717;-73.1182087
X-APPLE-STRUCTURED-LOCATION;VALUE=URI;X-ADDRESS=Gallery North 90 North Country Road Setauket NY 11733 United States;X-APPLE-RADIUS=500;X-TITLE=90 North Country Road:geo:-73.1182087,40.9331717
END:VEVENT
END:VCALENDAR