BEGIN:VCALENDAR
VERSION:2.0
PRODID:-//Huntington Arts Council - ECPv6.15.20//NONSGML v1.0//EN
CALSCALE:GREGORIAN
METHOD:PUBLISH
X-WR-CALNAME:Huntington Arts Council
X-ORIGINAL-URL:https://www.huntingtonarts.org
X-WR-CALDESC:Events for Huntington Arts Council
REFRESH-INTERVAL;VALUE=DURATION:PT1H
X-Robots-Tag:noindex
X-PUBLISHED-TTL:PT1H
BEGIN:VTIMEZONE
TZID:America/New_York
BEGIN:DAYLIGHT
TZOFFSETFROM:-0500
TZOFFSETTO:-0400
TZNAME:EDT
DTSTART:20220313T070000
END:DAYLIGHT
BEGIN:STANDARD
TZOFFSETFROM:-0400
TZOFFSETTO:-0500
TZNAME:EST
DTSTART:20221106T060000
END:STANDARD
BEGIN:DAYLIGHT
TZOFFSETFROM:-0500
TZOFFSETTO:-0400
TZNAME:EDT
DTSTART:20230312T070000
END:DAYLIGHT
BEGIN:STANDARD
TZOFFSETFROM:-0400
TZOFFSETTO:-0500
TZNAME:EST
DTSTART:20231105T060000
END:STANDARD
BEGIN:DAYLIGHT
TZOFFSETFROM:-0500
TZOFFSETTO:-0400
TZNAME:EDT
DTSTART:20240310T070000
END:DAYLIGHT
BEGIN:STANDARD
TZOFFSETFROM:-0400
TZOFFSETTO:-0500
TZNAME:EST
DTSTART:20241103T060000
END:STANDARD
END:VTIMEZONE
BEGIN:VEVENT
DTSTART;TZID=America/New_York:20230929T193000
DTEND;TZID=America/New_York:20230929T213000
DTSTAMP:20260422T115404
CREATED:20230926T172154Z
LAST-MODIFIED:20230926T172154Z
UID:10006490-1696015800-1696023000@www.huntingtonarts.org
SUMMARY:Babylon Village Arts Council Presents Opera Night Long Island
DESCRIPTION:Babylon Village Arts Council will present Opera Night Long Island on Friday\, September 29 at the First Presbyterian Church located at 79. East Main Street\,Babylon Village. Doors open at 7 pm. Tickets may be purchased at the door. Admission is $10 and free for students with an ID. Consider a donating a non-perishable food item to support the local food pantry. For advance tickets please purchase through Eventbrite. Reception to follow. This event is made possible through Suffolk County Omnibus grant. BVAC is s 501c(3)organization.
URL:https://www.huntingtonarts.org/event/babylon-village-arts-council-presents-opera-night-long-island/
LOCATION:First Presbyterian Church\, 79 East Main Street\, Babylon Village\, 11702\, United States
CATEGORIES:Music
ATTACH;FMTTYPE=image/png:https://www.huntingtonarts.org/wp-content/uploads/2023/09/opera-night-final-23-1.png
ORGANIZER;CN="Babylon Village Arts Council":MAILTO:infobvac@gmail.com
END:VEVENT
END:VCALENDAR