BEGIN:VCALENDAR
VERSION:2.0
PRODID:-//Huntington Arts Council - ECPv6.15.20//NONSGML v1.0//EN
CALSCALE:GREGORIAN
METHOD:PUBLISH
X-WR-CALNAME:Huntington Arts Council
X-ORIGINAL-URL:https://www.huntingtonarts.org
X-WR-CALDESC:Events for Huntington Arts Council
REFRESH-INTERVAL;VALUE=DURATION:PT1H
X-Robots-Tag:noindex
X-PUBLISHED-TTL:PT1H
BEGIN:VTIMEZONE
TZID:America/New_York
BEGIN:DAYLIGHT
TZOFFSETFROM:-0500
TZOFFSETTO:-0400
TZNAME:EDT
DTSTART:20230312T070000
END:DAYLIGHT
BEGIN:STANDARD
TZOFFSETFROM:-0400
TZOFFSETTO:-0500
TZNAME:EST
DTSTART:20231105T060000
END:STANDARD
BEGIN:DAYLIGHT
TZOFFSETFROM:-0500
TZOFFSETTO:-0400
TZNAME:EDT
DTSTART:20240310T070000
END:DAYLIGHT
BEGIN:STANDARD
TZOFFSETFROM:-0400
TZOFFSETTO:-0500
TZNAME:EST
DTSTART:20241103T060000
END:STANDARD
BEGIN:DAYLIGHT
TZOFFSETFROM:-0500
TZOFFSETTO:-0400
TZNAME:EDT
DTSTART:20250309T070000
END:DAYLIGHT
BEGIN:STANDARD
TZOFFSETFROM:-0400
TZOFFSETTO:-0500
TZNAME:EST
DTSTART:20251102T060000
END:STANDARD
END:VTIMEZONE
BEGIN:VEVENT
DTSTART;TZID=America/New_York:20241123T100000
DTEND;TZID=America/New_York:20241123T160000
DTSTAMP:20260422T080615
CREATED:20240925T191344Z
LAST-MODIFIED:20240925T191344Z
UID:10014448-1732356000-1732377600@www.huntingtonarts.org
SUMMARY:Galina Carroll presents Give the Gift of Hand-Knitted Warmth This Holiday Season at Fine Craft Fair
DESCRIPTION:Looking for a truly thoughtful holiday gift? Our collection of hand-knitted accessories is a perfect blend of warmth\, color\, and craftsmanship. From cozy scarves to stylish hats\, every piece is lovingly handmade and designed to bring joy and comfort. Explore our full range of vibrant knits at upcoming art shows or shop conveniently online at www.galinacarroll.com .
URL:https://www.huntingtonarts.org/event/galina-carroll-presents-give-the-gift-of-hand-knitted-warmth-this-holiday-season-at-fine-craft-fair/
LOCATION:Ethical Humanist Society of Long Island\, 38 Old Country Road\, Garden City\, NY\, 11530\, United States
END:VEVENT
END:VCALENDAR