BEGIN:VCALENDAR
VERSION:2.0
PRODID:-//Huntington Arts Council - ECPv6.15.20//NONSGML v1.0//EN
CALSCALE:GREGORIAN
METHOD:PUBLISH
X-ORIGINAL-URL:https://www.huntingtonarts.org
X-WR-CALDESC:Events for Huntington Arts Council
REFRESH-INTERVAL;VALUE=DURATION:PT1H
X-Robots-Tag:noindex
X-PUBLISHED-TTL:PT1H
BEGIN:VTIMEZONE
TZID:America/New_York
BEGIN:DAYLIGHT
TZOFFSETFROM:-0500
TZOFFSETTO:-0400
TZNAME:EDT
DTSTART:20230312T070000
END:DAYLIGHT
BEGIN:STANDARD
TZOFFSETFROM:-0400
TZOFFSETTO:-0500
TZNAME:EST
DTSTART:20231105T060000
END:STANDARD
BEGIN:DAYLIGHT
TZOFFSETFROM:-0500
TZOFFSETTO:-0400
TZNAME:EDT
DTSTART:20240310T070000
END:DAYLIGHT
BEGIN:STANDARD
TZOFFSETFROM:-0400
TZOFFSETTO:-0500
TZNAME:EST
DTSTART:20241103T060000
END:STANDARD
BEGIN:DAYLIGHT
TZOFFSETFROM:-0500
TZOFFSETTO:-0400
TZNAME:EDT
DTSTART:20250309T070000
END:DAYLIGHT
BEGIN:STANDARD
TZOFFSETFROM:-0400
TZOFFSETTO:-0500
TZNAME:EST
DTSTART:20251102T060000
END:STANDARD
BEGIN:DAYLIGHT
TZOFFSETFROM:-0500
TZOFFSETTO:-0400
TZNAME:EDT
DTSTART:20260308T070000
END:DAYLIGHT
BEGIN:STANDARD
TZOFFSETFROM:-0400
TZOFFSETTO:-0500
TZNAME:EST
DTSTART:20261101T060000
END:STANDARD
END:VTIMEZONE
BEGIN:VEVENT
DTSTART;VALUE=DATE:20250127
DTEND;VALUE=DATE:20250211
DTSTAMP:20260422T194323
CREATED:20250129T144412Z
LAST-MODIFIED:20250129T144412Z
UID:10015261-1737936000-1739231999@www.huntingtonarts.org
SUMMARY:The Art Guild presents CALL TO ARTISTS: Noir Et Blanc - a Photography Exhibit
DESCRIPTION:Black and white and monochrome photography often evoke much emotion\, nostalgia\, and narrative. The absence of color helps the viewer see the subject\, the contrasts\, and the important elements of the image without distractions. This call for monochromatic and black and white photography includes both analog or digital formats of image capture and output. A variety of subjects will be considered and include but are not limited to: landscape\, portraiture\, still life\, photojournalism\, architectural\, abstract or alternative processes. \nHigh School students are invited to submit artwork for consideration for this exhibit. \nDEADLINE: Monday\, February 10 \nARTIST’S RECEPTION & AWARDS CEREMONY: Sunday\, March 2\, 3-5:00 pm
URL:https://www.huntingtonarts.org/event/the-art-guild-presents-call-to-artists-noir-et-blanc-a-photography-exhibit/
LOCATION:Elderfields Preserve\, 200 Port Washington Blvd.\, Manhasset\, NY\, 11030\, United States
CATEGORIES:Exhibitions
ATTACH;FMTTYPE=image/jpeg:https://www.huntingtonarts.org/wp-content/uploads/2025/01/Noir-et-Blan-photography-exhibit.jpg
ORGANIZER;CN="the art guild":MAILTO:info@theartguild.org
GEO:40.806824;-73.6707006
X-APPLE-STRUCTURED-LOCATION;VALUE=URI;X-ADDRESS=Elderfields Preserve 200 Port Washington Blvd. Manhasset NY 11030 United States;X-APPLE-RADIUS=500;X-TITLE=200 Port Washington Blvd.:geo:-73.6707006,40.806824
END:VEVENT
BEGIN:VEVENT
DTSTART;VALUE=DATE:20240916
DTEND;VALUE=DATE:20240917
DTSTAMP:20260422T194323
CREATED:20240910T181804Z
LAST-MODIFIED:20240910T181804Z
UID:10014304-1726444800-1726531199@www.huntingtonarts.org
SUMMARY:The Art Guild presents Connections Call to Artists
DESCRIPTION:Connections can represent a broad spectrum of possibilities such as relationships between people\, animals\, inanimate objects or even\nideas. Search your imagination for your unique representation of connections. \nDEADLINE: MONDAY\, SEPTEMBER 16\, 2024 \nARTIST’S RECEPTION & AWARDS CEREMONY: Sunday\, October 6\, 3-5:00 pm \nJUROR: Neill Slaughter
URL:https://www.huntingtonarts.org/event/the-art-guild-presents-connections-call-to-artists/
LOCATION:Elderfields Preserve\, 200 Port Washington Blvd.\, Manhasset\, NY\, 11030\, United States
CATEGORIES:Exhibitions
ATTACH;FMTTYPE=image/jpeg:https://www.huntingtonarts.org/wp-content/uploads/2024/09/photo-connections-exhibit.jpg
ORGANIZER;CN="the art guild":MAILTO:info@theartguild.org
GEO:40.806824;-73.6707006
X-APPLE-STRUCTURED-LOCATION;VALUE=URI;X-ADDRESS=Elderfields Preserve 200 Port Washington Blvd. Manhasset NY 11030 United States;X-APPLE-RADIUS=500;X-TITLE=200 Port Washington Blvd.:geo:-73.6707006,40.806824
END:VEVENT
BEGIN:VEVENT
DTSTART;TZID=America/New_York:20240607T180000
DTEND;TZID=America/New_York:20240607T200000
DTSTAMP:20260422T194323
CREATED:20240522T204740Z
LAST-MODIFIED:20240522T204740Z
UID:10013155-1717783200-1717790400@www.huntingtonarts.org
SUMMARY:The Art Guild presents Member's Showcase
DESCRIPTION:The Art Guild invites you to join us for an outdoor garden reception on Friday\, June 7th 6-8pm! \nAll Art Guild members can submit – deadline is May 31st.
URL:https://www.huntingtonarts.org/event/the-art-guild-presents-members-showcase/
LOCATION:Elderfields Preserve\, 200 Port Washington Blvd.\, Manhasset\, NY\, 11030\, United States
CATEGORIES:Exhibitions
ATTACH;FMTTYPE=image/jpeg:https://www.huntingtonarts.org/wp-content/uploads/2024/05/2024.Members.Showcase.PC_.jpg
ORGANIZER;CN="The Art Guild":MAILTO:info@theartguild.org
GEO:40.806824;-73.6707006
X-APPLE-STRUCTURED-LOCATION;VALUE=URI;X-ADDRESS=Elderfields Preserve 200 Port Washington Blvd. Manhasset NY 11030 United States;X-APPLE-RADIUS=500;X-TITLE=200 Port Washington Blvd.:geo:-73.6707006,40.806824
END:VEVENT
END:VCALENDAR