BEGIN:VCALENDAR
VERSION:2.0
PRODID:-//Huntington Arts Council - ECPv6.15.20//NONSGML v1.0//EN
CALSCALE:GREGORIAN
METHOD:PUBLISH
X-WR-CALNAME:Huntington Arts Council
X-ORIGINAL-URL:https://www.huntingtonarts.org
X-WR-CALDESC:Events for Huntington Arts Council
REFRESH-INTERVAL;VALUE=DURATION:PT1H
X-Robots-Tag:noindex
X-PUBLISHED-TTL:PT1H
BEGIN:VTIMEZONE
TZID:America/New_York
BEGIN:DAYLIGHT
TZOFFSETFROM:-0500
TZOFFSETTO:-0400
TZNAME:EDT
DTSTART:20220313T070000
END:DAYLIGHT
BEGIN:STANDARD
TZOFFSETFROM:-0400
TZOFFSETTO:-0500
TZNAME:EST
DTSTART:20221106T060000
END:STANDARD
BEGIN:DAYLIGHT
TZOFFSETFROM:-0500
TZOFFSETTO:-0400
TZNAME:EDT
DTSTART:20230312T070000
END:DAYLIGHT
BEGIN:STANDARD
TZOFFSETFROM:-0400
TZOFFSETTO:-0500
TZNAME:EST
DTSTART:20231105T060000
END:STANDARD
BEGIN:DAYLIGHT
TZOFFSETFROM:-0500
TZOFFSETTO:-0400
TZNAME:EDT
DTSTART:20240310T070000
END:DAYLIGHT
BEGIN:STANDARD
TZOFFSETFROM:-0400
TZOFFSETTO:-0500
TZNAME:EST
DTSTART:20241103T060000
END:STANDARD
BEGIN:DAYLIGHT
TZOFFSETFROM:-0500
TZOFFSETTO:-0400
TZNAME:EDT
DTSTART:20250309T070000
END:DAYLIGHT
BEGIN:STANDARD
TZOFFSETFROM:-0400
TZOFFSETTO:-0500
TZNAME:EST
DTSTART:20251102T060000
END:STANDARD
END:VTIMEZONE
BEGIN:VEVENT
DTSTART;TZID=America/New_York:20240925T190000
DTEND;TZID=America/New_York:20240925T220000
DTSTAMP:20260422T070651
CREATED:20240507T143436Z
LAST-MODIFIED:20240507T143436Z
UID:10011884-1727290800-1727301600@www.huntingtonarts.org
SUMMARY:NorthShore Original Open Mic (NOOM)
DESCRIPTION:The NorthShore Original Open Mic (NOOM) is co-presented by the Cinema Arts Centre and the Folk Music Society of Huntington (FMSH)\, NOOM\, which has an all-originals format (as its name implies)\, extends from 7-10 p.m. (sign-up @ 6:30 p.m.) in the Cinema’s Sky Room and is co-hosted by Toby Tobias and Richard Parr. A featured artist/act performs a short set beginning around 8:30 p.m. The event is also livestreamed via the Northshore Original Open Mic Facebook group.
URL:https://www.huntingtonarts.org/event/northshore-original-open-mic-noom/2024-09-25/
LOCATION:Cinema Arts Centre\, 423 Park Avenue\, Huntington\, NY\, 11743\, United States
CATEGORIES:Music
ORGANIZER;CN="Folk Music Society of Huntington":MAILTO:info@fmsh.org
GEO:40.873335;-73.415251
X-APPLE-STRUCTURED-LOCATION;VALUE=URI;X-ADDRESS=Cinema Arts Centre 423 Park Avenue Huntington NY 11743 United States;X-APPLE-RADIUS=500;X-TITLE=423 Park Avenue:geo:-73.415251,40.873335
END:VEVENT
BEGIN:VEVENT
DTSTART;TZID=America/New_York:20230118T190000
DTEND;TZID=America/New_York:20230118T220000
DTSTAMP:20260422T070651
CREATED:20220823T151332Z
LAST-MODIFIED:20220823T151332Z
UID:10004812-1674068400-1674079200@www.huntingtonarts.org
SUMMARY:Folk Music Society of Huntington presents Hard Luck Cafe
DESCRIPTION:Monthly concert series co-presented by the Folk Music Society of Huntington and the Cinema Arts Centre in the Cinema’s Sky Room on the third Wednesday of each month. Tonight’s featured artists are LI-based singer-songwriters Nick Russell and Drew Velting. An open mic precedes the concert
URL:https://www.huntingtonarts.org/event/folk-music-society-of-huntington-presents-hard-luck-cafe-5/
LOCATION:Cinema Arts Centre\, 423 Park Avenue\, Huntington\, NY\, 11743\, United States
CATEGORIES:Music
ORGANIZER;CN="Folk Music Society of Huntington":MAILTO:info@fmsh.org
GEO:40.873335;-73.415251
X-APPLE-STRUCTURED-LOCATION;VALUE=URI;X-ADDRESS=Cinema Arts Centre 423 Park Avenue Huntington NY 11743 United States;X-APPLE-RADIUS=500;X-TITLE=423 Park Avenue:geo:-73.415251,40.873335
END:VEVENT
END:VCALENDAR