BEGIN:VCALENDAR
VERSION:2.0
PRODID:-//Huntington Arts Council - ECPv6.15.20//NONSGML v1.0//EN
CALSCALE:GREGORIAN
METHOD:PUBLISH
X-ORIGINAL-URL:https://www.huntingtonarts.org
X-WR-CALDESC:Events for Huntington Arts Council
REFRESH-INTERVAL;VALUE=DURATION:PT1H
X-Robots-Tag:noindex
X-PUBLISHED-TTL:PT1H
BEGIN:VTIMEZONE
TZID:America/New_York
BEGIN:DAYLIGHT
TZOFFSETFROM:-0500
TZOFFSETTO:-0400
TZNAME:EDT
DTSTART:20210314T070000
END:DAYLIGHT
BEGIN:STANDARD
TZOFFSETFROM:-0400
TZOFFSETTO:-0500
TZNAME:EST
DTSTART:20211107T060000
END:STANDARD
BEGIN:DAYLIGHT
TZOFFSETFROM:-0500
TZOFFSETTO:-0400
TZNAME:EDT
DTSTART:20220313T070000
END:DAYLIGHT
BEGIN:STANDARD
TZOFFSETFROM:-0400
TZOFFSETTO:-0500
TZNAME:EST
DTSTART:20221106T060000
END:STANDARD
BEGIN:DAYLIGHT
TZOFFSETFROM:-0500
TZOFFSETTO:-0400
TZNAME:EDT
DTSTART:20230312T070000
END:DAYLIGHT
BEGIN:STANDARD
TZOFFSETFROM:-0400
TZOFFSETTO:-0500
TZNAME:EST
DTSTART:20231105T060000
END:STANDARD
BEGIN:DAYLIGHT
TZOFFSETFROM:-0500
TZOFFSETTO:-0400
TZNAME:EDT
DTSTART:20240310T070000
END:DAYLIGHT
BEGIN:STANDARD
TZOFFSETFROM:-0400
TZOFFSETTO:-0500
TZNAME:EST
DTSTART:20241103T060000
END:STANDARD
BEGIN:DAYLIGHT
TZOFFSETFROM:-0500
TZOFFSETTO:-0400
TZNAME:EDT
DTSTART:20250309T070000
END:DAYLIGHT
BEGIN:STANDARD
TZOFFSETFROM:-0400
TZOFFSETTO:-0500
TZNAME:EST
DTSTART:20251102T060000
END:STANDARD
BEGIN:DAYLIGHT
TZOFFSETFROM:-0500
TZOFFSETTO:-0400
TZNAME:EDT
DTSTART:20260308T070000
END:DAYLIGHT
BEGIN:STANDARD
TZOFFSETFROM:-0400
TZOFFSETTO:-0500
TZNAME:EST
DTSTART:20261101T060000
END:STANDARD
END:VTIMEZONE
BEGIN:VEVENT
DTSTART;TZID=America/New_York:20250428T110000
DTEND;TZID=America/New_York:20250617T170000
DTSTAMP:20260421T222656
CREATED:20240312T154744Z
LAST-MODIFIED:20240312T154744Z
UID:10010641-1745838000-1750179600@www.huntingtonarts.org
SUMMARY:b.j spoke gallery presents Epiphany\, a solo exhibition of new and recent work by Karen L. Kirshner
DESCRIPTION:Karen L. Kirshner is inviting art buyers\, art collectors\, and art aficionados to her solo exhibition during April 2024. New and recent works will be exhibited. The show runs from April 3 to April 28\, 2024. It is available for viewing on Wednesdays through Sundays from 11 AM to 5 PM. Their reception will take place on Saturday\, April 13 at 2 PM to 5 PM.
URL:https://www.huntingtonarts.org/event/b-j-spoke-gallery-presents-epiphany-a-solo-exhibition-of-new-and-recent-work-by-karen-l-kirshner/2025-04-28/
LOCATION:BJ Spoke Gallery\, 299 Main Street\, Huntington\, NY\, United States
CATEGORIES:Exhibitions
ATTACH;FMTTYPE=image/jpeg:https://www.huntingtonarts.org/wp-content/uploads/2024/03/IMG_2512-scaled.jpeg
ORGANIZER;CN="bj spoke gallery":MAILTO:manager@bjspokegallery.com
END:VEVENT
BEGIN:VEVENT
DTSTART;TZID=America/New_York:20241020T140000
DTEND;TZID=America/New_York:20241020T153000
DTSTAMP:20260421T222656
CREATED:20241028T132202Z
LAST-MODIFIED:20241028T132202Z
UID:10014462-1729432800-1729438200@www.huntingtonarts.org
SUMMARY:bj spoke gallery presents Prospective Membership Seminar
DESCRIPTION:Become a member of the b.j. spoke gallery\n299 Main Street\nHuntington\, NY 11743\nwww.bjspokegallery.org \nMembership Seminar\nSunday\, Ocgtober 20\,2024 from 2 to 3pm\nSign-up to make a reservation by calling the gallery at 631 549 5106\nor or online www.bjspokegallery.org
URL:https://www.huntingtonarts.org/event/bj-spoke-gallery-presents-prospective-membership-seminar/
LOCATION:BJ Spoke Gallery\, 299 Main Street\, Huntington\, NY\, United States
CATEGORIES:Miscellaneous
ATTACH;FMTTYPE=image/jpeg:https://www.huntingtonarts.org/wp-content/uploads/2024/10/b.j.-spoke-gallery.jpg
ORGANIZER;CN="bj spoke gallery":MAILTO:manager@bjspokegallery.com
END:VEVENT
BEGIN:VEVENT
DTSTART;TZID=America/New_York:20241001T080000
DTEND;TZID=America/New_York:20241220T170000
DTSTAMP:20260421T222656
CREATED:20241028T132145Z
LAST-MODIFIED:20241028T132145Z
UID:10014461-1727769600-1734714000@www.huntingtonarts.org
SUMMARY:bj spoke gallery presents EXPO 44
DESCRIPTION:Juror: Emily Olek is a Curatorial Assistant in the Department of Drawings and Prints at the Museum of Modern Art\, New York.\nEligibility: All artists 18 years of age or older.\nAccepted Media: All fine arts media are acceptable (no crafts): watercolor\, oils\, acrylic\, mixed media\, printmaking\, pastel\, drawing\, collage\, sculpture\, installation\nart\, video (short)\, photography\, original digital art\, fiber art. Submissions must be the original work of the artist / No collaborations will be accepted. Artist will\nbe allowed to submit up to 6 images and/or 2 videos.\nAwards: Selected artists will be included in a virtual on line exhibition on the gallery’s website (https://www.bjspokegallery.org)\, February 1 through March 31\,\n2025. Work will be promoted on all of the gallery’s social media platforms. Cash awards for 1st ($300)\, 2nd ($200)\, and 3rd ($100) place artists.\nDeadline for Submission: December 20\, 2024
URL:https://www.huntingtonarts.org/event/bj-spoke-gallery-presents-expo-44-2/
LOCATION:BJ Spoke Gallery\, 299 Main Street\, Huntington\, NY\, United States
CATEGORIES:Exhibitions
ATTACH;FMTTYPE=image/jpeg:https://www.huntingtonarts.org/wp-content/uploads/2024/10/EXPO-44-Logo.jpg
ORGANIZER;CN="bj spoke gallery":MAILTO:manager@bjspokegallery.com
END:VEVENT
BEGIN:VEVENT
DTSTART;TZID=America/New_York:20240703T080000
DTEND;TZID=America/New_York:20240728T170000
DTSTAMP:20260421T222656
CREATED:20240612T191206Z
LAST-MODIFIED:20240612T191206Z
UID:10013181-1719993600-1722186000@www.huntingtonarts.org
SUMMARY:BJ Spoke Gallery presents Long Island Center of Photography ‘Small Works’
DESCRIPTION:This is a group of very talented Photographers exhibiting several of their works. The event is at BJ Spoke Gallery\, 299 Main Street\, Huntington\, N.Y. \nThe reception is on Sunday\, 7/7 from 2-4 PM.
URL:https://www.huntingtonarts.org/event/bj-spoke-gallery-presents-long-island-center-of-photography-small-works/
LOCATION:BJ Spoke Gallery\, 299 Main Street\, Huntington\, NY\, United States
ATTACH;FMTTYPE=image/jpeg:https://www.huntingtonarts.org/wp-content/uploads/2024/06/Cuban-Woman.jpg
END:VEVENT
BEGIN:VEVENT
DTSTART;TZID=America/New_York:20231122T110000
DTEND;TZID=America/New_York:20240102T170000
DTSTAMP:20260421T222656
CREATED:20230406T214823Z
LAST-MODIFIED:20230613T115121Z
UID:10005818-1700650800-1704214800@www.huntingtonarts.org
SUMMARY:bj spoke Gallery Celebration of Creativity
DESCRIPTION:Gallery Celebration of Creativity an exhibit
URL:https://www.huntingtonarts.org/event/bj-spoke-gallery-celebration-of-creativity/
LOCATION:BJ Spoke Gallery\, 299 Main Street\, Huntington\, NY\, United States
CATEGORIES:Exhibitions
ORGANIZER;CN="bj spoke gallery":MAILTO:manager@bjspokegallery.com
END:VEVENT
BEGIN:VEVENT
DTSTART;TZID=America/New_York:20231112T180000
DTEND;TZID=America/New_York:20231112T210000
DTSTAMP:20260421T222656
CREATED:20230406T214801Z
LAST-MODIFIED:20230613T114950Z
UID:10005817-1699812000-1699822800@www.huntingtonarts.org
SUMMARY:bj spoke Gallery Presents Andrea Fortunoff's Reception
DESCRIPTION:Andrea Fortunoff solo exhibition and reception Saturday\, November 12 from 6:00 – 9:00 pm
URL:https://www.huntingtonarts.org/event/bj-spoke-gallery-presents-andrea-fortunoffs-reception/
LOCATION:BJ Spoke Gallery\, 299 Main Street\, Huntington\, NY\, United States
CATEGORIES:Miscellaneous
ORGANIZER;CN="bj spoke gallery":MAILTO:manager@bjspokegallery.com
END:VEVENT
BEGIN:VEVENT
DTSTART;TZID=America/New_York:20231025T110000
DTEND;TZID=America/New_York:20231119T170000
DTSTAMP:20260421T222656
CREATED:20230804T204021Z
LAST-MODIFIED:20230804T204021Z
UID:10006000-1698231600-1700413200@www.huntingtonarts.org
SUMMARY:Andrea Fortunoff- Solo Photo Exhibition title “Self Defined” at BJ Spoke Gallery
DESCRIPTION:Solo Photo Exhibition Titled “Self Defined” at BJ Spoke Gallery in Huntington. This show is an exploration of women who choose to be strong.\nExhibition RECEPTION held on Saturday 10/28/23 6-9 PM is a Costume party! Prizes awarded for best costume at 7:30 PM.
URL:https://www.huntingtonarts.org/event/andrea-fortunoff-solo-photo-exhibition-title-self-defined-at-bj-spoke-gallery/
LOCATION:BJ Spoke Gallery\, 299 Main Street\, Huntington\, NY\, United States
CATEGORIES:Exhibitions
ATTACH;FMTTYPE=image/jpeg:https://www.huntingtonarts.org/wp-content/uploads/2023/08/poster-self-defined_final-scaled.jpg
ORGANIZER;CN="b.j. spoke gallery":MAILTO:manager@bjspokegallery.com
END:VEVENT
BEGIN:VEVENT
DTSTART;TZID=America/New_York:20231025T110000
DTEND;TZID=America/New_York:20231119T170000
DTSTAMP:20260421T222656
CREATED:20230406T214927Z
LAST-MODIFIED:20230613T114946Z
UID:10005815-1698231600-1700413200@www.huntingtonarts.org
SUMMARY:bj spoke Gallery Presents Andrea Fortunoff's solo exhibition and Showcase #8 of members art
DESCRIPTION:Andrea Fortunoff’s solo exhibition and Showcase #8 of members art in two rooms
URL:https://www.huntingtonarts.org/event/bj-spoke-gallery-presents-andrea-fortunoffs-solo-exhibition-and-showcase-8-of-members-art/
LOCATION:BJ Spoke Gallery\, 299 Main Street\, Huntington\, NY\, United States
CATEGORIES:Exhibitions
ORGANIZER;CN="b.j. spoke gallery":MAILTO:manager@bjspokegallery.com
END:VEVENT
BEGIN:VEVENT
DTSTART;TZID=America/New_York:20231025T110000
DTEND;TZID=America/New_York:20231119T170000
DTSTAMP:20260421T222656
CREATED:20230406T214622Z
LAST-MODIFIED:20230613T114944Z
UID:10005814-1698231600-1700413200@www.huntingtonarts.org
SUMMARY:bj spoke Gallery Presents Andrea Fortunoff solo exhibition and Showcase #8 of members art
DESCRIPTION:Andrea Fortunoff solo exhibition and Showcase #8 of members art in two rooms.
URL:https://www.huntingtonarts.org/event/bj-spoke-gallery-presents-andrea-fortunoff-solo-exhibition-and-showcase-8-of-members-art/
LOCATION:BJ Spoke Gallery\, 299 Main Street\, Huntington\, NY\, United States
CATEGORIES:Exhibitions
ORGANIZER;CN="b.j. spoke gallery":MAILTO:manager@bjspokegallery.com
END:VEVENT
BEGIN:VEVENT
DTSTART;TZID=America/New_York:20231007T180000
DTEND;TZID=America/New_York:20231101T210000
DTSTAMP:20260421T222656
CREATED:20230406T214445Z
LAST-MODIFIED:20230613T114939Z
UID:10005812-1696701600-1698872400@www.huntingtonarts.org
SUMMARY:bj spoke Gallery Presents Minoo Moadel's Reception
DESCRIPTION:Minoo Moadel Solo Exhibition Reception Saturday October 7th from 6:00 – 9:00 pm
URL:https://www.huntingtonarts.org/event/bj-spoke-gallery-presents-minoo-moadels-reception/
LOCATION:BJ Spoke Gallery\, 299 Main Street\, Huntington\, NY\, United States
CATEGORIES:Exhibitions
ORGANIZER;CN="b.j. spoke gallery":MAILTO:manager@bjspokegallery.com
END:VEVENT
BEGIN:VEVENT
DTSTART;TZID=America/New_York:20230927T110000
DTEND;TZID=America/New_York:20231022T170000
DTSTAMP:20260421T222656
CREATED:20230406T215017Z
LAST-MODIFIED:20230613T114935Z
UID:10005810-1695812400-1697994000@www.huntingtonarts.org
SUMMARY:bj spoke Gallery Presents Minoo Moadel's solo exhibition and Showcase # 7 of members art
DESCRIPTION:Minoo Moadel’s solo exhibition and Showcase # 7 of members art in two rooms.
URL:https://www.huntingtonarts.org/event/bj-spoke-gallery-presents-minoo-moadels-solo-exhibition-and-showcase-7-of-members-art/
LOCATION:BJ Spoke Gallery\, 299 Main Street\, Huntington\, NY\, United States
CATEGORIES:Exhibitions
ORGANIZER;CN="bj spoke gallery":MAILTO:manager@bjspokegallery.com
END:VEVENT
BEGIN:VEVENT
DTSTART;TZID=America/New_York:20230909T180000
DTEND;TZID=America/New_York:20230909T210000
DTSTAMP:20260421T222656
CREATED:20230406T214354Z
LAST-MODIFIED:20230613T114908Z
UID:10005801-1694282400-1694293200@www.huntingtonarts.org
SUMMARY:bj spoke Gallery Presents John A. Bell's Reception
DESCRIPTION:John A. Bell Solo Exhibit Reception Sat. Sept. 9 from 6:00 – 9:00 pm
URL:https://www.huntingtonarts.org/event/bj-spoke-gallery-presents-john-a-bells-reception/
LOCATION:BJ Spoke Gallery\, 299 Main Street\, Huntington\, NY\, United States
CATEGORIES:Miscellaneous
ORGANIZER;CN="bj spoke gallery":MAILTO:manager@bjspokegallery.com
END:VEVENT
BEGIN:VEVENT
DTSTART;TZID=America/New_York:20230830T110000
DTEND;TZID=America/New_York:20230924T170000
DTSTAMP:20260421T222656
CREATED:20230406T215057Z
LAST-MODIFIED:20230613T115125Z
UID:10005820-1693393200-1695574800@www.huntingtonarts.org
SUMMARY:bj spoke Gallery Presents John A. Bell's solo exhibit with Showcase #6 of members art
DESCRIPTION:John A. Bell solo exhibit with Showcase #6 of members art in two rooms
URL:https://www.huntingtonarts.org/event/bj-spoke-gallery-presents-john-a-bells-solo-exhibit-with-showcase-6-of-members-art/
LOCATION:BJ Spoke Gallery\, 299 Main Street\, Huntington\, NY\, United States
CATEGORIES:Exhibitions
ORGANIZER;CN="bj spoke gallery":MAILTO:manager@bjspokegallery.com
END:VEVENT
BEGIN:VEVENT
DTSTART;TZID=America/New_York:20230812T180000
DTEND;TZID=America/New_York:20230812T210000
DTSTAMP:20260421T222656
CREATED:20230406T214236Z
LAST-MODIFIED:20230613T115156Z
UID:10005862-1691863200-1691874000@www.huntingtonarts.org
SUMMARY:bj spoke Gallery Presents Artist Choice Public Reception
DESCRIPTION:Artist Choice with members inviting colleagues to show with them. Public reception Saturday Aug. 12 from 6:00 – 9:00 pm
URL:https://www.huntingtonarts.org/event/bj-spoke-gallery-presents-artist-choice-public-reception/
LOCATION:BJ Spoke Gallery\, 299 Main Street\, Huntington\, NY\, United States
CATEGORIES:Miscellaneous
ORGANIZER;CN="bj spoke gallery":MAILTO:manager@bjspokegallery.com
END:VEVENT
BEGIN:VEVENT
DTSTART;TZID=America/New_York:20230802T110000
DTEND;TZID=America/New_York:20230827T170000
DTSTAMP:20260421T222656
CREATED:20230406T214319Z
LAST-MODIFIED:20230613T115209Z
UID:10005868-1690974000-1693155600@www.huntingtonarts.org
SUMMARY:bj spoke Gallery Presents Artist Choice
DESCRIPTION:Artist Choice with members inviting colleagues to show with them
URL:https://www.huntingtonarts.org/event/bj-spoke-gallery-presents-artist-choice/
LOCATION:BJ Spoke Gallery\, 299 Main Street\, Huntington\, NY\, United States
CATEGORIES:Exhibitions
ORGANIZER;CN="bj spoke gallery":MAILTO:manager@bjspokegallery.com
END:VEVENT
BEGIN:VEVENT
DTSTART;TZID=America/New_York:20230708T190000
DTEND;TZID=America/New_York:20230708T200000
DTSTAMP:20260421T222656
CREATED:20230406T213918Z
LAST-MODIFIED:20230613T115444Z
UID:10005894-1688842800-1688846400@www.huntingtonarts.org
SUMMARY:bj spoke Gallery Presents International Competition Winners PAPERWORKS 2023 Zoom Reception
DESCRIPTION:July 8 at 7pm International Competition Winners PAPERWORKS 2023\nZoom Reception with Juror Emily Olek\, Curatorial Assistant in the Department of Drawings and Prints at the MOMA.
URL:https://www.huntingtonarts.org/event/bj-spoke-gallery-presents-international-competition-winners-paperworks-2023-zoom-reception/
LOCATION:BJ Spoke Gallery\, 299 Main Street\, Huntington\, NY\, United States
CATEGORIES:Miscellaneous
ORGANIZER;CN="bj spoke gallery":MAILTO:manager@bjspokegallery.com
END:VEVENT
BEGIN:VEVENT
DTSTART;TZID=America/New_York:20230628T110000
DTEND;TZID=America/New_York:20230730T170000
DTSTAMP:20260421T222656
CREATED:20230406T213822Z
LAST-MODIFIED:20230613T115601Z
UID:10005905-1687950000-1690736400@www.huntingtonarts.org
SUMMARY:bj spoke Gallery Presents Showcase #5 of members art
DESCRIPTION:Showcase #5 of members art in all three rooms
URL:https://www.huntingtonarts.org/event/bj-spoke-gallery-presents-showcase-5-of-members-art/
LOCATION:BJ Spoke Gallery\, 299 Main Street\, Huntington\, NY\, United States
CATEGORIES:Exhibitions
ORGANIZER;CN="bj spoke gallery":MAILTO:manager@bjspokegallery.com
END:VEVENT
BEGIN:VEVENT
DTSTART;TZID=America/New_York:20230610T150000
DTEND;TZID=America/New_York:20230610T180000
DTSTAMP:20260421T222656
CREATED:20230406T213742Z
LAST-MODIFIED:20230613T115716Z
UID:10005922-1686409200-1686420000@www.huntingtonarts.org
SUMMARY:bj spoke Gallery Presents Liz Ehrlichman’s Reception
DESCRIPTION:Liz Ehrlichman’s new show at bj spoke gallery\, Figures\, Portraits\, People\, includes art work that was created anywhere between 1983 and 2023. Her style and medium vary\, but her work always incorporates a fresh look at humanity.
URL:https://www.huntingtonarts.org/event/bj-spoke-gallery-presents-liz-ehrlichmans-reception/
LOCATION:BJ Spoke Gallery\, 299 Main Street\, Huntington\, NY\, United States
CATEGORIES:Exhibitions
ATTACH;FMTTYPE=image/jpeg:https://www.huntingtonarts.org/wp-content/uploads/2023/05/Liz-Erlichman-flyer-1.jpeg
ORGANIZER;CN="bj spoke gallery":MAILTO:manager@bjspokegallery.com
END:VEVENT
BEGIN:VEVENT
DTSTART;TZID=America/New_York:20230531T110000
DTEND;TZID=America/New_York:20230625T170000
DTSTAMP:20260421T222656
CREATED:20230406T213627Z
LAST-MODIFIED:20230613T115840Z
UID:10005971-1685530800-1687712400@www.huntingtonarts.org
SUMMARY:bj spoke Gallery Presents Liz Ehrlichman solo exhibition and Showcase #4 of members art
DESCRIPTION:Elizabeth Ehrlichman solo exhibition and Showcase #4 of members art in two rooms
URL:https://www.huntingtonarts.org/event/bj-spoke-presents-liz-ehrlichman-solo-exhibition-and-showcase-4-of-members-art/
LOCATION:BJ Spoke Gallery\, 299 Main Street\, Huntington\, NY\, United States
CATEGORIES:Exhibitions
ORGANIZER;CN="bj spoke gallery":MAILTO:manager@bjspokegallery.com
END:VEVENT
BEGIN:VEVENT
DTSTART;TZID=America/New_York:20230513T160000
DTEND;TZID=America/New_York:20230513T190000
DTSTAMP:20260421T222656
CREATED:20230406T213554Z
LAST-MODIFIED:20230613T115905Z
UID:10005989-1683993600-1684004400@www.huntingtonarts.org
SUMMARY:bj spoke Gallery Presents Katherine Criss ‘s What’s the Story?” Reception
DESCRIPTION:Katherine Criss ‘s “What’s the Story?” Reception Saturday May 13 from 4:00 – 7:00 pm
URL:https://www.huntingtonarts.org/event/bj-spoke-presents-katherine-criss-s-whats-the-story-reception/
LOCATION:BJ Spoke Gallery\, 299 Main Street\, Huntington\, NY\, United States
CATEGORIES:Exhibitions,Miscellaneous
ATTACH;FMTTYPE=image/jpeg:https://www.huntingtonarts.org/wp-content/uploads/2023/03/Postcard-What-the-Story-May-2023-copy-1.jpg
ORGANIZER;CN="bj spoke gallery":MAILTO:manager@bjspokegallery.com
END:VEVENT
BEGIN:VEVENT
DTSTART;TZID=America/New_York:20220821T120000
DTEND;TZID=America/New_York:20220821T140000
DTSTAMP:20260421T222656
CREATED:20220808T160148Z
LAST-MODIFIED:20220808T160148Z
UID:10005138-1661083200-1661090400@www.huntingtonarts.org
SUMMARY:BJ Spoke Gallery Seminar Membership Opportunity
DESCRIPTION:We will be explaining the responsibilities and benefits of membership in BJSpoke Gallery and we are actively seeking new members.
URL:https://www.huntingtonarts.org/event/bj-spoke-gallery-seminar-membership-opportunity/
LOCATION:BJ Spoke Gallery\, 299 Main Street\, Huntington\, NY\, United States
CATEGORIES:Miscellaneous
ATTACH;FMTTYPE=image/jpeg:https://www.huntingtonarts.org/wp-content/uploads/2022/08/9B13BB29-4A1C-4702-B674-9C0991BB17EA-1.jpeg
ORGANIZER;CN="b.j. spoke gallery":MAILTO:manager@bjspokegallery.com
END:VEVENT
END:VCALENDAR