BEGIN:VCALENDAR
VERSION:2.0
PRODID:-//Huntington Arts Council - ECPv6.15.20//NONSGML v1.0//EN
CALSCALE:GREGORIAN
METHOD:PUBLISH
X-WR-CALNAME:Huntington Arts Council
X-ORIGINAL-URL:https://www.huntingtonarts.org
X-WR-CALDESC:Events for Huntington Arts Council
REFRESH-INTERVAL;VALUE=DURATION:PT1H
X-Robots-Tag:noindex
X-PUBLISHED-TTL:PT1H
BEGIN:VTIMEZONE
TZID:America/New_York
BEGIN:DAYLIGHT
TZOFFSETFROM:-0500
TZOFFSETTO:-0400
TZNAME:EDT
DTSTART:20230312T070000
END:DAYLIGHT
BEGIN:STANDARD
TZOFFSETFROM:-0400
TZOFFSETTO:-0500
TZNAME:EST
DTSTART:20231105T060000
END:STANDARD
BEGIN:DAYLIGHT
TZOFFSETFROM:-0500
TZOFFSETTO:-0400
TZNAME:EDT
DTSTART:20240310T070000
END:DAYLIGHT
BEGIN:STANDARD
TZOFFSETFROM:-0400
TZOFFSETTO:-0500
TZNAME:EST
DTSTART:20241103T060000
END:STANDARD
BEGIN:DAYLIGHT
TZOFFSETFROM:-0500
TZOFFSETTO:-0400
TZNAME:EDT
DTSTART:20250309T070000
END:DAYLIGHT
BEGIN:STANDARD
TZOFFSETFROM:-0400
TZOFFSETTO:-0500
TZNAME:EST
DTSTART:20251102T060000
END:STANDARD
END:VTIMEZONE
BEGIN:VEVENT
DTSTART;TZID=America/New_York:20240608T160000
DTEND;TZID=America/New_York:20240608T170000
DTSTAMP:20260422T102413
CREATED:20240509T141737Z
LAST-MODIFIED:20240509T141737Z
UID:10013078-1717862400-1717866000@www.huntingtonarts.org
SUMMARY:BAFFA presents "Weather"
DESCRIPTION:The BAFFA Chorus\, under the direction of Martha Campanile\, and the BAFFA Symphony Orchestra\, under the direction of Bradley S. Hartman\, present a family-friendly concert on Saturday\, June 8th. Weather brings together popular weather-related songs such as Singin’ in the Rain\, Over the Rainbow\, and music from the musical\, “Frozen.” This is a concert that will appeal to youngsters\, their parents\, and their grandparents.\nThe concert\, at Bayport-Blue Point High School in Bayport\, begins at 4:00 PM and is free through donations are gladly accepted. Bayport-Blue Point High School is at 200 Snedecor Avenue in Bayport. For more information: (631)589-7343 or www.baffa.org.
URL:https://www.huntingtonarts.org/event/baffa-presents-weather/
LOCATION:Bayport Blue Point High School\, 200 Snedecor Avenue\, Bayport\, NY\, 11705\, United States
CATEGORIES:Music
ATTACH;FMTTYPE=image/jpeg:https://www.huntingtonarts.org/wp-content/uploads/2024/05/June-Concert-1.jpg
ORGANIZER;CN="Bay Area Friends of the Fine Arts (BAFFA)":MAILTO:baffaoffice@gmail.com
GEO:40.7427638;-73.0541246
X-APPLE-STRUCTURED-LOCATION;VALUE=URI;X-ADDRESS=Bayport Blue Point High School 200 Snedecor Avenue Bayport NY 11705 United States;X-APPLE-RADIUS=500;X-TITLE=200 Snedecor Avenue:geo:-73.0541246,40.7427638
END:VEVENT
END:VCALENDAR