BEGIN:VCALENDAR
VERSION:2.0
PRODID:-//Huntington Arts Council - ECPv6.15.20//NONSGML v1.0//EN
CALSCALE:GREGORIAN
METHOD:PUBLISH
X-WR-CALNAME:Huntington Arts Council
X-ORIGINAL-URL:https://www.huntingtonarts.org
X-WR-CALDESC:Events for Huntington Arts Council
REFRESH-INTERVAL;VALUE=DURATION:PT1H
X-Robots-Tag:noindex
X-PUBLISHED-TTL:PT1H
BEGIN:VTIMEZONE
TZID:America/New_York
BEGIN:DAYLIGHT
TZOFFSETFROM:-0500
TZOFFSETTO:-0400
TZNAME:EDT
DTSTART:20240310T070000
END:DAYLIGHT
BEGIN:STANDARD
TZOFFSETFROM:-0400
TZOFFSETTO:-0500
TZNAME:EST
DTSTART:20241103T060000
END:STANDARD
BEGIN:DAYLIGHT
TZOFFSETFROM:-0500
TZOFFSETTO:-0400
TZNAME:EDT
DTSTART:20250309T070000
END:DAYLIGHT
BEGIN:STANDARD
TZOFFSETFROM:-0400
TZOFFSETTO:-0500
TZNAME:EST
DTSTART:20251102T060000
END:STANDARD
BEGIN:DAYLIGHT
TZOFFSETFROM:-0500
TZOFFSETTO:-0400
TZNAME:EDT
DTSTART:20260308T070000
END:DAYLIGHT
BEGIN:STANDARD
TZOFFSETFROM:-0400
TZOFFSETTO:-0500
TZNAME:EST
DTSTART:20261101T060000
END:STANDARD
END:VTIMEZONE
BEGIN:VEVENT
DTSTART;TZID=America/New_York:20250601T110000
DTEND;TZID=America/New_York:20250601T130000
DTSTAMP:20260422T080614
CREATED:20250429T150255Z
LAST-MODIFIED:20250429T150255Z
UID:10015595-1748775600-1748782800@www.huntingtonarts.org
SUMMARY:BAFFA presents Bangle Bling Workshop
DESCRIPTION:On Sunday\, June 1st\, BAFFA presents a Bangle Bling Workshop with fiber artist\, Sally Shore. Learn to craft a unique bangle using just cording and yarn. The workshop\, at the BAFFA Gallery at Gillette House in Sayville\, will meet from 11 AM to 1 PM. Pre-register at www.baffa.org. Cost for the workshop is $25.00 for BAFFA members and $30.00 for non-members. For additional information: (631)589-7343 or www.baffa.org.
URL:https://www.huntingtonarts.org/event/baffa-presents-bangle-bling-workshop/
LOCATION:Bay Area Friends of the FineArts\, 47 Gillette Avenue\, Sayville\, NY\, 11782\, United States
CATEGORIES:Workshop Classes
ATTACH;FMTTYPE=image/jpeg:https://www.huntingtonarts.org/wp-content/uploads/2025/04/Workshop2.jpg
ORGANIZER;CN="Bay Area Friends of the Fine Arts (BAFFA)":MAILTO:baffaoffice@gmail.com
END:VEVENT
BEGIN:VEVENT
DTSTART;TZID=America/New_York:20250204T080000
DTEND;TZID=America/New_York:20250214T170000
DTSTAMP:20260422T080614
CREATED:20250205T194417Z
LAST-MODIFIED:20250205T194417Z
UID:10015269-1738656000-1739552400@www.huntingtonarts.org
SUMMARY:Internship Opportunity
DESCRIPTION:MARKETING INTERN \n​ \nPosition Overview: \nThe Bay Area Friends of the Fine Arts (BAFFA) is actively seeking a part-time Marketing Intern to assist in expanding its outreach and promoting arts participation throughout Suffolk County. This role will involve digital marketing\, event promotion\, and community outreach initiatives that align with BAFFA’s mission of providing cultural opportunities and supporting the fine arts on Long Island. \nThe position requires a commitment of approximately 8 hours per week\, with a flexible schedule. The compensation for this role is a stipend of $150 per month\, with a minimum duration of six months. \n​ \nKey Responsibilities: \nDevelop and oversee social media content across various platforms\, including Instagram\, Facebook\, and LinkedIn. \nDesign and distribute promotional materials for concerts and gallery exhibitions. \nImplement community outreach initiatives in collaboration with local schools and organizations. \nMonitor and report on the performance of marketing campaigns to the BAFFA Board of Directors monthly. \nAssist in developing innovative marketing strategies \nAid in managing the monthly newsletter and supervising communications related to events. \n​ \nRequired Skills: \nA strong passion for and basic foundational understanding of social media \nBasic design skills\, preferably with Canva \nExcellent written and verbal communication skills \nWillingness to learn data analysis \nAbility to work independently and collaboratively \nTraining Provided: \nA third-party marketing consultant will deliver extensive training in social media management\, event promotion\, community engagement\, and analytics tracking. \nSend resumes to: Yvonne.sing@baffa.org by February 14\, 2025
URL:https://www.huntingtonarts.org/event/internship-opportunity/
LOCATION:Bay Area Friends of the FineArts\, 47 Gillette Avenue\, Sayville\, NY\, 11782\, United States
CATEGORIES:Miscellaneous
ATTACH;FMTTYPE=image/jpeg:https://www.huntingtonarts.org/wp-content/uploads/2025/02/Intern.jpg
ORGANIZER;CN="Bay Area Friends of the Fine Arts (BAFFA)":MAILTO:baffaoffice@gmail.com
END:VEVENT
END:VCALENDAR