BEGIN:VCALENDAR
VERSION:2.0
PRODID:-//Huntington Arts Council - ECPv6.15.20//NONSGML v1.0//EN
CALSCALE:GREGORIAN
METHOD:PUBLISH
X-ORIGINAL-URL:https://www.huntingtonarts.org
X-WR-CALDESC:Events for Huntington Arts Council
REFRESH-INTERVAL;VALUE=DURATION:PT1H
X-Robots-Tag:noindex
X-PUBLISHED-TTL:PT1H
BEGIN:VTIMEZONE
TZID:America/New_York
BEGIN:DAYLIGHT
TZOFFSETFROM:-0500
TZOFFSETTO:-0400
TZNAME:EDT
DTSTART:20210314T070000
END:DAYLIGHT
BEGIN:STANDARD
TZOFFSETFROM:-0400
TZOFFSETTO:-0500
TZNAME:EST
DTSTART:20211107T060000
END:STANDARD
BEGIN:DAYLIGHT
TZOFFSETFROM:-0500
TZOFFSETTO:-0400
TZNAME:EDT
DTSTART:20220313T070000
END:DAYLIGHT
BEGIN:STANDARD
TZOFFSETFROM:-0400
TZOFFSETTO:-0500
TZNAME:EST
DTSTART:20221106T060000
END:STANDARD
BEGIN:DAYLIGHT
TZOFFSETFROM:-0500
TZOFFSETTO:-0400
TZNAME:EDT
DTSTART:20230312T070000
END:DAYLIGHT
BEGIN:STANDARD
TZOFFSETFROM:-0400
TZOFFSETTO:-0500
TZNAME:EST
DTSTART:20231105T060000
END:STANDARD
BEGIN:DAYLIGHT
TZOFFSETFROM:-0500
TZOFFSETTO:-0400
TZNAME:EDT
DTSTART:20240310T070000
END:DAYLIGHT
BEGIN:STANDARD
TZOFFSETFROM:-0400
TZOFFSETTO:-0500
TZNAME:EST
DTSTART:20241103T060000
END:STANDARD
BEGIN:DAYLIGHT
TZOFFSETFROM:-0500
TZOFFSETTO:-0400
TZNAME:EDT
DTSTART:20250309T070000
END:DAYLIGHT
BEGIN:STANDARD
TZOFFSETFROM:-0400
TZOFFSETTO:-0500
TZNAME:EST
DTSTART:20251102T060000
END:STANDARD
BEGIN:DAYLIGHT
TZOFFSETFROM:-0500
TZOFFSETTO:-0400
TZNAME:EDT
DTSTART:20260308T070000
END:DAYLIGHT
BEGIN:STANDARD
TZOFFSETFROM:-0400
TZOFFSETTO:-0500
TZNAME:EST
DTSTART:20261101T060000
END:STANDARD
END:VTIMEZONE
BEGIN:VEVENT
DTSTART;TZID=America/New_York:20251004T173000
DTEND;TZID=America/New_York:20251004T193000
DTSTAMP:20260421T231031
CREATED:20250915T172711Z
LAST-MODIFIED:20250926T152727Z
UID:10016613-1759599000-1759606200@www.huntingtonarts.org
SUMMARY:Suburban Art League presents Barnes Gallery Exhibit Reception
DESCRIPTION:Join SAL at Barnes Gallery for the opening of our Exhibit including drinks and refreshments and live music.
URL:https://www.huntingtonarts.org/event/suburban-art-league-presents-barnes-gallery-exhibit-reception/
LOCATION:Barnes Gallery\, 2 Nassau Blvd.\, Garden City South\, NY\, 11530\, United States
CATEGORIES:Exhibitions
ATTACH;FMTTYPE=image/jpeg:https://www.huntingtonarts.org/wp-content/uploads/2025/09/sal-logo-2.jpg
ORGANIZER;CN="Suburban Art League":MAILTO:tomandtony@msn.com
END:VEVENT
BEGIN:VEVENT
DTSTART;TZID=America/New_York:20250901T100000
DTEND;TZID=America/New_York:20250901T170000
DTSTAMP:20260421T231031
CREATED:20250915T185043Z
LAST-MODIFIED:20250926T152731Z
UID:10017071-1756720800-1756746000@www.huntingtonarts.org
SUMMARY:Suburban Art League presents Barnes Gallery Exhibition
DESCRIPTION:Join Suburban Art League Oct 1-31 at the Barnes Gallery\, 2 Nassau Blvd in Garden City\, for an exhibition of beautiful works of art that are also for sale. Be sure to join us on October 4th from 5:30 to 7:30 at our reception with live music\, a raffle drawing at 7PM\, food and drink. Barnes is CLOSED SUNDAY and MONDAY
URL:https://www.huntingtonarts.org/event/suburban-art-league-presents-barnes-gallery-exhibition/2025-09-01/
LOCATION:Barnes Gallery\, 2 Nassau Blvd.\, Garden City South\, NY\, 11530\, United States
CATEGORIES:Exhibitions
ATTACH;FMTTYPE=image/jpeg:https://www.huntingtonarts.org/wp-content/uploads/2025/09/sal-logo-4.jpg
ORGANIZER;CN="SAL-Suburban Art League":MAILTO:Suburbanartleague@gmail.com
END:VEVENT
BEGIN:VEVENT
DTSTART;TZID=America/New_York:20231104T173000
DTEND;TZID=America/New_York:20231104T193000
DTSTAMP:20260421T231031
CREATED:20231107T161756Z
LAST-MODIFIED:20231107T161756Z
UID:10006518-1699119000-1699126200@www.huntingtonarts.org
SUMMARY:Suburban Art League Presents Art Exhibit Opening Reception
DESCRIPTION:Join Suburban Art league’s opening day reception. Free! Refreshments\, beverages\, music and tub elbows with the exhibit artists!
URL:https://www.huntingtonarts.org/event/suburban-art-league-presents-art-exhibit-opening-reception/
LOCATION:Barnes Gallery\, 2 Nassau Blvd.\, Garden City South\, NY\, 11530\, United States
CATEGORIES:Exhibitions
ATTACH;FMTTYPE=image/jpeg:https://www.huntingtonarts.org/wp-content/uploads/2023/10/IMG_0980-3-scaled.jpeg
ORGANIZER;CN="Suburban Art League":MAILTO:tomandtony@msn.com
END:VEVENT
BEGIN:VEVENT
DTSTART;TZID=America/New_York:20231101T100000
DTEND;TZID=America/New_York:20231130T170000
DTSTAMP:20260421T231031
CREATED:20230912T145924Z
LAST-MODIFIED:20230912T145924Z
UID:10006472-1698832800-1701363600@www.huntingtonarts.org
SUMMARY:Suburban Art League at Barnes Gallery Art Exhibit
DESCRIPTION:See 60 different pieces of art in one location at the Barnes Gallery of Garden City\, New York. All work is for sale. The event runs through the entire month of November from 10:00 AM to 5:00 PM with the exception of Monday and Tuesday when the gallery is closed. Please join us on November 4th from 5:30 to 7:30 PM for light refreshments and music as we enjoy an opening reception\, where everyone is welcome to attend free of charge.
URL:https://www.huntingtonarts.org/event/suburban-art-league-at-barnes-gallery-art-exhibit/
LOCATION:Barnes Gallery\, 2 Nassau Blvd.\, Garden City South\, NY\, 11530\, United States
CATEGORIES:Exhibitions
ATTACH;FMTTYPE=image/png:https://www.huntingtonarts.org/wp-content/uploads/2023/09/SAL-logo-orig-small-3.png
ORGANIZER;CN="Suburban Art League":MAILTO:tomandtony@msn.com
END:VEVENT
BEGIN:VEVENT
DTSTART;TZID=America/New_York:20231014T173000
DTEND;TZID=America/New_York:20231014T193000
DTSTAMP:20260421T231031
CREATED:20230906T162708Z
LAST-MODIFIED:20230906T162708Z
UID:10006462-1697304600-1697311800@www.huntingtonarts.org
SUMMARY:Caryn Coville Collaboration - Three Visions Artists' Reception
DESCRIPTION:Three Visions\, a collaboration between artists Caryn Coville\, Diane D’Agostino and Frances Ianarella will be on exhibit at Barnes Gallery\, Two Nassau Blvd\, Garden City\, NY\, from October 3-28\, 2023. All are welcome at the meet the artists reception at Barnes Gallery on Saturday\, October 14\, from 5:30pm-7:30pm. Music will be provided by Rita Posillico. Wine and light refreshments will be provided by Prime Food Catering.
URL:https://www.huntingtonarts.org/event/caryn-coville-collaboration-three-visions-artists-reception/
LOCATION:Barnes Gallery\, 2 Nassau Blvd.\, Garden City South\, NY\, 11530\, United States
CATEGORIES:Exhibitions
ATTACH;FMTTYPE=image/jpeg:https://www.huntingtonarts.org/wp-content/uploads/2023/09/Three-Visions-post-card-scaled.jpg
ORGANIZER;CN="Caryn Coville%2C Diane D'Agostino%2C Frances Ianarella":MAILTO:cwbc12@aol.com
END:VEVENT
BEGIN:VEVENT
DTSTART;VALUE=DATE:20221001
DTEND;VALUE=DATE:20221030
DTSTAMP:20260421T231031
CREATED:20220207T201944Z
LAST-MODIFIED:20220207T201944Z
UID:10004976-1664582400-1667087999@www.huntingtonarts.org
SUMMARY:Suburban Art League Presents Barnes Gallery Exhibit
DESCRIPTION:Members will exhibit work at the Barnes Gallery throughout the month of October! Please check the pospectus below\, our website suburbanartleague.com or Suburban Art League Facebook pages for additional info. Call in registration for artists to display is Aug. 1- Sept. 15. Form\, short artist bio and payment by Sept 25. Reception on Oct. 1 from 5:30-7:30. The Gallery is closed Sundays and Mondays.
URL:https://www.huntingtonarts.org/event/barnes-gallery-exhibit/
LOCATION:Barnes Gallery\, 2 Nassau Blvd.\, Garden City South\, NY\, 11530\, United States
CATEGORIES:Exhibitions
ATTACH;FMTTYPE=image/jpeg:https://www.huntingtonarts.org/wp-content/uploads/2022/05/903D7332-597C-4EBA-9AEB-670B4497AC07.jpeg
ORGANIZER;CN="Suburban Art League":MAILTO:tomandtony@msn.com
END:VEVENT
END:VCALENDAR