BEGIN:VCALENDAR
VERSION:2.0
PRODID:-//Huntington Arts Council - ECPv6.15.20//NONSGML v1.0//EN
CALSCALE:GREGORIAN
METHOD:PUBLISH
X-ORIGINAL-URL:https://www.huntingtonarts.org
X-WR-CALDESC:Events for Huntington Arts Council
REFRESH-INTERVAL;VALUE=DURATION:PT1H
X-Robots-Tag:noindex
X-PUBLISHED-TTL:PT1H
BEGIN:VTIMEZONE
TZID:America/New_York
BEGIN:DAYLIGHT
TZOFFSETFROM:-0500
TZOFFSETTO:-0400
TZNAME:EDT
DTSTART:20210314T070000
END:DAYLIGHT
BEGIN:STANDARD
TZOFFSETFROM:-0400
TZOFFSETTO:-0500
TZNAME:EST
DTSTART:20211107T060000
END:STANDARD
BEGIN:DAYLIGHT
TZOFFSETFROM:-0500
TZOFFSETTO:-0400
TZNAME:EDT
DTSTART:20220313T070000
END:DAYLIGHT
BEGIN:STANDARD
TZOFFSETFROM:-0400
TZOFFSETTO:-0500
TZNAME:EST
DTSTART:20221106T060000
END:STANDARD
BEGIN:DAYLIGHT
TZOFFSETFROM:-0500
TZOFFSETTO:-0400
TZNAME:EDT
DTSTART:20230312T070000
END:DAYLIGHT
BEGIN:STANDARD
TZOFFSETFROM:-0400
TZOFFSETTO:-0500
TZNAME:EST
DTSTART:20231105T060000
END:STANDARD
BEGIN:DAYLIGHT
TZOFFSETFROM:-0500
TZOFFSETTO:-0400
TZNAME:EDT
DTSTART:20240310T070000
END:DAYLIGHT
BEGIN:STANDARD
TZOFFSETFROM:-0400
TZOFFSETTO:-0500
TZNAME:EST
DTSTART:20241103T060000
END:STANDARD
BEGIN:DAYLIGHT
TZOFFSETFROM:-0500
TZOFFSETTO:-0400
TZNAME:EDT
DTSTART:20250309T070000
END:DAYLIGHT
BEGIN:STANDARD
TZOFFSETFROM:-0400
TZOFFSETTO:-0500
TZNAME:EST
DTSTART:20251102T060000
END:STANDARD
BEGIN:DAYLIGHT
TZOFFSETFROM:-0500
TZOFFSETTO:-0400
TZNAME:EDT
DTSTART:20260308T070000
END:DAYLIGHT
BEGIN:STANDARD
TZOFFSETFROM:-0400
TZOFFSETTO:-0500
TZNAME:EST
DTSTART:20261101T060000
END:STANDARD
BEGIN:DAYLIGHT
TZOFFSETFROM:-0500
TZOFFSETTO:-0400
TZNAME:EDT
DTSTART:20270314T070000
END:DAYLIGHT
BEGIN:STANDARD
TZOFFSETFROM:-0400
TZOFFSETTO:-0500
TZNAME:EST
DTSTART:20271107T060000
END:STANDARD
END:VTIMEZONE
BEGIN:VEVENT
DTSTART;TZID=America/New_York:20260104T150000
DTEND;TZID=America/New_York:20260104T170000
DTSTAMP:20260421T231017
CREATED:20250121T193021Z
LAST-MODIFIED:20250121T193021Z
UID:10015240-1767538800-1767546000@www.huntingtonarts.org
SUMMARY:EastLine Theatre presents A Very Expensive Poison
DESCRIPTION:by Lucy Prebble\, based on the Guardian/Faber book by Luke Harding \nA shocking assassination in the heart of London. In a bizarre mix of high-stakes global politics and radioactive villainy\, a man pays with his life. At this time of global crises and a looming new Cold War\, this thriller sends us careening through the shadowy world of international espionage from Moscow to Mayfair. From the Emmy-winning writer of Succession. \nTickets at https://eastline.ludus.com/index.php or call 516-749-5047.
URL:https://www.huntingtonarts.org/event/eastline-theatre-presents-a-very-expensive-poison/2026-01-04/
LOCATION:BACCA\, 149 N. Wellwood Ave\, Lindenhurst\, NY 11757\, NY\, 11757\, United States
CATEGORIES:Theater
ATTACH;FMTTYPE=image/png:https://www.huntingtonarts.org/wp-content/uploads/2025/01/PoisonInstaDates.png
ORGANIZER;CN="EastLine Theatre":MAILTO:info@eastlinetheatre.org
END:VEVENT
BEGIN:VEVENT
DTSTART;TZID=America/New_York:20251220T080000
DTEND;TZID=America/New_York:20260104T170000
DTSTAMP:20260421T231017
CREATED:20250121T193021Z
LAST-MODIFIED:20250121T193021Z
UID:10015232-1766217600-1767546000@www.huntingtonarts.org
SUMMARY:EastLine Theatre presents A Very Expensive Poison
DESCRIPTION:by Lucy Prebble\, based on the Guardian/Faber book by Luke Harding \nA shocking assassination in the heart of London. In a bizarre mix of high-stakes global politics and radioactive villainy\, a man pays with his life. At this time of global crises and a looming new Cold War\, this thriller sends us careening through the shadowy world of international espionage from Moscow to Mayfair. From the Emmy-winning writer of Succession. \nTickets at https://eastline.ludus.com/index.php or call 516-749-5047.
URL:https://www.huntingtonarts.org/event/eastline-theatre-presents-a-very-expensive-poison/2025-12-20/1/
LOCATION:BACCA\, 149 N. Wellwood Ave\, Lindenhurst\, NY 11757\, NY\, 11757\, United States
CATEGORIES:Theater
ATTACH;FMTTYPE=image/png:https://www.huntingtonarts.org/wp-content/uploads/2025/01/PoisonInstaDates.png
ORGANIZER;CN="EastLine Theatre":MAILTO:info@eastlinetheatre.org
END:VEVENT
BEGIN:VEVENT
DTSTART;TZID=America/New_York:20251005T150000
DTEND;TZID=America/New_York:20251005T170000
DTSTAMP:20260421T231017
CREATED:20250121T192234Z
LAST-MODIFIED:20250121T192234Z
UID:10015231-1759676400-1759683600@www.huntingtonarts.org
SUMMARY:EastLine Theatre presents The Hours Are Feminine
DESCRIPTION:by José Rivera \nTwo families\, old immigrants from Italy and new immigrants from Puerto Rico\, share a yard in rural Long Island in 1960 — the year of Kennedy\, Hurricane Donna\, and Roberto Clemente — a yard separated by culture\, language\, history\, and an old apple tree. Is friendship possible in this world? And what hand will fate play when the deadly hurricane rages through the land? Join us in celebration of Hispanic Heritage Month. \nTickets at https://eastline.ludus.com/index.php or call 516-749-5047.
URL:https://www.huntingtonarts.org/event/eastline-theatre-presents-the-hours-are-feminine/2025-10-05/
LOCATION:BACCA\, 149 N. Wellwood Ave\, Lindenhurst\, NY 11757\, NY\, 11757\, United States
CATEGORIES:Theater
ATTACH;FMTTYPE=image/png:https://www.huntingtonarts.org/wp-content/uploads/2025/01/HoursInstaDates.png
ORGANIZER;CN="EastLine Theatre":MAILTO:info@eastlinetheatre.org
END:VEVENT
BEGIN:VEVENT
DTSTART;TZID=America/New_York:20250920T080000
DTEND;TZID=America/New_York:20251005T170000
DTSTAMP:20260421T231017
CREATED:20250121T192234Z
LAST-MODIFIED:20250121T192234Z
UID:10015223-1758355200-1759683600@www.huntingtonarts.org
SUMMARY:EastLine Theatre presents The Hours Are Feminine
DESCRIPTION:by José Rivera \nTwo families\, old immigrants from Italy and new immigrants from Puerto Rico\, share a yard in rural Long Island in 1960 — the year of Kennedy\, Hurricane Donna\, and Roberto Clemente — a yard separated by culture\, language\, history\, and an old apple tree. Is friendship possible in this world? And what hand will fate play when the deadly hurricane rages through the land? Join us in celebration of Hispanic Heritage Month. \nTickets at https://eastline.ludus.com/index.php or call 516-749-5047.
URL:https://www.huntingtonarts.org/event/eastline-theatre-presents-the-hours-are-feminine/2025-09-20/1/
LOCATION:BACCA\, 149 N. Wellwood Ave\, Lindenhurst\, NY 11757\, NY\, 11757\, United States
CATEGORIES:Theater
ATTACH;FMTTYPE=image/png:https://www.huntingtonarts.org/wp-content/uploads/2025/01/HoursInstaDates.png
ORGANIZER;CN="EastLine Theatre":MAILTO:info@eastlinetheatre.org
END:VEVENT
BEGIN:VEVENT
DTSTART;TZID=America/New_York:20250427T150000
DTEND;TZID=America/New_York:20250427T170000
DTSTAMP:20260421T231017
CREATED:20250121T192932Z
LAST-MODIFIED:20250121T192932Z
UID:10015222-1745766000-1745773200@www.huntingtonarts.org
SUMMARY:EastLine Theatre presents Yentl
DESCRIPTION:by Leah Napolin & Isaac Bashevis Singer \nA young woman defies convention and the laws of her people to fulfill her dream. Disguised as a young man\, she becomes a brilliant student — and the most wanted bachelor in town. A startlingly modern love story\, and a smart\, witty comedy that will win your heart. \nTickets at https://eastline.ludus.com/index.php or call 516-749-5047.
URL:https://www.huntingtonarts.org/event/eastline-theatre-presents-yentl/2025-04-27/
LOCATION:BACCA\, 149 N. Wellwood Ave\, Lindenhurst\, NY 11757\, NY\, 11757\, United States
CATEGORIES:Theater
ATTACH;FMTTYPE=image/png:https://www.huntingtonarts.org/wp-content/uploads/2025/01/YentlInstaDates.png
ORGANIZER;CN="EastLine Theatre":MAILTO:info@eastlinetheatre.org
END:VEVENT
BEGIN:VEVENT
DTSTART;TZID=America/New_York:20250411T080000
DTEND;TZID=America/New_York:20250427T170000
DTSTAMP:20260421T231017
CREATED:20250121T192932Z
LAST-MODIFIED:20250121T192932Z
UID:10015215-1744358400-1745773200@www.huntingtonarts.org
SUMMARY:EastLine Theatre presents Yentl
DESCRIPTION:by Leah Napolin & Isaac Bashevis Singer \nA young woman defies convention and the laws of her people to fulfill her dream. Disguised as a young man\, she becomes a brilliant student — and the most wanted bachelor in town. A startlingly modern love story\, and a smart\, witty comedy that will win your heart. \nTickets at https://eastline.ludus.com/index.php or call 516-749-5047.
URL:https://www.huntingtonarts.org/event/eastline-theatre-presents-yentl/2025-04-11/1/
LOCATION:BACCA\, 149 N. Wellwood Ave\, Lindenhurst\, NY 11757\, NY\, 11757\, United States
CATEGORIES:Theater
ATTACH;FMTTYPE=image/png:https://www.huntingtonarts.org/wp-content/uploads/2025/01/YentlInstaDates.png
ORGANIZER;CN="EastLine Theatre":MAILTO:info@eastlinetheatre.org
END:VEVENT
BEGIN:VEVENT
DTSTART;TZID=America/New_York:20250223T150000
DTEND;TZID=America/New_York:20250223T170000
DTSTAMP:20260421T231017
CREATED:20250121T192111Z
LAST-MODIFIED:20250121T192111Z
UID:10015214-1740322800-1740330000@www.huntingtonarts.org
SUMMARY:EastLine Theatre presents An Enemy of the People
DESCRIPTION:by Henrik Ibsen\, newly adapted by Paul DeFilippo \nWhen a small-town doctor discovers a brewing catastrophe that risks the lives of everyone in town\, the alarm must be raised. But those in power set out to protect their own skins and silence the doctor—and it may destroy them all. \nTickets at https://eastline.ludus.com/index.php or call 516-749-5047.
URL:https://www.huntingtonarts.org/event/eastline-theatre-presents-an-enemy-of-the-people/2025-02-23/
LOCATION:BACCA\, 149 N. Wellwood Ave\, Lindenhurst\, NY 11757\, NY\, 11757\, United States
ATTACH;FMTTYPE=image/png:https://www.huntingtonarts.org/wp-content/uploads/2025/01/EnemyInstaDates.png
ORGANIZER;CN="EastLine Theatre":MAILTO:info@eastlinetheatre.org
END:VEVENT
BEGIN:VEVENT
DTSTART;TZID=America/New_York:20240324T200000
DTEND;TZID=America/New_York:20240324T220000
DTSTAMP:20260421T231017
CREATED:20240308T152336Z
LAST-MODIFIED:20240308T152336Z
UID:10010646-1711310400-1711317600@www.huntingtonarts.org
SUMMARY:Modern Classics Theatre Company of Long Island presents The Cripple of Inishmaan by Martin McDonagh
DESCRIPTION:The Cripple of Inishmaan is a dark Irish comedy by Martin McDonagh which takes place on the island of Inishmaan in 1934. Young Billy Claven decides to leave the island and pursue his dream of becoming a Hollywood film star leaving his quirky neighbors behind. \nOrder tickets on our website at www.mctli.com or by calling us at: 516-236-5838
URL:https://www.huntingtonarts.org/event/modern-classics-theatre-company-of-long-island-presents-the-cripple-of-inishmaan-by-martin-mcdonagh-2/2024-03-24/
LOCATION:BACCA\, 149 N. Wellwood Ave\, Lindenhurst\, NY 11757\, NY\, 11757\, United States
CATEGORIES:Theater
ATTACH;FMTTYPE=image/jpeg:https://www.huntingtonarts.org/wp-content/uploads/2024/02/Cover-Photo-5.jpeg
ORGANIZER;CN="Modern Classics Theatre Company of Long Island":MAILTO:modernclassicstheatreli@gmail.com
END:VEVENT
BEGIN:VEVENT
DTSTART;TZID=America/New_York:20240324T200000
DTEND;TZID=America/New_York:20240324T220000
DTSTAMP:20260421T231017
CREATED:20240304T184806Z
LAST-MODIFIED:20240304T184806Z
UID:10010249-1711310400-1711317600@www.huntingtonarts.org
SUMMARY:Modern Classics Theatre Company of Long Island presents The Cripple of Inishmaan by Martin McDonagh
DESCRIPTION:The Cripple of Inishmaan is a dark Irish comedy by Martin McDonagh which takes place on the island of Inishmaan in 1934. Young Billy Claven decides to leave the island and pursue his dream of becoming a Hollywood film star leaving his quirky neighbors behind. \nOrder tickets on our website at www.mctli.com or by calling us at: 516-236-5838
URL:https://www.huntingtonarts.org/event/modern-classics-theatre-company-of-long-island-presents-the-cripple-of-inishmaan-by-martin-mcdonagh/2024-03-24/
LOCATION:BACCA\, 149 N. Wellwood Ave\, Lindenhurst\, NY 11757\, NY\, 11757\, United States
CATEGORIES:Theater
ATTACH;FMTTYPE=image/jpeg:https://www.huntingtonarts.org/wp-content/uploads/2024/02/Cover-Photo.jpeg
ORGANIZER;CN="Modern Classics Theatre Company of Long Island":MAILTO:modernclassicstheatreli@gmail.com
END:VEVENT
BEGIN:VEVENT
DTSTART;TZID=America/New_York:20230812T200000
DTEND;TZID=America/New_York:20230827T200000
DTSTAMP:20260421T231017
CREATED:20230414T160212Z
LAST-MODIFIED:20230613T115154Z
UID:10005861-1691870400-1693166400@www.huntingtonarts.org
SUMMARY:EastLine Theatre presents Dance Nation by Clare Barron
DESCRIPTION:Somewhere in America\, an army of pre-teen competitive dancers plots to take over the world. And if their new routine is good enough\, they’ll claw their way to the top at Nationals in Tampa Bay. Finalist for the Pulitzer Prize. \nAugust 12th\, 13th\, 19th\, 20th\, 25th\, 26th\, 27th at the BACCA Center in Lindenhurst.
URL:https://www.huntingtonarts.org/event/eastline-theatre-presents-dance-nation-by-clare-barron/
LOCATION:BACCA\, 149 N. Wellwood Ave\, Lindenhurst\, NY 11757\, NY\, 11757\, United States
CATEGORIES:Theater
ORGANIZER;CN="EastLine Theatre":MAILTO:info@eastlinetheatre.org
END:VEVENT
BEGIN:VEVENT
DTSTART;TZID=America/New_York:20230203T190000
DTEND;TZID=America/New_York:20230226T190000
DTSTAMP:20260421T231017
CREATED:20220822T162827Z
LAST-MODIFIED:20220822T162827Z
UID:10004808-1675450800-1677438000@www.huntingtonarts.org
SUMMARY:EastLine Theatre presents Angels in America: Millennium Approaches & Perestroika by Tony Kushner
DESCRIPTION:A gay man is abandoned by his lover when he contracts HIV\, a closeted Mormon’s marriage crumbles as his wife slowly has a nervous breakdown\, a mother goes in search of her son in the big city\, and a nurse tends to corrupt lawyer Roy Cohn as he battles the ghosts from his past. This seminal\, Pulitzer Prize-winning play tells the story of these colliding lives in a production crafted for EastLine Theatre’s tenth anniversary. \nEastLine is thrilled to be performing both epic parts of this American masterpiece.
URL:https://www.huntingtonarts.org/event/eastline-theatre-presents-angels-in-america-millennium-approaches-perestroika-by-tony-kushner/
LOCATION:BACCA\, 149 N. Wellwood Ave\, Lindenhurst\, NY 11757\, NY\, 11757\, United States
ATTACH;FMTTYPE=image/jpeg:https://www.huntingtonarts.org/wp-content/uploads/2022/08/1F26249E-0D13-4D62-BA28-E13463D62D3F-scaled-2.jpeg
ORGANIZER;CN="EastLine Theatre":MAILTO:info@eastlinetheatre.org
END:VEVENT
BEGIN:VEVENT
DTSTART;TZID=America/New_York:20220828T140000
DTEND;TZID=America/New_York:20220828T163000
DTSTAMP:20260421T231017
CREATED:20220801T131522Z
LAST-MODIFIED:20220801T131522Z
UID:10005155-1661695200-1661704200@www.huntingtonarts.org
SUMMARY:EastLine Theatre presents In the Next Room\, or the vibrator play by Sarah Ruhl
DESCRIPTION:Sarah Ruhl’s romantic comedy about the invention of the vibrator comes to Lindenhurst this August. \n“It used to be that it would take hours to produce a paroxysm in our patients\nbut thanks to this new electrical instrument we shall be done in a matter of minutes!” \nSet at the dawn of the age of electricity in a seemingly perfect\, well-to-do Victorian home\, proper gentleman and scientist Dr. Givings has innocently invented an extraordinary new device for treating “hysteria” in women (and occasionally men): the vibrator. Adjacent to the doctor’s laboratory\, his young and energetic wife Catherine tries to tend to their newborn daughter – and wonders exactly what is going on in the next room. \nEastLine Theatre in association with the Babylon Citizens Council on the Arts will present Pulitzer finalist Sarah Ruhl’s Tony-nominated In the Next Room\, or the vibrator play this August in Lindenhurst. \nThis event is made possible through the support of the Suffolk County Office of Cultural Affairs and the Alliance of Resident Theatres / New York. \nIn the Next Room\, or the vibrator play by Sarah Ruhl is directed by Danny Higgins\, presented by EastLine Theatre in partnership with the Babylon Citizens Council on the Arts\, with support from the Suffolk County Office of Cultural Affairs\, intimacy direction by Francesca Betancourt\, stage management by Julianna Frasca\, and with costumes by Lynn Ciorciari. \nThe cast of In the Next Room\, or the vibrator play features Martin Balaguer\, Bryanna Bradley\, Margaret Brigid\, Paul DeFilippo\, John Dorcic\, Julie Fergus\, and Nicole Savin. \nEastLine Theatre is a nonprofit theatre company that BroadwayWorld calls ‘Long Island’s best kept secret’. EastLine aims to create theatre in unlikely spaces while re-examining the canon\, exploring modern plays\, and bringing original works to the attention of the community. \nEastLine Theatre returns to the BACCA Center after February’s sold-out production of Intimate Apparel. In summer 2021\, EastLine toured Long Island parks with an acclaimed production of Romeo & Juliet. In recent years\, EastLine has produced Prospero (Live)\, an original musical based on The Tempest; the Long Island premiere of Paula Vogel’s Indecent; a newly-commissioned adaptation of Antigone; a sold-out run of Peter Shaffer’s Amadeus in a tiny blackbox space; and a production of Treasure Island that BroadwayWorld said was ‘bursting at the seams with imagination’. \nEastLine Theatre is a proud member of the Huntington Arts Council and the Alliance of Resident Theatres / New York.
URL:https://www.huntingtonarts.org/event/eastline-theatre-presents-in-the-next-room-or-the-vibrator-play-by-sarah-ruhl/2022-08-28/
LOCATION:BACCA\, 149 N. Wellwood Ave\, Lindenhurst\, NY 11757\, NY\, 11757\, United States
CATEGORIES:Theater
ATTACH;FMTTYPE=image/jpeg:https://www.huntingtonarts.org/wp-content/uploads/2022/07/vibrator-play-square-1.jpg
ORGANIZER;CN="EastLine Theatre":MAILTO:info@eastlinetheatre.org
END:VEVENT
END:VCALENDAR