BEGIN:VCALENDAR
VERSION:2.0
PRODID:-//Huntington Arts Council - ECPv6.15.20//NONSGML v1.0//EN
CALSCALE:GREGORIAN
METHOD:PUBLISH
X-WR-CALNAME:Huntington Arts Council
X-ORIGINAL-URL:https://www.huntingtonarts.org
X-WR-CALDESC:Events for Huntington Arts Council
REFRESH-INTERVAL;VALUE=DURATION:PT1H
X-Robots-Tag:noindex
X-PUBLISHED-TTL:PT1H
BEGIN:VTIMEZONE
TZID:America/New_York
BEGIN:DAYLIGHT
TZOFFSETFROM:-0500
TZOFFSETTO:-0400
TZNAME:EDT
DTSTART:20230312T070000
END:DAYLIGHT
BEGIN:STANDARD
TZOFFSETFROM:-0400
TZOFFSETTO:-0500
TZNAME:EST
DTSTART:20231105T060000
END:STANDARD
BEGIN:DAYLIGHT
TZOFFSETFROM:-0500
TZOFFSETTO:-0400
TZNAME:EDT
DTSTART:20240310T070000
END:DAYLIGHT
BEGIN:STANDARD
TZOFFSETFROM:-0400
TZOFFSETTO:-0500
TZNAME:EST
DTSTART:20241103T060000
END:STANDARD
BEGIN:DAYLIGHT
TZOFFSETFROM:-0500
TZOFFSETTO:-0400
TZNAME:EDT
DTSTART:20250309T070000
END:DAYLIGHT
BEGIN:STANDARD
TZOFFSETFROM:-0400
TZOFFSETTO:-0500
TZNAME:EST
DTSTART:20251102T060000
END:STANDARD
BEGIN:DAYLIGHT
TZOFFSETFROM:-0500
TZOFFSETTO:-0400
TZNAME:EDT
DTSTART:20260308T070000
END:DAYLIGHT
BEGIN:STANDARD
TZOFFSETFROM:-0400
TZOFFSETTO:-0500
TZNAME:EST
DTSTART:20261101T060000
END:STANDARD
END:VTIMEZONE
BEGIN:VEVENT
DTSTART;TZID=America/New_York:20250310T173000
DTEND;TZID=America/New_York:20250310T190000
DTSTAMP:20260422T054439
CREATED:20250311T175908Z
LAST-MODIFIED:20250311T175908Z
UID:10015283-1741627800-1741633200@www.huntingtonarts.org
SUMMARY:Irish Music Celebration
DESCRIPTION:The Babylon Village Arts Council in collaboration with the Babylon Library and the Friends of the Library present Irish Music Celebration by Tom Donovan on Monday\, March 10 beginning at 5:30. The Donovan Project presents A Celebration of Irish Music\, a performance that combines music\, storytelling and audience participation to create a fun and engaging experience. Attendees can expect to laugh\, maybe cry and learn a thing or two about what music means to the Irish and Irish Americans. Please register for this event. This event is made possible in part through Suffolk County.
URL:https://www.huntingtonarts.org/event/irish-music-celebration/
LOCATION:Babylon Public Library\, 24 S. Carll Ave\, Babylon\, NY\, 11702\, United States
CATEGORIES:Music
ATTACH;FMTTYPE=image/jpeg:https://www.huntingtonarts.org/wp-content/uploads/2025/03/03.10.25-Irish-Music-Flyer-FL.jpg
ORGANIZER;CN="Babylon Village Arts Council":MAILTO:infobvac@gmail.com
GEO:40.695012;-73.325971
X-APPLE-STRUCTURED-LOCATION;VALUE=URI;X-ADDRESS=Babylon Public Library 24 S. Carll Ave Babylon NY 11702 United States;X-APPLE-RADIUS=500;X-TITLE=24 S. Carll Ave:geo:-73.325971,40.695012
END:VEVENT
BEGIN:VEVENT
DTSTART;TZID=America/New_York:20240309T080000
DTEND;TZID=America/New_York:20240331T170000
DTSTAMP:20260422T054439
CREATED:20240312T154058Z
LAST-MODIFIED:20240312T154058Z
UID:10010649-1709971200-1711904400@www.huntingtonarts.org
SUMMARY:Babylon Village Arts Council presents Exhibit at Babylon Public Library
DESCRIPTION:Photographer\, Allyson Uttendorfer\, of Babylon\, is an artist and art educator currently working at Half Hollow Hills High School East. Uttendorfer is on exhibit at the Babylon Public Library. located at 24 South Carll in Babylon Village. Uttendorfer explores 35 mm film photography and utilizes the darkroom to create one of a kind Gelatin Silver prints. This series explores analogue film photography and the beauty and vintage feel of this traditional medium. Uttendorfer is the current Vice President of the Babylon Village Arts Council and has been an active member since 2016.
URL:https://www.huntingtonarts.org/event/babylon-village-arts-council-presents-exhibit-at-babylon-public-library/
LOCATION:Babylon Public Library\, 24 S. Carll Ave\, Babylon\, NY\, 11702\, United States
CATEGORIES:Exhibitions
ATTACH;FMTTYPE=image/jpeg:https://www.huntingtonarts.org/wp-content/uploads/2024/03/0.jpg
ORGANIZER;CN="Babylon Village Arts Council":MAILTO:infobvac@gmail.com
GEO:40.695012;-73.325971
X-APPLE-STRUCTURED-LOCATION;VALUE=URI;X-ADDRESS=Babylon Public Library 24 S. Carll Ave Babylon NY 11702 United States;X-APPLE-RADIUS=500;X-TITLE=24 S. Carll Ave:geo:-73.325971,40.695012
END:VEVENT
END:VCALENDAR