BEGIN:VCALENDAR
VERSION:2.0
PRODID:-//Huntington Arts Council - ECPv6.15.20//NONSGML v1.0//EN
CALSCALE:GREGORIAN
METHOD:PUBLISH
X-ORIGINAL-URL:https://www.huntingtonarts.org
X-WR-CALDESC:Events for Huntington Arts Council
REFRESH-INTERVAL;VALUE=DURATION:PT1H
X-Robots-Tag:noindex
X-PUBLISHED-TTL:PT1H
BEGIN:VTIMEZONE
TZID:America/New_York
BEGIN:DAYLIGHT
TZOFFSETFROM:-0500
TZOFFSETTO:-0400
TZNAME:EDT
DTSTART:20240310T070000
END:DAYLIGHT
BEGIN:STANDARD
TZOFFSETFROM:-0400
TZOFFSETTO:-0500
TZNAME:EST
DTSTART:20241103T060000
END:STANDARD
BEGIN:DAYLIGHT
TZOFFSETFROM:-0500
TZOFFSETTO:-0400
TZNAME:EDT
DTSTART:20250309T070000
END:DAYLIGHT
BEGIN:STANDARD
TZOFFSETFROM:-0400
TZOFFSETTO:-0500
TZNAME:EST
DTSTART:20251102T060000
END:STANDARD
BEGIN:DAYLIGHT
TZOFFSETFROM:-0500
TZOFFSETTO:-0400
TZNAME:EDT
DTSTART:20260308T070000
END:DAYLIGHT
BEGIN:STANDARD
TZOFFSETFROM:-0400
TZOFFSETTO:-0500
TZNAME:EST
DTSTART:20261101T060000
END:STANDARD
END:VTIMEZONE
BEGIN:VEVENT
DTSTART;TZID=America/New_York:20250728T110000
DTEND;TZID=America/New_York:20250822T170000
DTSTAMP:20260422T062602
CREATED:20240617T151905Z
LAST-MODIFIED:20240617T151905Z
UID:10014039-1753700400-1755882000@www.huntingtonarts.org
SUMMARY:b.j Spoke Gallery presents SMALL WORKS
DESCRIPTION:A photo collection of small works of small images by members of the Long Island Center of Photography (LICP) at the B.J. Spoke Gallery\, 209 Main Street\, Huntington NY\, July 3 – 28\, 2024\, Hours: Wednesday – Thursday & Sunday 11am-5pm; Friday and Saturday 1-7pm – Reception: July 7 2:00 – 4:00
URL:https://www.huntingtonarts.org/event/b-j-spoke-gallery-presents-small-works/2025-07-28/
LOCATION:b.j. Spoke Gallery\, 299 Main Street\, Huntington \, NY\, 11743\, United States
CATEGORIES:Exhibitions
ATTACH;FMTTYPE=image/jpeg:https://www.huntingtonarts.org/wp-content/uploads/2024/06/LICP-Small-Works-Logo.jpeg
ORGANIZER;CN="Long Island Center of Photography":MAILTO:hopo99@verizon.net
GEO:40.8712044;-73.4281258
X-APPLE-STRUCTURED-LOCATION;VALUE=URI;X-ADDRESS=b.j. Spoke Gallery 299 Main Street Huntington  NY 11743 United States;X-APPLE-RADIUS=500;X-TITLE=299 Main Street:geo:-73.4281258,40.8712044
END:VEVENT
END:VCALENDAR