BEGIN:VCALENDAR
VERSION:2.0
PRODID:-//Huntington Arts Council - ECPv6.15.20//NONSGML v1.0//EN
CALSCALE:GREGORIAN
METHOD:PUBLISH
X-WR-CALNAME:Huntington Arts Council
X-ORIGINAL-URL:https://www.huntingtonarts.org
X-WR-CALDESC:Events for Huntington Arts Council
REFRESH-INTERVAL;VALUE=DURATION:PT1H
X-Robots-Tag:noindex
X-PUBLISHED-TTL:PT1H
BEGIN:VTIMEZONE
TZID:America/New_York
BEGIN:DAYLIGHT
TZOFFSETFROM:-0500
TZOFFSETTO:-0400
TZNAME:EDT
DTSTART:20240310T070000
END:DAYLIGHT
BEGIN:STANDARD
TZOFFSETFROM:-0400
TZOFFSETTO:-0500
TZNAME:EST
DTSTART:20241103T060000
END:STANDARD
BEGIN:DAYLIGHT
TZOFFSETFROM:-0500
TZOFFSETTO:-0400
TZNAME:EDT
DTSTART:20250309T070000
END:DAYLIGHT
BEGIN:STANDARD
TZOFFSETFROM:-0400
TZOFFSETTO:-0500
TZNAME:EST
DTSTART:20251102T060000
END:STANDARD
BEGIN:DAYLIGHT
TZOFFSETFROM:-0500
TZOFFSETTO:-0400
TZNAME:EDT
DTSTART:20260308T070000
END:DAYLIGHT
BEGIN:STANDARD
TZOFFSETFROM:-0400
TZOFFSETTO:-0500
TZNAME:EST
DTSTART:20261101T060000
END:STANDARD
END:VTIMEZONE
BEGIN:VEVENT
DTSTART;TZID=America/New_York:20250622T180000
DTEND;TZID=America/New_York:20250622T210000
DTSTAMP:20260422T063024
CREATED:20250507T160253Z
LAST-MODIFIED:20250507T160253Z
UID:10015619-1750615200-1750626000@www.huntingtonarts.org
SUMMARY:Integrative Creative Arts Therapy presents Summer Solstice Community Gathering
DESCRIPTION:🌞 Summer Solstice Community Gathering\nPresented by Mor Keshet\, Integrative Eco Art Therapist\nSaturday\, June 22 | 6–9 PM\n109 Browns Road\, Huntington\, NY\nHosted outdoors on five acres of pristine native gardens in Huntington Harbor. \nJoin us for an intimate and inspiring evening of:\n🎨 Art Making\n🌿 Eco-Ritual\n🥗 Communal Meal\n🌸 Splendid Nature \nThis seasonal gathering is designed to nurture connection within ourselves\, with one another\, and with the Earth. All are welcome. \nSliding Scale / Pay What You Can ($45–$125 suggested contribution) \nLearn more + register at: www.morkeshet.com/offerings
URL:https://www.huntingtonarts.org/event/integrative-creative-arts-therapy-presents-summer-solstice-community-gathering/
LOCATION:Art Cottage & Gardens\, 109 Browns Road\, Huntington\, NY\, 11743\, United States
CATEGORIES:Workshop Classes
ATTACH;FMTTYPE=image/png:https://www.huntingtonarts.org/wp-content/uploads/2025/05/SUMMER-SOLSTICE-COMMUNITY-GATHERING-2-2.png
ORGANIZER;CN="IntegrativeCreative Arts Therapy":MAILTO:mor@morkeshet.com
END:VEVENT
END:VCALENDAR