BEGIN:VCALENDAR
VERSION:2.0
PRODID:-//Huntington Arts Council - ECPv6.15.20//NONSGML v1.0//EN
CALSCALE:GREGORIAN
METHOD:PUBLISH
X-ORIGINAL-URL:https://www.huntingtonarts.org
X-WR-CALDESC:Events for Huntington Arts Council
REFRESH-INTERVAL;VALUE=DURATION:PT1H
X-Robots-Tag:noindex
X-PUBLISHED-TTL:PT1H
BEGIN:VTIMEZONE
TZID:America/New_York
BEGIN:DAYLIGHT
TZOFFSETFROM:-0500
TZOFFSETTO:-0400
TZNAME:EDT
DTSTART:20230312T070000
END:DAYLIGHT
BEGIN:STANDARD
TZOFFSETFROM:-0400
TZOFFSETTO:-0500
TZNAME:EST
DTSTART:20231105T060000
END:STANDARD
BEGIN:DAYLIGHT
TZOFFSETFROM:-0500
TZOFFSETTO:-0400
TZNAME:EDT
DTSTART:20240310T070000
END:DAYLIGHT
BEGIN:STANDARD
TZOFFSETFROM:-0400
TZOFFSETTO:-0500
TZNAME:EST
DTSTART:20241103T060000
END:STANDARD
BEGIN:DAYLIGHT
TZOFFSETFROM:-0500
TZOFFSETTO:-0400
TZNAME:EDT
DTSTART:20250309T070000
END:DAYLIGHT
BEGIN:STANDARD
TZOFFSETFROM:-0400
TZOFFSETTO:-0500
TZNAME:EST
DTSTART:20251102T060000
END:STANDARD
END:VTIMEZONE
BEGIN:VEVENT
DTSTART;TZID=America/New_York:20240721T130000
DTEND;TZID=America/New_York:20240721T160000
DTSTAMP:20260422T205608
CREATED:20240514T144815Z
LAST-MODIFIED:20240514T144815Z
UID:10013152-1721566800-1721577600@www.huntingtonarts.org
SUMMARY:Fernando Carpaneda: Art of New York Reception & Award Ceremony
DESCRIPTION:Join us May 18th from 1-4 pm in the Great Hall for an award ceremony and meet the artist reception celebrating the Art of New York Juried Art Show. Awards will be handed out at 2pm. \nMeet artists from across New York State\, check out the Juried Art Show\, and enjoy light refreshments. \nThis reception is free\, and all ages are welcome. \nFor questions\, please call 518-673-2314 ext. 106 or email info@arkellmuseum.org
URL:https://www.huntingtonarts.org/event/fernando-carpaneda-art-of-new-york-reception-award-ceremony/2024-07-21/
LOCATION:Arkell Museum\, 2 Erie Blvd\, Canajoharie\, 13317\, United States
CATEGORIES:Exhibitions
ATTACH;FMTTYPE=image/jpeg:https://www.huntingtonarts.org/wp-content/uploads/2024/05/Fernando-Carpaneda.jpg
END:VEVENT
END:VCALENDAR