BEGIN:VCALENDAR
VERSION:2.0
PRODID:-//Huntington Arts Council - ECPv6.15.20//NONSGML v1.0//EN
CALSCALE:GREGORIAN
METHOD:PUBLISH
X-WR-CALNAME:Huntington Arts Council
X-ORIGINAL-URL:https://www.huntingtonarts.org
X-WR-CALDESC:Events for Huntington Arts Council
REFRESH-INTERVAL;VALUE=DURATION:PT1H
X-Robots-Tag:noindex
X-PUBLISHED-TTL:PT1H
BEGIN:VTIMEZONE
TZID:America/New_York
BEGIN:DAYLIGHT
TZOFFSETFROM:-0500
TZOFFSETTO:-0400
TZNAME:EDT
DTSTART:20250309T070000
END:DAYLIGHT
BEGIN:STANDARD
TZOFFSETFROM:-0400
TZOFFSETTO:-0500
TZNAME:EST
DTSTART:20251102T060000
END:STANDARD
BEGIN:DAYLIGHT
TZOFFSETFROM:-0500
TZOFFSETTO:-0400
TZNAME:EDT
DTSTART:20260308T070000
END:DAYLIGHT
BEGIN:STANDARD
TZOFFSETFROM:-0400
TZOFFSETTO:-0500
TZNAME:EST
DTSTART:20261101T060000
END:STANDARD
BEGIN:DAYLIGHT
TZOFFSETFROM:-0500
TZOFFSETTO:-0400
TZNAME:EDT
DTSTART:20270314T070000
END:DAYLIGHT
BEGIN:STANDARD
TZOFFSETFROM:-0400
TZOFFSETTO:-0500
TZNAME:EST
DTSTART:20271107T060000
END:STANDARD
END:VTIMEZONE
BEGIN:VEVENT
DTSTART;TZID=America/New_York:20260503T100000
DTEND;TZID=America/New_York:20260503T170000
DTSTAMP:20260422T193149
CREATED:20260115T211453Z
LAST-MODIFIED:20260115T211453Z
UID:10019214-1777802400-1777827600@www.huntingtonarts.org
SUMMARY:The Long Beach Art League presents Long Beach Fine Art Expo IV
DESCRIPTION:The Long Beach Art League presents Long Beach Fine Art Expo IV\, a juried fine art exhibition featuring professional artists working across a variety of media. The Expo takes place on Sunday\, May 3\, 2026\, from 10:00 AM–5:00 PM in the Grand Ballroom at the Allegria Hotel\, 80 West Broadway\, Long Beach\, NY. Admission is free and open to the public.
URL:https://www.huntingtonarts.org/event/the-long-beach-art-league-presents-long-beach-fine-art-expo-iv/
LOCATION:Allegria Hotel\, 80 West Broadway\, Long Beach\, NY\, 11561\, United States
CATEGORIES:Exhibitions
ATTACH;FMTTYPE=image/jpeg:https://www.huntingtonarts.org/wp-content/uploads/2026/01/EXPO-IV-Flyer.jpg
ORGANIZER;CN="Long Beach Art League":MAILTO:lissettresnick@gmail.com
END:VEVENT
END:VCALENDAR