BEGIN:VCALENDAR
VERSION:2.0
PRODID:-//Huntington Arts Council - ECPv6.15.20//NONSGML v1.0//EN
CALSCALE:GREGORIAN
METHOD:PUBLISH
X-WR-CALNAME:Huntington Arts Council
X-ORIGINAL-URL:https://www.huntingtonarts.org
X-WR-CALDESC:Events for Huntington Arts Council
REFRESH-INTERVAL;VALUE=DURATION:PT1H
X-Robots-Tag:noindex
X-PUBLISHED-TTL:PT1H
BEGIN:VTIMEZONE
TZID:America/New_York
BEGIN:DAYLIGHT
TZOFFSETFROM:-0500
TZOFFSETTO:-0400
TZNAME:EDT
DTSTART:20250309T070000
END:DAYLIGHT
BEGIN:STANDARD
TZOFFSETFROM:-0400
TZOFFSETTO:-0500
TZNAME:EST
DTSTART:20251102T060000
END:STANDARD
BEGIN:DAYLIGHT
TZOFFSETFROM:-0500
TZOFFSETTO:-0400
TZNAME:EDT
DTSTART:20260308T070000
END:DAYLIGHT
BEGIN:STANDARD
TZOFFSETFROM:-0400
TZOFFSETTO:-0500
TZNAME:EST
DTSTART:20261101T060000
END:STANDARD
BEGIN:DAYLIGHT
TZOFFSETFROM:-0500
TZOFFSETTO:-0400
TZNAME:EDT
DTSTART:20270314T070000
END:DAYLIGHT
BEGIN:STANDARD
TZOFFSETFROM:-0400
TZOFFSETTO:-0500
TZNAME:EST
DTSTART:20271107T060000
END:STANDARD
END:VTIMEZONE
BEGIN:VEVENT
DTSTART;VALUE=DATE:20260320
DTEND;VALUE=DATE:20260321
DTSTAMP:20260422T210825
CREATED:20260115T205042Z
LAST-MODIFIED:20260115T205042Z
UID:10019215-1773964800-1774051199@www.huntingtonarts.org
SUMMARY:Long Beach Art League presents Call for Artists: Long Beach Fine Art Expo IV
DESCRIPTION:The Long Beach Art League announces a Call for Artists for Long Beach Fine Art Expo IV\, taking place on Sunday\, May 3\, 2026\, from 10:00 AM–5:00 PM in the Grand Ballroom of the Allegria Hotel\, 80 West Broadway\, Long Beach\, NY. This juried fine art event is the only fine art expo held in Long Beach. The submission deadline is Friday\, March 20\, 2026. Artists may contact longbeachfineartexpo@gmail.com\nto request the prospectus and entry form.
URL:https://www.huntingtonarts.org/event/long-beach-art-league-presents-call-for-artists-long-beach-fine-art-expo-iv/
LOCATION:Allegria Hotel\, 80 West Broadway\, Long Beach\, NY\, 11561\, United States
CATEGORIES:Exhibitions
ATTACH;FMTTYPE=image/jpeg:https://www.huntingtonarts.org/wp-content/uploads/2026/01/EXPO-IV-Call-to-Artists-Flyer.jpg
ORGANIZER;CN="Long Beach Art League":MAILTO:lissettresnick@gmail.com
END:VEVENT
END:VCALENDAR