BEGIN:VCALENDAR
VERSION:2.0
PRODID:-//Huntington Arts Council - ECPv6.15.20//NONSGML v1.0//EN
CALSCALE:GREGORIAN
METHOD:PUBLISH
X-WR-CALNAME:Huntington Arts Council
X-ORIGINAL-URL:https://www.huntingtonarts.org
X-WR-CALDESC:Events for Huntington Arts Council
REFRESH-INTERVAL;VALUE=DURATION:PT1H
X-Robots-Tag:noindex
X-PUBLISHED-TTL:PT1H
BEGIN:VTIMEZONE
TZID:America/New_York
BEGIN:DAYLIGHT
TZOFFSETFROM:-0500
TZOFFSETTO:-0400
TZNAME:EDT
DTSTART:20210314T070000
END:DAYLIGHT
BEGIN:STANDARD
TZOFFSETFROM:-0400
TZOFFSETTO:-0500
TZNAME:EST
DTSTART:20211107T060000
END:STANDARD
BEGIN:DAYLIGHT
TZOFFSETFROM:-0500
TZOFFSETTO:-0400
TZNAME:EDT
DTSTART:20220313T070000
END:DAYLIGHT
BEGIN:STANDARD
TZOFFSETFROM:-0400
TZOFFSETTO:-0500
TZNAME:EST
DTSTART:20221106T060000
END:STANDARD
BEGIN:DAYLIGHT
TZOFFSETFROM:-0500
TZOFFSETTO:-0400
TZNAME:EDT
DTSTART:20230312T070000
END:DAYLIGHT
BEGIN:STANDARD
TZOFFSETFROM:-0400
TZOFFSETTO:-0500
TZNAME:EST
DTSTART:20231105T060000
END:STANDARD
END:VTIMEZONE
BEGIN:VEVENT
DTSTART;TZID=America/New_York:20221002T080000
DTEND;TZID=America/New_York:20221002T170000
DTSTAMP:20260422T162309
CREATED:20220407T190823Z
LAST-MODIFIED:20220407T190823Z
UID:10005071-1664697600-1664730000@www.huntingtonarts.org
SUMMARY:EastLine Theatre's Production of "Anna in the Tropics" at Westbury Arts
DESCRIPTION:Winner of the 2003 Pulitzer Prize\, set in Ybor City\, Florida\, in 1929. Here\, a cadre of Cuban-Americans\, primarily female cigar factory laborers who hand roll each cigar await the arrival of their new lector\, Juan Julian. The lector serves to entertain the workers by reading great stories. Most of the group is overjoyed by the presence of this new\, handsome lector\, but when he starts reading from the Russian classic\, Anna Karenina\, the scandalous lives of Tolstoy’s characters start to intertwine with the lives of his listeners. As Juan Julian reads\, the hot\, humid Florida summer strangely starts to resemble the cold Russian winter of Tolstoy. Infidelity\, money problems\, and violence spring to the surface as the owners and workers grapple with their newfound understanding of life\, love and business.
URL:https://www.huntingtonarts.org/event/eastline-theatres-production-of-anna-in-the-tropics-at-westbury-arts-2/2022-10-02/
LOCATION:Westbury Arts\, 255 Schenck Ave\, Westbury\, NY\, 11590\, United States
CATEGORIES:Theater
ATTACH;FMTTYPE=image/jpeg:https://www.huntingtonarts.org/wp-content/uploads/2022/03/Eastline-1.jpg
ORGANIZER;CN="EastLine Theatre":MAILTO:info@eastlinetheatre.org
END:VEVENT
BEGIN:VEVENT
DTSTART;TZID=America/New_York:20220916T191500
DTEND;TZID=America/New_York:20220916T213000
DTSTAMP:20260422T162309
CREATED:20220407T190455Z
LAST-MODIFIED:20220407T190455Z
UID:10005061-1663355700-1663363800@www.huntingtonarts.org
SUMMARY:Westbury Arts: 11th Annual Short Film Concert presented by Asbury Shorts.
DESCRIPTION:Asbury Shorts\, New York City’s longest-running non-competitive short film exhibition and touring show\, is returning to the founder’s hometown of Westbury on Friday\, September 16\, for a free outdoor evening film show at Piazza Ernesto Strada on Post and Maple Avenues in the middle of the Village. The show will open with live music at 7:15 with the first film at approximately 8 pm. The show will feature a mix of past audience request favorites mixed with new global festival winners and honorees. \nAsbury Shorts is named for Westbury’s Asbury Avenue where the founder of the festival\, filmmaker Doug LeClaire grew up. “I love returning to Westbury\, a community that nourished and educated me\,” he says. \nFor 40 years Asbury Shorts’ film “Concerts” have been presented at venues across the US\, Canada\, Great Britain\, and Germany. “Our mission\,” says LeClaire\, “is to screen world-renowned\, festival award-winning short films – from all years – in cinemas\, art museums\, performing arts centers\, and cool outdoor locations…on real cinema screens…as opposed to YouTube\, smartphones\, or computers.” The program features a fast-paced and highly entertaining lineup of the best in short film comedy\, drama\, and animation and often includes Oscar nominees\, US film festival ‘Best of Show winners\, and international honorees from the past & present. Says LeClair\, “These films are recommended for ages 16 and way above.” Says Jason Reitman\, Academy Award-nominated director of Juno and Thank You for Smoking: “The Best Short Film Show I’ve ever seen.” \nReservations are not necessary. Bring a folding chair just in case seating runs out. \nThis 11th anniversary Short Film Concert of Westbury is presented by Westbury Arts \nRain Date: Sept. 17\, 2022
URL:https://www.huntingtonarts.org/event/westbury-arts-11th-annual-short-film-concert-presented-by-asbury-shorts/
LOCATION:Piazza Ernesto Strada\, Post Ave at Maple Ave\, Westbury\, NY\, 11590\, United States
CATEGORIES:Film/Media
ATTACH;FMTTYPE=image/jpeg:https://www.huntingtonarts.org/wp-content/uploads/2022/03/Asbury-Shorts.jpeg
ORGANIZER;CN="Westbury Arts":MAILTO:julie@westburyarts.org
GEO:40.755797;-73.5878659
X-APPLE-STRUCTURED-LOCATION;VALUE=URI;X-ADDRESS=Piazza Ernesto Strada Post Ave at Maple Ave Westbury NY 11590 United States;X-APPLE-RADIUS=500;X-TITLE=Post Ave at Maple Ave:geo:-73.5878659,40.755797
END:VEVENT
BEGIN:VEVENT
DTSTART;TZID=America/New_York:20220915T190000
DTEND;TZID=America/New_York:20220915T210000
DTSTAMP:20260422T162309
CREATED:20220407T190655Z
LAST-MODIFIED:20220407T190655Z
UID:10005063-1663268400-1663275600@www.huntingtonarts.org
SUMMARY:Westbury Arts' Hispanic Heritage Month Art Exhibition Opening
DESCRIPTION:A juried art exhibit highlighting emerging and established artists from Long Island. The exhibition will run from September 15 through October 15\, 2022. Along with the art exhibit Westbury Arts. Art Exhibition Opening will have live entertainment and refreshments and a Latinx Roundtable Talk\, exploring the diversity within the Hispanic/Latinx community.
URL:https://www.huntingtonarts.org/event/westbury-arts-hispanic-heritage-month-art-exhibition-opening/
LOCATION:Westbury Arts\, 255 Schenck Ave\, Westbury\, NY\, 11590\, United States
CATEGORIES:Exhibitions
ATTACH;FMTTYPE=image/jpeg:https://www.huntingtonarts.org/wp-content/uploads/2022/03/hispanic-heritage.jpg
ORGANIZER;CN="Westbury Arts":MAILTO:julie@westburyarts.org
END:VEVENT
BEGIN:VEVENT
DTSTART;TZID=America/New_York:20220901T190000
DTEND;TZID=America/New_York:20220901T210000
DTSTAMP:20260422T162309
CREATED:20220407T190358Z
LAST-MODIFIED:20220407T190358Z
UID:10005100-1662058800-1662066000@www.huntingtonarts.org
SUMMARY:Westbury Arts’ 8th Annual Summer Concert Series: Nonstop To Cairo
DESCRIPTION:Nonstop to Cairo has emerged as one of New York’s premier bands as they bring their music\, a unique blend of ska\, hip-hop\, and funk\, to a dedicated fan base up and down the East Coast. This quintet of childhood and longtime friends is ready to elevate their careers to the next level through the power of music. Whether\, on record or attending a live show\, Nonstop to Cairo is a guaranteed exceptional music experience for the listener and they invite anyone who will hear them to grab hold and enjoy the adventure.
URL:https://www.huntingtonarts.org/event/westbury-arts-8th-annual-summer-concert-series-nonstop-to-cairo/
LOCATION:Piazza Ernesto Strada\, Post Ave at Maple Ave\, Westbury\, NY\, 11590\, United States
CATEGORIES:Music
ATTACH;FMTTYPE=image/jpeg:https://www.huntingtonarts.org/wp-content/uploads/2022/03/non-stop-to-cairo.jpg
ORGANIZER;CN="Westbury Arts":MAILTO:julie@westburyarts.org
GEO:40.755797;-73.5878659
X-APPLE-STRUCTURED-LOCATION;VALUE=URI;X-ADDRESS=Piazza Ernesto Strada Post Ave at Maple Ave Westbury NY 11590 United States;X-APPLE-RADIUS=500;X-TITLE=Post Ave at Maple Ave:geo:-73.5878659,40.755797
END:VEVENT
BEGIN:VEVENT
DTSTART;TZID=America/New_York:20220825T190000
DTEND;TZID=America/New_York:20220825T210000
DTSTAMP:20260422T162309
CREATED:20220405T173657Z
LAST-MODIFIED:20220405T173657Z
UID:10005133-1661454000-1661461200@www.huntingtonarts.org
SUMMARY:Westbury Arts’ 8th Annual Summer Concert Series:Sabori – The Salsa and Latin Jazz Band
DESCRIPTION:Sabori\, the Salsa and Latin jazz band\, plays the music of Latin giants such as Tito Puente\, Johnny Pacheco\, Willie Colon\, and many others. Their spicy blend of salsa and Latin jazz\, fueled by a fiery rhythm section\, brings back the great Latin sounds of the 1970s. This is authentic Latin music you can dance to!
URL:https://www.huntingtonarts.org/event/westbury-arts-8th-annual-summer-concert-seriessabori-the-salsa-and-latin-jazz-band/
LOCATION:Piazza Ernesto Strada\, Post Ave at Maple Ave\, Westbury\, NY\, 11590\, United States
CATEGORIES:Music
ATTACH;FMTTYPE=image/jpeg:https://www.huntingtonarts.org/wp-content/uploads/2022/03/Sabori-The-Salsa-and-Latin-Jazz-Band.jpg
ORGANIZER;CN="Julie Lyon":MAILTO:julie@westburyarts.org
GEO:40.755797;-73.5878659
X-APPLE-STRUCTURED-LOCATION;VALUE=URI;X-ADDRESS=Piazza Ernesto Strada Post Ave at Maple Ave Westbury NY 11590 United States;X-APPLE-RADIUS=500;X-TITLE=Post Ave at Maple Ave:geo:-73.5878659,40.755797
END:VEVENT
BEGIN:VEVENT
DTSTART;TZID=America/New_York:20220818T190000
DTEND;TZID=America/New_York:20220818T210000
DTSTAMP:20260422T162309
CREATED:20220405T173627Z
LAST-MODIFIED:20220405T173627Z
UID:10005145-1660849200-1660856400@www.huntingtonarts.org
SUMMARY:Westbury Arts’ 8th Annual Summer Concert Series:  X-Session
DESCRIPTION:Together for over twenty years\, X-Session is comprised of five seasoned musicians – guitar\, bass\, drums\, keys\, and sax. X-Session is well-known for its diverse musical selection and amazing vocal harmonies! You won’t believe there are only five voices. This rock-n-roll cover band has shared performances evenings with internationally known artists such as Kool and the Gang\, Roberta Flack\, and more. Founded in 1995\, X-Session has performed over 800 shows covering everything from Mumford and Sons to Elvis Presley to Brooks and Dunn and REM.
URL:https://www.huntingtonarts.org/event/westbury-arts-8th-annual-summer-concert-series-x-session/
LOCATION:Piazza Ernesto Strada\, Post Ave at Maple Ave\, Westbury\, NY\, 11590\, United States
CATEGORIES:Music
ATTACH;FMTTYPE=image/jpeg:https://www.huntingtonarts.org/wp-content/uploads/2022/03/X-Session.jpg
ORGANIZER;CN="Westbury Arts":MAILTO:julie@westburyarts.org
GEO:40.755797;-73.5878659
X-APPLE-STRUCTURED-LOCATION;VALUE=URI;X-ADDRESS=Piazza Ernesto Strada Post Ave at Maple Ave Westbury NY 11590 United States;X-APPLE-RADIUS=500;X-TITLE=Post Ave at Maple Ave:geo:-73.5878659,40.755797
END:VEVENT
BEGIN:VEVENT
DTSTART;TZID=America/New_York:20220811T190000
DTEND;TZID=America/New_York:20220811T210000
DTSTAMP:20260422T162309
CREATED:20220405T173459Z
LAST-MODIFIED:20220405T173459Z
UID:10005162-1660244400-1660251600@www.huntingtonarts.org
SUMMARY:Westbury Arts’ 8th Annual Summer Concert Series: Soul Purpose
DESCRIPTION:SOUL PURPOSE\, OFFICIALLY ESTABLISHED ON SEPTEMBER 2ND\, 2015\, FIRST STARTED OUT AS A GROUP OF MUSIC EDUCATION GRADUATES WHO DECIDED TO FORM A MOTOWN BAND FOR A DECENT-SIZED BACKYARD PARTY. WHAT INITIALLY STARTED OUT AS A ONE-TIME DEAL\, ENDED UP AS A PACT BETWEEN NEWFOUND SOUL BROTHAS! \nSINCE THEN\, WE HAVE EXPLODED ONTO THE NEW YORK MUSIC SCENE\, GAINED SOME NEW MEMBERS IN THE PROCESS\, AND NOW HAVE A REPUTATION FOR NOT ONLY BEING HIGH ENERGY BUT ALSO GETTING THE CROWD ON THEIR FEET WITH MUSIC THAT APPEALS TO ALL AGES!\n​\nWHAT SEPARATES US FROM ANY BAND IS OUR SHOWMANSHIP\, OUR BLEND OF GENRES\, AND OUR UNIQUE SELECTION OF SONGS TO KEEP YOU DANCING ALL NIGHT LONG!
URL:https://www.huntingtonarts.org/event/westbury-arts-8th-annual-summer-concert-series-soul-purpose/
LOCATION:Piazza Ernesto Strada\, Post Ave at Maple Ave\, Westbury\, NY\, 11590\, United States
CATEGORIES:Music
ATTACH;FMTTYPE=image/jpeg:https://www.huntingtonarts.org/wp-content/uploads/2022/03/soul-purpose.jpg
ORGANIZER;CN="Westbury Arts":MAILTO:julie@westburyarts.org
GEO:40.755797;-73.5878659
X-APPLE-STRUCTURED-LOCATION;VALUE=URI;X-ADDRESS=Piazza Ernesto Strada Post Ave at Maple Ave Westbury NY 11590 United States;X-APPLE-RADIUS=500;X-TITLE=Post Ave at Maple Ave:geo:-73.5878659,40.755797
END:VEVENT
BEGIN:VEVENT
DTSTART;TZID=America/New_York:20220806T190000
DTEND;TZID=America/New_York:20220806T210000
DTSTAMP:20260422T162309
CREATED:20220405T171847Z
LAST-MODIFIED:20220405T171847Z
UID:10005168-1659812400-1659819600@www.huntingtonarts.org
SUMMARY:Westbury Arts: Treasures Uncovered/Rediscovered: Assemblage and Mixed-Media Art Exhibition Opening
DESCRIPTION:This Exhibition centers around creating mixed-media art featuring found objects\, upcycled materials\, and assemblage pieces. It represents all themes\, ages\, and skill levels. This show can also speak to the power of recycling and eco-friendly initiatives. Prize ribbons (1st\, 2nd\, and 3rd) will be awarded along with a “Juror’s Choice”\nand “Viewer’s Choice.” \nThe Opening Celebration will be held on August 6\, 2022\, from 7:00 until 9:00 PM. Light refreshments will be served. \nThe Gallery will be open for viewing on:\nFridays\, August 12\, 19\, and 26\, 2022 from 2:00 PM until 6:00 PM\nSaturdays\, August 13\, 20\, and 27\, 2022 from 12:00 PM until 4:00 PM
URL:https://www.huntingtonarts.org/event/westbury-arts-treasures-uncovered-rediscovered-assemblage-and-mixed-media-art-exhibition-opening/
LOCATION:Westbury Arts\, 255 Schenck Ave\, Westbury\, NY\, 11590\, United States
CATEGORIES:Exhibitions
ATTACH;FMTTYPE=image/jpeg:https://www.huntingtonarts.org/wp-content/uploads/2022/03/01fa31a597878cb2c8a6e8cc54f79a0e9670972fe8-1.jpg
ORGANIZER;CN="Westbury Arts":MAILTO:julie@westburyarts.org
END:VEVENT
BEGIN:VEVENT
DTSTART;TZID=America/New_York:20220804T080000
DTEND;TZID=America/New_York:20220804T170000
DTSTAMP:20260422T162309
CREATED:20220405T173421Z
LAST-MODIFIED:20220405T173421Z
UID:10005172-1659600000-1659632400@www.huntingtonarts.org
SUMMARY:Westbury Arts’ 8th Annual Summer Concert Series: Mala Waldron
DESCRIPTION:Vocalist/Pianist/Composer Mala Waldron is a New York City native who balances local performances with tours all over Europe and Asia. Featured recordings include her CD debut\, “Lullabye” (a tribute to the godmother\, Billie Holiday)\, a duo project with her father\, pianist\, composer Mal Waldron (“He’s My Father”)\, and “Always There” which\, in addition to being her first U.S. release\, was licensed by Columbia Records (Japan) and voted one of the Top 20 Jazz CDs of 2006 by JazzUSA. \nAs a bandleader\, Mala has performed with her group at many esteemed venues including the Jazz Standard\, Dizzy’s Club Coca Cola\, the 55 Bar\, Cornelia St. Cafe\, BAM Cafe\, the 1st Annual Coltrane Day Music Festival\, and most recently at the Kennedy Center Millennium Stage\, and the 17th Annual Jazz in the Valley festival with the Christopher Dean Sullivan Ensemble. Career highlights include touring and recording with her father\, writing and performing her big band arrangements with the James Jabbo Ware\, “Me We & Them” Orchestra\, and singing her original music (orchestrated and conducted by Alfonso Girardo) with a 45-piece jazz symphony\, the Magna Grecia Orchestra while on tour in Taranto\, Italy.
URL:https://www.huntingtonarts.org/event/westbury-arts-8th-annual-summer-concert-series-mala-waldron/
LOCATION:Piazza Ernesto Strada\, Post Ave at Maple Ave\, Westbury\, NY\, 11590\, United States
CATEGORIES:Music
ATTACH;FMTTYPE=image/jpeg:https://www.huntingtonarts.org/wp-content/uploads/2022/03/download-1.jpg
ORGANIZER;CN="Westbury Arts":MAILTO:julie@westburyarts.org
GEO:40.755797;-73.5878659
X-APPLE-STRUCTURED-LOCATION;VALUE=URI;X-ADDRESS=Piazza Ernesto Strada Post Ave at Maple Ave Westbury NY 11590 United States;X-APPLE-RADIUS=500;X-TITLE=Post Ave at Maple Ave:geo:-73.5878659,40.755797
END:VEVENT
BEGIN:VEVENT
DTSTART;TZID=America/New_York:20220707T190000
DTEND;TZID=America/New_York:20220707T210000
DTSTAMP:20260422T162309
CREATED:20220405T172058Z
LAST-MODIFIED:20220405T172058Z
UID:10005218-1657220400-1657227600@www.huntingtonarts.org
SUMMARY:Westbury Arts' 8th Annual Summer Concert Series: Arena Rock Tribute.com/
DESCRIPTION:Arena Rock Tribute is a classic rock tribute band that features music from iconic bands who helped define the era in the ’70s and ’80s including Queen\, Journey\, Styx\, Foreigner\, Bon Jovi\, Van Halen\, and The Who. They perform rock blocks of their greatest hits with undeniable energy and precision that makes for an exciting event!
URL:https://www.huntingtonarts.org/event/westbury-arts-8th-annual-summer-concert-series-arena-rock-tribute-com/
LOCATION:Westbury Piazza Summer Arts & Concert Series\, Piazza Ernesto Strada\, corner of Post Avenue and Maple Avenue \, Westbury\, NY\, 11590\, United States
CATEGORIES:Music
ATTACH;FMTTYPE=image/png:https://www.huntingtonarts.org/wp-content/uploads/2022/03/Arena-Rock-Tribute.png
ORGANIZER;CN="Westbury Arts":MAILTO:julie@westburyarts.org
GEO:40.7556657;-73.5886524
X-APPLE-STRUCTURED-LOCATION;VALUE=URI;X-ADDRESS=Westbury Piazza Summer Arts & Concert Series Piazza Ernesto Strada corner of Post Avenue and Maple Avenue  Westbury NY 11590 United States;X-APPLE-RADIUS=500;X-TITLE=Piazza Ernesto Strada\, corner of Post Avenue and Maple Avenue:geo:-73.5886524,40.7556657
END:VEVENT
BEGIN:VEVENT
DTSTART;TZID=America/New_York:20220702T190000
DTEND;TZID=America/New_York:20220702T210000
DTSTAMP:20260422T162309
CREATED:20220405T145705Z
LAST-MODIFIED:20220405T145705Z
UID:10005222-1656788400-1656795600@www.huntingtonarts.org
SUMMARY:Westbury Arts presents an Exhibition of Islamic Art
DESCRIPTION:Westbury Arts proudly presents an exhibition of Islamic Art. Across the Islamic world\, visual art has three key characteristics; floral motifs\, geometric designs\, and/or calligraphy. Often overlapping across various art forms and genres\, these elements are influenced by principles in the Qu’ran. This exhibit will be grouped by examples of these three art forms. The show will be curated by Dr. Farouk Khan\, a member of the board of directors of the Islamic Center of Long Island\, and his niece\, Daisy Khan. \nGallery viewing hours:\nSaturdays\, July 9\, 16\, and 23 from 12:00 PM to 4:00 PM\nSundays\, July 10\, 17\, and 24\, from 12:00 PM to 4:00 PM
URL:https://www.huntingtonarts.org/event/westbury-arts-presents-an-exhibition-of-islamic-art/
LOCATION:Westbury Arts\, 255 Schenck Ave\, Westbury\, NY\, 11590\, United States
CATEGORIES:Exhibitions
ATTACH;FMTTYPE=image/png:https://www.huntingtonarts.org/wp-content/uploads/2022/03/Picture1-2.png
ORGANIZER;CN="Westbury Arts":MAILTO:julie@westburyarts.org
END:VEVENT
END:VCALENDAR