BEGIN:VCALENDAR
VERSION:2.0
PRODID:-//Huntington Arts Council - ECPv6.15.20//NONSGML v1.0//EN
CALSCALE:GREGORIAN
METHOD:PUBLISH
X-ORIGINAL-URL:https://www.huntingtonarts.org
X-WR-CALDESC:Events for Huntington Arts Council
REFRESH-INTERVAL;VALUE=DURATION:PT1H
X-Robots-Tag:noindex
X-PUBLISHED-TTL:PT1H
BEGIN:VTIMEZONE
TZID:America/New_York
BEGIN:DAYLIGHT
TZOFFSETFROM:-0500
TZOFFSETTO:-0400
TZNAME:EDT
DTSTART:20250309T070000
END:DAYLIGHT
BEGIN:STANDARD
TZOFFSETFROM:-0400
TZOFFSETTO:-0500
TZNAME:EST
DTSTART:20251102T060000
END:STANDARD
BEGIN:DAYLIGHT
TZOFFSETFROM:-0500
TZOFFSETTO:-0400
TZNAME:EDT
DTSTART:20260308T070000
END:DAYLIGHT
BEGIN:STANDARD
TZOFFSETFROM:-0400
TZOFFSETTO:-0500
TZNAME:EST
DTSTART:20261101T060000
END:STANDARD
BEGIN:DAYLIGHT
TZOFFSETFROM:-0500
TZOFFSETTO:-0400
TZNAME:EDT
DTSTART:20270314T070000
END:DAYLIGHT
BEGIN:STANDARD
TZOFFSETFROM:-0400
TZOFFSETTO:-0500
TZNAME:EST
DTSTART:20271107T060000
END:STANDARD
END:VTIMEZONE
BEGIN:VEVENT
DTSTART;TZID=America/New_York:20260328T180000
DTEND;TZID=America/New_York:20260328T210000
DTSTAMP:20260421T201552
CREATED:20260326T200253Z
LAST-MODIFIED:20260326T200253Z
UID:10023091-1774720800-1774731600@www.huntingtonarts.org
SUMMARY:Listening Party with "Fuji" & Hollis King
DESCRIPTION:We are deeply honored to welcome some very special Friends of the Coltrane home for a deeply cool listening party and discussion about John and Alice Coltrane and their Dix Hills Home\, which is being transformed into a museum and cultural center. \nWhen: Saturday\, March 28 @6pm\nYasuhiro “Fuji” Fujioka is a Board member of the Friends of The Coltrane Home in Dix Hills\, President of the Coltrane House of Osaka\, and owns the Kimono shop\, “Fujioka.” He is also a freelance jazz writer/ producer/ photographer/ educator and the author of four books on the subject of John Coltrane.\nHollis King is the former vice president and creative director at the Verve Music Group\, the largest jazz record label in the world. He has worked with some of the greatest musicians of all time\, and has himself received numerous achievement awards and citations.\nThis is a Free\, Open Door Event. We’d love to hear if you’re coming.
URL:https://www.huntingtonarts.org/event/listening-party-with-fuji-hollis-king/
LOCATION:The Firefly Artists\, 90 Main Street\, Northport\, 11768\, United States
CATEGORIES:Music
ATTACH;FMTTYPE=image/jpeg:https://www.huntingtonarts.org/wp-content/uploads/2026/03/Listening-Party.jpg
ORGANIZER;CN="The Firefly Artists":MAILTO:ktl@thefireflyartists.com
GEO:40.9003658;-73.348833
X-APPLE-STRUCTURED-LOCATION;VALUE=URI;X-ADDRESS=The Firefly Artists 90 Main Street Northport 11768 United States;X-APPLE-RADIUS=500;X-TITLE=90 Main Street:geo:-73.348833,40.9003658
END:VEVENT
END:VCALENDAR