BEGIN:VCALENDAR
VERSION:2.0
PRODID:-//Huntington Arts Council - ECPv6.15.20//NONSGML v1.0//EN
CALSCALE:GREGORIAN
METHOD:PUBLISH
X-ORIGINAL-URL:https://www.huntingtonarts.org
X-WR-CALDESC:Events for Huntington Arts Council
REFRESH-INTERVAL;VALUE=DURATION:PT1H
X-Robots-Tag:noindex
X-PUBLISHED-TTL:PT1H
BEGIN:VTIMEZONE
TZID:America/New_York
BEGIN:DAYLIGHT
TZOFFSETFROM:-0500
TZOFFSETTO:-0400
TZNAME:EDT
DTSTART:20220313T070000
END:DAYLIGHT
BEGIN:STANDARD
TZOFFSETFROM:-0400
TZOFFSETTO:-0500
TZNAME:EST
DTSTART:20221106T060000
END:STANDARD
BEGIN:DAYLIGHT
TZOFFSETFROM:-0500
TZOFFSETTO:-0400
TZNAME:EDT
DTSTART:20230312T070000
END:DAYLIGHT
BEGIN:STANDARD
TZOFFSETFROM:-0400
TZOFFSETTO:-0500
TZNAME:EST
DTSTART:20231105T060000
END:STANDARD
BEGIN:DAYLIGHT
TZOFFSETFROM:-0500
TZOFFSETTO:-0400
TZNAME:EDT
DTSTART:20240310T070000
END:DAYLIGHT
BEGIN:STANDARD
TZOFFSETFROM:-0400
TZOFFSETTO:-0500
TZNAME:EST
DTSTART:20241103T060000
END:STANDARD
END:VTIMEZONE
BEGIN:VEVENT
DTSTART;TZID=America/New_York:20231201T190000
DTEND;TZID=America/New_York:20231201T213000
DTSTAMP:20260422T131745
CREATED:20231206T173549Z
LAST-MODIFIED:20231206T173549Z
UID:10006527-1701457200-1701466200@www.huntingtonarts.org
SUMMARY:Jazz Loft Presents The Bad Little Big Band: Holiday Show
DESCRIPTION:Fri 12/1—\nThe Bad Little Big Band: Holiday Show. The Bad Little Big Band. The 12-member big band\, led by pianist\, composer\, and arranger Rich Iacona\, performs the hits of the holiday season. Featuring vocalist Madeline Kole.\n7:00 PM. Tickets: $40 adults\, $35 seniors\, $30 students and $25 children (5 and under are free).
URL:https://www.huntingtonarts.org/event/jazz-loft-presents-the-bad-little-big-band-holiday-show-2/
LOCATION:The Jazz Loft\, 275 Christian Ave\, Stony Brook\, NY\, 11790\, United States
CATEGORIES:Music
ORGANIZER;CN="The Jazz Loft":MAILTO:info@thejazzloft.org
END:VEVENT
BEGIN:VEVENT
DTSTART;TZID=America/New_York:20230615T190000
DTEND;TZID=America/New_York:20230615T213000
DTSTAMP:20260422T131745
CREATED:20230607T161129Z
LAST-MODIFIED:20230613T115615Z
UID:10005912-1686855600-1686864600@www.huntingtonarts.org
SUMMARY:Jazz Loft Presents The Bad Little Big Band    [jazz]
DESCRIPTION:Thurs June 15—\nThe Bad Little Big Band. The 12-member big band\, led by pianist\, composer\, and arranger Rich Iacona\, performs the music of The Great American Songbook. Featuring vocalist Madeline Kole.\n7:00 PM. Tickets: $30 adult\, $25 senior\, $20 student\, $15 child\, 5 years and under are free.
URL:https://www.huntingtonarts.org/event/jazz-loft-presents-the-bad-little-big-band-jazz/
LOCATION:The Jazz Loft\, 275 Christian Ave\, Stony Brook\, NY\, 11790\, United States
CATEGORIES:Music
ORGANIZER;CN="The Jazz Loft":MAILTO:info@thejazzloft.org
END:VEVENT
END:VCALENDAR