BEGIN:VCALENDAR
VERSION:2.0
PRODID:-//Huntington Arts Council - ECPv6.15.20//NONSGML v1.0//EN
CALSCALE:GREGORIAN
METHOD:PUBLISH
X-ORIGINAL-URL:https://www.huntingtonarts.org
X-WR-CALDESC:Events for Huntington Arts Council
REFRESH-INTERVAL;VALUE=DURATION:PT1H
X-Robots-Tag:noindex
X-PUBLISHED-TTL:PT1H
BEGIN:VTIMEZONE
TZID:America/New_York
BEGIN:DAYLIGHT
TZOFFSETFROM:-0500
TZOFFSETTO:-0400
TZNAME:EDT
DTSTART:20220313T070000
END:DAYLIGHT
BEGIN:STANDARD
TZOFFSETFROM:-0400
TZOFFSETTO:-0500
TZNAME:EST
DTSTART:20221106T060000
END:STANDARD
BEGIN:DAYLIGHT
TZOFFSETFROM:-0500
TZOFFSETTO:-0400
TZNAME:EDT
DTSTART:20230312T070000
END:DAYLIGHT
BEGIN:STANDARD
TZOFFSETFROM:-0400
TZOFFSETTO:-0500
TZNAME:EST
DTSTART:20231105T060000
END:STANDARD
BEGIN:DAYLIGHT
TZOFFSETFROM:-0500
TZOFFSETTO:-0400
TZNAME:EDT
DTSTART:20240310T070000
END:DAYLIGHT
BEGIN:STANDARD
TZOFFSETFROM:-0400
TZOFFSETTO:-0500
TZNAME:EST
DTSTART:20241103T060000
END:STANDARD
BEGIN:DAYLIGHT
TZOFFSETFROM:-0500
TZOFFSETTO:-0400
TZNAME:EDT
DTSTART:20250309T070000
END:DAYLIGHT
BEGIN:STANDARD
TZOFFSETFROM:-0400
TZOFFSETTO:-0500
TZNAME:EST
DTSTART:20251102T060000
END:STANDARD
END:VTIMEZONE
BEGIN:VEVENT
DTSTART;TZID=America/New_York:20240822T180000
DTEND;TZID=America/New_York:20240822T200000
DTSTAMP:20260422T084841
CREATED:20240730T141843Z
LAST-MODIFIED:20240730T141843Z
UID:10014069-1724349600-1724356800@www.huntingtonarts.org
SUMMARY:The Jazz Loft presents Jazz 101: NOLA
DESCRIPTION:A night of celebrating Jazz music and history with well-known drummer\, performer\, and educator Darrell Smith.
URL:https://www.huntingtonarts.org/event/the-jazz-loft-presents-jazz-101-nola/
LOCATION:The Jazz Loft\, 275 Christian Ave.\, Stony Brook\, NY\, 11790\, United States
ATTACH;FMTTYPE=image/jpeg:https://www.huntingtonarts.org/wp-content/uploads/2024/07/Jazz_Loft_generic_poster_Hinton_Room-4.jpg
END:VEVENT
BEGIN:VEVENT
DTSTART;TZID=America/New_York:20240815T190000
DTEND;TZID=America/New_York:20240815T210000
DTSTAMP:20260422T084841
CREATED:20240730T141633Z
LAST-MODIFIED:20240730T141633Z
UID:10014066-1723748400-1723755600@www.huntingtonarts.org
SUMMARY:The Jazz Loft presents The Bad Little Big Band
DESCRIPTION:The 12 member Bad Little Big Band led by pianist Rich Iacona\, and vocalist Madeline Kole accompanies the band. Iacona has added to the band’s repertoire with fresh and new arrangements that are performed at the Jazz Loft.
URL:https://www.huntingtonarts.org/event/the-jazz-loft-presents-the-bad-little-big-band-10/
LOCATION:The Jazz Loft\, 275 Christian Ave.\, Stony Brook\, NY\, 11790\, United States
ATTACH;FMTTYPE=image/jpeg:https://www.huntingtonarts.org/wp-content/uploads/2024/07/Jazz_Loft_generic_poster_Hinton_Room-3.jpg
END:VEVENT
BEGIN:VEVENT
DTSTART;TZID=America/New_York:20240807T130000
DTEND;TZID=America/New_York:20240807T140000
DTSTAMP:20260422T084841
CREATED:20240730T141326Z
LAST-MODIFIED:20240730T141326Z
UID:10014061-1723035600-1723039200@www.huntingtonarts.org
SUMMARY:The Jazz Loft presents Young at Heart: Big Band Bash
DESCRIPTION:Tom Manuel & the Young at Heart Trio: Tom Manuel\, cornet\, Steve Salerno\, guitar\, Keenan Zach\, bass performs a repertoire of tunes made popular by the big bands circa 1935-1945. The Big Band era was a time when Big Band Swing reigned supreme in American popular music. They will be playing songs by Benny Goodman\, Count Basie\, Woody Herman\, Duke Ellington\, Glenn Miller\, Artie Shaw\, and others.
URL:https://www.huntingtonarts.org/event/the-jazz-loft-presents-young-at-heart-big-band-bash/
LOCATION:The Jazz Loft\, 275 Christian Ave\, Stony Brook\, NY\, 11790\, United States
ATTACH;FMTTYPE=image/jpeg:https://www.huntingtonarts.org/wp-content/uploads/2024/07/Jazz_Loft_generic_poster_Hinton_Room.jpg
GEO:40.9200149;-73.1460847
X-APPLE-STRUCTURED-LOCATION;VALUE=URI;X-ADDRESS=The Jazz Loft 275 Christian Ave Stony Brook NY 11790 United States;X-APPLE-RADIUS=500;X-TITLE=275 Christian Ave:geo:-73.1460847,40.9200149
END:VEVENT
BEGIN:VEVENT
DTSTART;TZID=America/New_York:20240803T160000
DTEND;TZID=America/New_York:20240803T180000
DTSTAMP:20260422T084841
CREATED:20240730T141039Z
LAST-MODIFIED:20240730T141039Z
UID:10014059-1722700800-1722708000@www.huntingtonarts.org
SUMMARY:The Jazz Loft presents John Monteleone: Art of the Guitar Festival- Frank Vignola and Pasquale Grasso
DESCRIPTION:Frank Vignola is one of the most extraordinary guitarists performing before the public today. His stunning virtuosity has made him the guitarist of choice for many of the world’s top musicians\, including Ringo Starr\, Madonna\, Donald Fagen\, John Lewis\, and Lionel Hampton. Guitarist\, Pasquale Grasso\, has an astounding technique and concept informed not by jazz guitarists so much as by bebop pioneers like Powell\, Charlie Parker\, Dizzy Gillespie\, and the classical-guitar tradition. Frank Vignola and Pasquale Grasso will perform at the Jazz Loft on Saturday\, August 3.
URL:https://www.huntingtonarts.org/event/the-jazz-loft-presents-john-monteleone-art-of-the-guitar-festival-frank-vignola-and-pasquale-grasso/
LOCATION:The Jazz Loft\, 275 Christian Ave\, Stony Brook\, NY\, 11790\, United States
ATTACH;FMTTYPE=image/jpeg:https://www.huntingtonarts.org/wp-content/uploads/2024/07/8.1-3_2024_Monteleone_poster-4.jpg
GEO:40.9200149;-73.1460847
X-APPLE-STRUCTURED-LOCATION;VALUE=URI;X-ADDRESS=The Jazz Loft 275 Christian Ave Stony Brook NY 11790 United States;X-APPLE-RADIUS=500;X-TITLE=275 Christian Ave:geo:-73.1460847,40.9200149
END:VEVENT
BEGIN:VEVENT
DTSTART;TZID=America/New_York:20240801T180000
DTEND;TZID=America/New_York:20240801T200000
DTSTAMP:20260422T084841
CREATED:20240730T134647Z
LAST-MODIFIED:20240730T134647Z
UID:10014054-1722535200-1722542400@www.huntingtonarts.org
SUMMARY:The Jazz Loft presents John Monteleone: Art of the Guitar Festival Opening Reception
DESCRIPTION:The Jazz Loft will once again be presenting an impressive line-up for The John Monteleone: Art of the Guitar Festival\, August 1-3 at the Jazz Loft. The festival\, named for the world-renowned guitar luthier John Monteleone\, will have an opening reception with John Monteleone\, music by Steve Salerno\, and a first glimpse of the Guitar Gallery.
URL:https://www.huntingtonarts.org/event/the-jazz-loft-presents-john-monteleone-art-of-the-guitar-festival-opening-reception/
LOCATION:The Jazz Loft\, 275 Christian Ave.\, Stony Brook\, NY\, 11790\, United States
ATTACH;FMTTYPE=image/jpeg:https://www.huntingtonarts.org/wp-content/uploads/2024/07/8.1-3_2024_Monteleone_poster.jpg
END:VEVENT
BEGIN:VEVENT
DTSTART;TZID=America/New_York:20240629T190000
DTEND;TZID=America/New_York:20240629T213000
DTSTAMP:20260422T084841
CREATED:20240530T153636Z
LAST-MODIFIED:20240530T153636Z
UID:10013168-1719687600-1719696600@www.huntingtonarts.org
SUMMARY:The Jazz Loft presents Havana Night in the Basie Garden
DESCRIPTION:Sat June 29—\nHavana Night in the Basie Garden\, feat. The Carlos Jimenez Mambo Dulcet. The event will include: one Cuban cocktail\, wine\, or beer; one cigar; and passed hors d’oeuvres. (Additional drinks and cigars can be purchased.)\n7:00 PM. Tickets: $75.
URL:https://www.huntingtonarts.org/event/the-jazz-loft-presents-havana-night-in-the-basie-garden-2/
LOCATION:The Jazz Loft\, 275 Christian Ave.\, Stony Brook\, NY\, 11790\, United States
CATEGORIES:Music
END:VEVENT
BEGIN:VEVENT
DTSTART;TZID=America/New_York:20240628T190000
DTEND;TZID=America/New_York:20240628T213000
DTSTAMP:20260422T084841
CREATED:20240530T154758Z
LAST-MODIFIED:20240530T154758Z
UID:10013167-1719601200-1719610200@www.huntingtonarts.org
SUMMARY:The Jazz Loft presents Jon DeLucia &The Dave Brubeck Octet
DESCRIPTION:Fri June 28—\nJon DeLucia & The Dave Brubeck Octet.\n7:00 PM. Tickets: $30 adult\, $25 senior\, $20 student\, $15 child\, 5 years and under are free.
URL:https://www.huntingtonarts.org/event/the-jazz-loft-presents-jon-delucia-the-dave-brubeck-octet/
LOCATION:The Jazz Loft\, 275 Christian Ave.\, Stony Brook\, NY\, 11790\, United States
CATEGORIES:Music
END:VEVENT
BEGIN:VEVENT
DTSTART;TZID=America/New_York:20240627T190000
DTEND;TZID=America/New_York:20240627T213000
DTSTAMP:20260422T084841
CREATED:20240530T151428Z
LAST-MODIFIED:20240530T151428Z
UID:10013165-1719514800-1719523800@www.huntingtonarts.org
SUMMARY:The Jazz Loft presents The Interplay Jazz Orchestra
DESCRIPTION:Thurs June 27—\nThe Interplay Jazz Orchestra. The 17-member big band orchestra\, co-directed by Joe Devassy (trombone) and Gary Henderson (trumpet)\, performs original compositions and arrangements written by band members.\n7:00 PM. Tickets: $30 adult\, $25 senior\, $20 student\, $15 child\, 5 years and under are free.
URL:https://www.huntingtonarts.org/event/the-jazz-loft-presents-the-interplay-jazz-orchestra-21/
LOCATION:The Jazz Loft\, 275 Christian Ave.\, Stony Brook\, NY\, 11790\, United States
CATEGORIES:Music
END:VEVENT
BEGIN:VEVENT
DTSTART;TZID=America/New_York:20240626T190000
DTEND;TZID=America/New_York:20240626T213000
DTSTAMP:20260422T084841
CREATED:20240529T150012Z
LAST-MODIFIED:20240529T150012Z
UID:10013160-1719428400-1719437400@www.huntingtonarts.org
SUMMARY:The Jazz Loft presents Jazz concert and Jam session
DESCRIPTION:Weds June 5\, 12\, 19\, 26–\nJazz concert and jam session\, featuring The Jazz Loft Trio (bassist Keenan Zach & friends).\nConcert at 7pm\, followed by an open jam at 8pm\, when jazz musicians of all ages are invited to play on stage along with fellow jazz enthusiasts.\nTickets: arrive at 7:00 PM–$10; arrive at 8:00 for the open jam–$5.
URL:https://www.huntingtonarts.org/event/the-jazz-loft-presents-jazz-concert-and-jam-session-6/2024-06-26/
LOCATION:The Jazz Loft\, 275 Christian Ave.\, Stony Brook\, NY\, 11790\, United States
CATEGORIES:Music
END:VEVENT
BEGIN:VEVENT
DTSTART;TZID=America/New_York:20240620T190000
DTEND;TZID=America/New_York:20240620T213000
DTSTAMP:20260422T084841
CREATED:20240530T152521Z
LAST-MODIFIED:20240530T152521Z
UID:10013166-1718910000-1718919000@www.huntingtonarts.org
SUMMARY:The Jazz Loft presents The Bad Little Big Band [jazz]
DESCRIPTION:Thurs June 20—\nThe Bad Little Big Band. The 12-member big band\, led by pianist\, composer\, and arranger Rich Iacona\, performs the music of The Great American Songbook. Featuring vocalist Madeline Kole.\n7:00 PM. Tickets: $30 adult\, $25 senior\, $20 student\, $15 child\, 5 years and under are free.
URL:https://www.huntingtonarts.org/event/the-jazz-loft-presents-the-bad-little-big-band-jazz-6/
LOCATION:The Jazz Loft\, 275 Christian Ave.\, Stony Brook\, NY\, 11790\, United States
CATEGORIES:Music
END:VEVENT
BEGIN:VEVENT
DTSTART;TZID=America/New_York:20240615T190000
DTEND;TZID=America/New_York:20240615T213000
DTSTAMP:20260422T084841
CREATED:20240529T150300Z
LAST-MODIFIED:20240529T150300Z
UID:10013163-1718478000-1718487000@www.huntingtonarts.org
SUMMARY:The Jazz Loft presents “Viva Cuba!” (jazz)
DESCRIPTION:June 13\, 14\, 15–\n“Viva Cuba!” The Jazz Loft’s 17-piece Latin Big Band\, directed by Tom Manuel\, celebrates the music of Prez Prado\, Xavier Cugat\, Machito\, Tito Puente\, and others.\n7:00 PM. Tickets: $40 adults\, $35 seniors\, $30 students\, $25 children\, 5 years and under are free.
URL:https://www.huntingtonarts.org/event/the-jazz-loft-presents-viva-cuba-jazz/2024-06-15/
LOCATION:The Jazz Loft\, 275 Christian Ave.\, Stony Brook\, NY\, 11790\, United States
CATEGORIES:Music
END:VEVENT
BEGIN:VEVENT
DTSTART;TZID=America/New_York:20240425T190000
DTEND;TZID=America/New_York:20240425T213000
DTSTAMP:20260422T084841
CREATED:20240327T161041Z
LAST-MODIFIED:20240327T161041Z
UID:10010675-1714071600-1714080600@www.huntingtonarts.org
SUMMARY:The Jazz Loft presents The Interplay Jazz Orchestra
DESCRIPTION:Thurs 4/25—\nInterplay Jazz Orchestra. The 17-member big band orchestra\, co-directed by Joe Devassy (trombone) and Gary Henderson (trumpet)\, performs original compositions and arrangements written by band members.\n7:00 PM. Tickets: $30 adults; $25 seniors; $20 students; $15 children; 5 yrs & younger are free.
URL:https://www.huntingtonarts.org/event/the-jazz-loft-presents-the-interplay-jazz-orchestra-20/
LOCATION:The Jazz Loft\, 275 Christian Ave\, Stony Brook\, NY\, 11790\, United States
CATEGORIES:Music
END:VEVENT
BEGIN:VEVENT
DTSTART;TZID=America/New_York:20240420T190000
DTEND;TZID=America/New_York:20240420T213000
DTSTAMP:20260422T084841
CREATED:20240327T161720Z
LAST-MODIFIED:20240327T161720Z
UID:10010674-1713639600-1713648600@www.huntingtonarts.org
SUMMARY:The Jazz Loft presents Ben Rosenblum Trio\, feat. Laura Anglade\, vocal
DESCRIPTION:Sat 4/20—\nBen Rosenblum Trio\, feat. Laura Anglade\, vocal.\nThis show is part of The Alan Greiman Memorial Cabaret series.\nTickets: $30 adults; $25 seniors; $20 students; $15 children; 5 yrs & younger are free.
URL:https://www.huntingtonarts.org/event/the-jazz-loft-presents-ben-rosenblum-trio-feat-laura-anglade-vocal/
LOCATION:The Jazz Loft\, 275 Christian Ave\, Stony Brook\, NY\, 11790\, United States
CATEGORIES:Music
END:VEVENT
BEGIN:VEVENT
DTSTART;TZID=America/New_York:20240419T190000
DTEND;TZID=America/New_York:20240419T213000
DTSTAMP:20260422T084841
CREATED:20240327T161837Z
LAST-MODIFIED:20240327T161837Z
UID:10010673-1713553200-1713562200@www.huntingtonarts.org
SUMMARY:The Jazz Loft presents The Dayna Sean Stephens Quartet
DESCRIPTION:Fri 4/19—\nThe Dayna Sean Stephens Quartet. Dayna Sean Stephens\, tenor sax.\n7:00 PM. Tickets: $30 adults; $25 seniors; $20 students; $15 children; 5 yrs & younger are free.
URL:https://www.huntingtonarts.org/event/the-jazz-loft-presents-the-dayna-sean-stephens-quartet/
LOCATION:The Jazz Loft\, 275 Christian Ave\, Stony Brook\, NY\, 11790\, United States
CATEGORIES:Music
END:VEVENT
BEGIN:VEVENT
DTSTART;TZID=America/New_York:20240418T190000
DTEND;TZID=America/New_York:20240418T213000
DTSTAMP:20260422T084841
CREATED:20240327T162230Z
LAST-MODIFIED:20240327T162230Z
UID:10010672-1713466800-1713475800@www.huntingtonarts.org
SUMMARY:The Jazz Loft presents The Bad Little Big Band  (jazz)
DESCRIPTION:Thurs 4/18—\nThe Bad Little Big Band. The 12-piece big band\, led by pianist\, composer\, and arranger Rich Iacona\, performs the music of The Great American Songbook. Featuring vocalist Madeline Kole.\n7:00 PM. Tickets: $30 adults; $25 seniors; $20 students; $15 children; 5 yrs & younger are free.
URL:https://www.huntingtonarts.org/event/the-jazz-loft-presents-the-bad-little-big-band-jazz-5/
LOCATION:The Jazz Loft\, 275 Christian Ave\, Stony Brook\, NY\, 11790\, United States
CATEGORIES:Music
END:VEVENT
BEGIN:VEVENT
DTSTART;TZID=America/New_York:20240405T190000
DTEND;TZID=America/New_York:20240405T213000
DTSTAMP:20260422T084841
CREATED:20240327T162510Z
LAST-MODIFIED:20240327T162510Z
UID:10010671-1712343600-1712352600@www.huntingtonarts.org
SUMMARY:The Jazz Loft presents “Charlie Parker With Strings”
DESCRIPTION:Fri 4/5—\nThe Jazz Loft Big Band presents “Charlie Parker With Strings.” Twelve-piece Jazz Orchestra directed by Jazz Loft Director\, Tom Manuel\, cornet\, featuring Chris Donohue\, Dayna Sean Stephens\, TBD\, alto sax soloists.\nAT STONY BROOK UNIV.\, STALLER CENTER FOR THE ARTS\nTickets: $40 adults; $35 seniors; $30 students; $25 children; 5 yrs & younger are free.
URL:https://www.huntingtonarts.org/event/the-jazz-loft-presents-charlie-parker-with-strings-3/
LOCATION:Stony Brook U. Staller Center for the Arts\, 100 Nicolls Rd.\, Stony Brook\, 11794-5425\, United States
CATEGORIES:Music
END:VEVENT
BEGIN:VEVENT
DTSTART;TZID=America/New_York:20231221T190000
DTEND;TZID=America/New_York:20231221T213000
DTSTAMP:20260422T084841
CREATED:20231206T173844Z
LAST-MODIFIED:20231206T173844Z
UID:10008398-1703185200-1703194200@www.huntingtonarts.org
SUMMARY:The Jazz Loft Presents Nicole Zuraitis’ Jazz Christmas Party
DESCRIPTION:Thurs 12/21—\nNicole Zuraitis’ Jazz Christmas Party. Grammy-nominated vocalist Nicole Zuraitis\, backed by a big band ensemble\, returns to The Jazz Loft to present classic holiday songs.\n7:00 PM. $40 adults\, $35 seniors\, $30 students and $25 children.
URL:https://www.huntingtonarts.org/event/the-jazz-loft-presents-nicole-zuraitis-jazz-christmas-party/
LOCATION:The Jazz Loft\, 275 Christian Ave.\, Stony Brook\, NY\, 11790\, United States
CATEGORIES:Music
END:VEVENT
BEGIN:VEVENT
DTSTART;TZID=America/New_York:20231217T200000
DTEND;TZID=America/New_York:20231217T220000
DTSTAMP:20260422T084841
CREATED:20231206T173810Z
LAST-MODIFIED:20231206T173810Z
UID:10006541-1702843200-1702850400@www.huntingtonarts.org
SUMMARY:The Jazz Loft Presents “Jazz Nativity”--Candlelight jazz nativity service
DESCRIPTION:Sun 12/17—\n“Jazz Nativity”–Candlelight jazz nativity service celebrating the Biblical Christmas story. With chamber jazz orchestra\, featuring Metropolitan Opera soprano Susanna Phillips. Performance will include an impressive lineup of jazz artists teamed up with guest narrators who will share the classic Christmas story.\n5:00 AND 8:00 PM. Tickets: $40 adults\, $35 seniors\, $30 students and $25 children (5 & under free).
URL:https://www.huntingtonarts.org/event/the-jazz-loft-presents-jazz-nativity-candlelight-jazz-nativity-service/2023-12-17/2/
LOCATION:The Jazz Loft\, 275 Christian Ave.\, Stony Brook\, NY\, 11790\, United States
CATEGORIES:Music
END:VEVENT
END:VCALENDAR