BEGIN:VCALENDAR
VERSION:2.0
PRODID:-//Huntington Arts Council - ECPv6.15.20//NONSGML v1.0//EN
CALSCALE:GREGORIAN
METHOD:PUBLISH
X-ORIGINAL-URL:https://www.huntingtonarts.org
X-WR-CALDESC:Events for Huntington Arts Council
REFRESH-INTERVAL;VALUE=DURATION:PT1H
X-Robots-Tag:noindex
X-PUBLISHED-TTL:PT1H
BEGIN:VTIMEZONE
TZID:America/New_York
BEGIN:DAYLIGHT
TZOFFSETFROM:-0500
TZOFFSETTO:-0400
TZNAME:EDT
DTSTART:20210314T070000
END:DAYLIGHT
BEGIN:STANDARD
TZOFFSETFROM:-0400
TZOFFSETTO:-0500
TZNAME:EST
DTSTART:20211107T060000
END:STANDARD
BEGIN:DAYLIGHT
TZOFFSETFROM:-0500
TZOFFSETTO:-0400
TZNAME:EDT
DTSTART:20220313T070000
END:DAYLIGHT
BEGIN:STANDARD
TZOFFSETFROM:-0400
TZOFFSETTO:-0500
TZNAME:EST
DTSTART:20221106T060000
END:STANDARD
BEGIN:DAYLIGHT
TZOFFSETFROM:-0500
TZOFFSETTO:-0400
TZNAME:EDT
DTSTART:20230312T070000
END:DAYLIGHT
BEGIN:STANDARD
TZOFFSETFROM:-0400
TZOFFSETTO:-0500
TZNAME:EST
DTSTART:20231105T060000
END:STANDARD
BEGIN:DAYLIGHT
TZOFFSETFROM:-0500
TZOFFSETTO:-0400
TZNAME:EDT
DTSTART:20240310T070000
END:DAYLIGHT
BEGIN:STANDARD
TZOFFSETFROM:-0400
TZOFFSETTO:-0500
TZNAME:EST
DTSTART:20241103T060000
END:STANDARD
BEGIN:DAYLIGHT
TZOFFSETFROM:-0500
TZOFFSETTO:-0400
TZNAME:EDT
DTSTART:20250309T070000
END:DAYLIGHT
BEGIN:STANDARD
TZOFFSETFROM:-0400
TZOFFSETTO:-0500
TZNAME:EST
DTSTART:20251102T060000
END:STANDARD
BEGIN:DAYLIGHT
TZOFFSETFROM:-0500
TZOFFSETTO:-0400
TZNAME:EDT
DTSTART:20260308T070000
END:DAYLIGHT
BEGIN:STANDARD
TZOFFSETFROM:-0400
TZOFFSETTO:-0500
TZNAME:EST
DTSTART:20261101T060000
END:STANDARD
BEGIN:DAYLIGHT
TZOFFSETFROM:-0500
TZOFFSETTO:-0400
TZNAME:EDT
DTSTART:20270314T070000
END:DAYLIGHT
BEGIN:STANDARD
TZOFFSETFROM:-0400
TZOFFSETTO:-0500
TZNAME:EST
DTSTART:20271107T060000
END:STANDARD
END:VTIMEZONE
BEGIN:VEVENT
DTSTART;TZID=America/New_York:20260323T193000
DTEND;TZID=America/New_York:20260323T213000
DTSTAMP:20260421T195434
CREATED:20260107T155823Z
LAST-MODIFIED:20260107T155823Z
UID:10019227-1774294200-1774301400@www.huntingtonarts.org
SUMMARY:Auditions for The Babylon Chorale
DESCRIPTION:Announcing auditions for our 80+ voice chorale. Join us for rehearsal at 7:30; auditions will be at break. All voice parts welcome. Bring something to sing. Visit www.babylonchorale.org for details and further information.
URL:https://www.huntingtonarts.org/event/auditions-for-the-babylon-chorale/
LOCATION:Sisters of St.Joseph Brentwood Campus\, 1725 Brentwood Rd\, Brentwood\, NY\, 11717\, United States
CATEGORIES:Auditions
ORGANIZER;CN="The Babylon Chorale":MAILTO:thebabylonchorale@gmail.com
END:VEVENT
BEGIN:VEVENT
DTSTART;TZID=America/New_York:20260322T160000
DTEND;TZID=America/New_York:20260322T170000
DTSTAMP:20260421T195434
CREATED:20260107T155308Z
LAST-MODIFIED:20260107T155308Z
UID:10019226-1774195200-1774198800@www.huntingtonarts.org
SUMMARY:The Babylon Chorale presents Marking Moments: In Love and Longing
DESCRIPTION:Exploring music expressing love\, longing\, and connection. Featuring works by Whitacre\, Hagenberg\, Drewes\, LaVoy\, Raminsh\, and Forrest.\nVisit www.babylonchorale.org for more information and to purchase tickets.
URL:https://www.huntingtonarts.org/event/the-babylon-chorale-presents-marking-moments-in-love-and-longing/
LOCATION:St. Peter’s by-the-Sea Episcopal Church\, 500 South Country Road\, Bay Shore\, NY\, 11706\, United States
CATEGORIES:Music
ORGANIZER;CN="The Babylon Chorale":MAILTO:thebabylonchorale@gmail.com
GEO:40.7063946;-73.2651169
X-APPLE-STRUCTURED-LOCATION;VALUE=URI;X-ADDRESS=St. Peter’s by-the-Sea Episcopal Church 500 South Country Road Bay Shore NY 11706 United States;X-APPLE-RADIUS=500;X-TITLE=500 South Country Road:geo:-73.2651169,40.7063946
END:VEVENT
BEGIN:VEVENT
DTSTART;TZID=America/New_York:20250607T200000
DTEND;TZID=America/New_York:20250607T210000
DTSTAMP:20260421T195434
CREATED:20250129T154119Z
LAST-MODIFIED:20250130T063120Z
UID:10015265-1749326400-1749330000@www.huntingtonarts.org
SUMMARY:OUR TIME (concert)
DESCRIPTION:As we conclude the Babylon Chorale’s milestone 75th season\, we celebrate our theme of Peace with music from the era of peace and love. Join us as we let the sunshine in with songs inspired by the 1960s\, along with contemporary pieces and musical theatre favorites. Please note\, this concert will be performed twice! Songs include works by Bob Dylan\, Joni Mitchell\, Billy Joel\, as well as from Ragtime\, Waitress\, West Side Story\, Hair\, and more! For more information visit www.babylonchorale.org
URL:https://www.huntingtonarts.org/event/the-babylon-chorale-presents-our-time/2025-06-07/2/
LOCATION:Bayway Arts Center\, 265 East Main Street\, East Islip\, 11730\, United States
CATEGORIES:Music
ATTACH;FMTTYPE=image/jpeg:https://www.huntingtonarts.org/wp-content/uploads/2025/01/75th-logo-1.jpg
ORGANIZER;CN="The Babylon Chorale":MAILTO:thebabylonchorale@gmail.com
END:VEVENT
BEGIN:VEVENT
DTSTART;TZID=America/New_York:20250330T160000
DTEND;TZID=America/New_York:20250330T170000
DTSTAMP:20260421T195434
CREATED:20250129T153343Z
LAST-MODIFIED:20250130T062604Z
UID:10015263-1743350400-1743354000@www.huntingtonarts.org
SUMMARY:SHABBAT SHALOM (a concert)
DESCRIPTION:The Babylon Chorale is excited to present a program of an inspired selection of music including Alex Berko’s “Sacred Place” and the premiere of Matthew Lyon Hazzard’s “The Ecstasy of Living”.  Also performed will be works by Ginsburg\, Tsuruoka\, Bock\, Rossi\, Forrest and Friedman.  For more information\, visit  www.babylonchorale.org
URL:https://www.huntingtonarts.org/event/the-babylon-chorale-presents-shabbat-shalom-featuring-a-beckos-sacred-place-and-m-l-hazzards-the-ecstasy-of-living/
LOCATION:Bayway Arts Center\, 265 East Main Street\, East Islip\, 11730\, United States
CATEGORIES:Music
ATTACH;FMTTYPE=image/jpeg:https://www.huntingtonarts.org/wp-content/uploads/2025/01/75th-logo.jpg
ORGANIZER;CN="The Babylon Chorale":MAILTO:thebabylonchorale@gmail.com
END:VEVENT
BEGIN:VEVENT
DTSTART;TZID=America/New_York:20240615T193000
DTEND;TZID=America/New_York:20240615T203000
DTSTAMP:20260421T195434
CREATED:20240122T144907Z
LAST-MODIFIED:20240122T144907Z
UID:10009620-1718479800-1718483400@www.huntingtonarts.org
SUMMARY:The Babylon Chorale Presents LIFE
DESCRIPTION:Put on your bell bottoms\, crazy hair and platform shoes\, and join The Babylon Chorale as we stroll down memory lane with the music of the 70s. Featuring songs from musicals (like Grease\, Pippin and Godspell) and pop culture (Abba\, Queen. The Beatles). For more information visit www.babylonchorale.org
URL:https://www.huntingtonarts.org/event/the-babylon-chorale-presents-life/
LOCATION:Our Lady of Grace Roman Catholic Church\, 666 Albin Ave\, West Babylon\, NY\, 11704\, United States
CATEGORIES:Music
ATTACH;FMTTYPE=image/jpeg:https://www.huntingtonarts.org/wp-content/uploads/2024/01/BabylonChorale_Babylon-Chorale-2-scaled.jpg
ORGANIZER;CN="The Babylon Chorale":MAILTO:thebabylonchorale@gmail.com
GEO:40.7002756;-73.3529114
X-APPLE-STRUCTURED-LOCATION;VALUE=URI;X-ADDRESS=Our Lady of Grace Roman Catholic Church 666 Albin Ave West Babylon NY 11704 United States;X-APPLE-RADIUS=500;X-TITLE=666 Albin Ave:geo:-73.3529114,40.7002756
END:VEVENT
BEGIN:VEVENT
DTSTART;TZID=America/New_York:20240325T193000
DTEND;TZID=America/New_York:20240325T213000
DTSTAMP:20260421T195434
CREATED:20240122T144825Z
LAST-MODIFIED:20240122T144825Z
UID:10009619-1711395000-1711402200@www.huntingtonarts.org
SUMMARY:The Babylon Chorale Auditions for the Babylon Chorale
DESCRIPTION:The Babylon Chorale\, a premier multigenerational choral ensemble based in Suffolk County\, is holding auditions for all voice parts. For more information visit www.babylonchorale.org
URL:https://www.huntingtonarts.org/event/the-babylon-chorale-auditions-for-the-babylon-chorale/
LOCATION:Sisters of St.Joseph Brentwood Campus\, 1725 Brentwood Rd\, Brentwood\, NY\, 11717\, United States
CATEGORIES:Auditions
ATTACH;FMTTYPE=image/jpeg:https://www.huntingtonarts.org/wp-content/uploads/2024/01/BabylonChorale_Babylon-Chorale-1-scaled.jpg
ORGANIZER;CN="The Babylon Chorale":MAILTO:thebabylonchorale@gmail.com
END:VEVENT
BEGIN:VEVENT
DTSTART;TZID=America/New_York:20240323T193000
DTEND;TZID=America/New_York:20240323T203000
DTSTAMP:20260421T195434
CREATED:20240122T144742Z
LAST-MODIFIED:20240122T144742Z
UID:10009618-1711222200-1711225800@www.huntingtonarts.org
SUMMARY:The Babylon Chorale Presents HOPE featuring G. F. Handel's "Messiah" - Parts II and III
DESCRIPTION:The Babylon Chorale is excited to present Handel`s oratorio\, ` Messiah`. Performed with professional soloists and orchestra\, Come immerse yourself in the magnificence of the less frequently performed Parts II and III\, often called the Lent and Easter portions\, which include the famous `Hallelujah Chorus`. For more information visit www.babylonchorale.org.
URL:https://www.huntingtonarts.org/event/the-babylon-chorale-presents-hope-featuring-g-f-handels-messiah-parts-ii-and-iii/
LOCATION:St. Peter’s by-the-Sea Episcopal Church\, 500 South Country Road\, Bay Shore\, NY\, 11706\, United States
CATEGORIES:Music
ATTACH;FMTTYPE=image/jpeg:https://www.huntingtonarts.org/wp-content/uploads/2024/01/BabylonChorale_Babylon-Chorale-scaled.jpg
ORGANIZER;CN="The Babylon Chorale":MAILTO:thebabylonchorale@gmail.com
GEO:40.7063946;-73.2651169
X-APPLE-STRUCTURED-LOCATION;VALUE=URI;X-ADDRESS=St. Peter’s by-the-Sea Episcopal Church 500 South Country Road Bay Shore NY 11706 United States;X-APPLE-RADIUS=500;X-TITLE=500 South Country Road:geo:-73.2651169,40.7063946
END:VEVENT
BEGIN:VEVENT
DTSTART;TZID=America/New_York:20240108T193000
DTEND;TZID=America/New_York:20240108T213000
DTSTAMP:20260421T195434
CREATED:20230906T160130Z
LAST-MODIFIED:20230906T160130Z
UID:10006036-1704742200-1704749400@www.huntingtonarts.org
SUMMARY:Join The Babylon Chorale
DESCRIPTION:The Babylon Chorale\, a premier multigenerational choral ensemble based in Suffolk County\, is holding auditions for all voice parts. For more information visit our website.
URL:https://www.huntingtonarts.org/event/join-the-babylon-chorale/
LOCATION:Sisters of St.Joseph Brentwood Campus\, 1725 Brentwood Rd\, Brentwood\, NY\, 11717\, United States
CATEGORIES:Auditions
ATTACH;FMTTYPE=image/jpeg:https://www.huntingtonarts.org/wp-content/uploads/2023/08/BabylonChorale_Babylon-Chorale-2-scaled.jpg
ORGANIZER;CN="The Babylon Chorale":MAILTO:thebabylonchorale@gmail.com
END:VEVENT
BEGIN:VEVENT
DTSTART;TZID=America/New_York:20231210T160000
DTEND;TZID=America/New_York:20231210T170000
DTSTAMP:20260421T195434
CREATED:20230906T160058Z
LAST-MODIFIED:20230906T160058Z
UID:10006035-1702224000-1702227600@www.huntingtonarts.org
SUMMARY:The Babylon Chorale presents "Joy"
DESCRIPTION:The Babylon Chorale presents its first concert of the season ringing in the winter holidays. This performance of holiday music will feature 4-hand piano accompaniment. For more information visit our website.
URL:https://www.huntingtonarts.org/event/the-babylon-chorale-presents-joy/
LOCATION:St. Peter’s by-the-Sea Episcopal Church\, 500 South Country Road\, Bay Shore\, NY\, 11706\, United States
CATEGORIES:Music
ATTACH;FMTTYPE=image/jpeg:https://www.huntingtonarts.org/wp-content/uploads/2023/08/BabylonChorale_Babylon-Chorale-1-scaled.jpg
ORGANIZER;CN="The Babylon Chorale":MAILTO:thebabylonchorale@gmail.com
GEO:40.7063946;-73.2651169
X-APPLE-STRUCTURED-LOCATION;VALUE=URI;X-ADDRESS=St. Peter’s by-the-Sea Episcopal Church 500 South Country Road Bay Shore NY 11706 United States;X-APPLE-RADIUS=500;X-TITLE=500 South Country Road:geo:-73.2651169,40.7063946
END:VEVENT
BEGIN:VEVENT
DTSTART;TZID=America/New_York:20231203T000000
DTEND;TZID=America/New_York:20231203T000000
DTSTAMP:20260421T195434
CREATED:20230906T160025Z
LAST-MODIFIED:20230906T160025Z
UID:10006033-1701561600-1701561600@www.huntingtonarts.org
SUMMARY:Holiday Sing-Along With The Babylon Chorale
DESCRIPTION:Ring in the season with a holiday sing-along. All are welcome to join us\, family and friends of all ages\, for this event to sing seasonal favorites. See our website for this Saturday concert’s time and other details.
URL:https://www.huntingtonarts.org/event/holiday-sing-along-with-the-babylon-chorale/
LOCATION:Sisters of St.Joseph Brentwood Campus\, 1725 Brentwood Rd\, Brentwood\, NY\, 11717\, United States
CATEGORIES:Children and Family,Music
ATTACH;FMTTYPE=image/jpeg:https://www.huntingtonarts.org/wp-content/uploads/2023/08/BabylonChorale_Babylon-Chorale-scaled.jpg
ORGANIZER;CN="The Babylon Chorale":MAILTO:thebabylonchorale@gmail.com
END:VEVENT
BEGIN:VEVENT
DTSTART;TZID=America/New_York:20230918T193000
DTEND;TZID=America/New_York:20230918T214500
DTSTAMP:20260421T195434
CREATED:20230415T134444Z
LAST-MODIFIED:20230830T051420Z
UID:10005803-1695065400-1695073500@www.huntingtonarts.org
SUMMARY:The Babylon Chorale Auditions for the 2023-2024 Season
DESCRIPTION:The Babylon Chorale\, a premier multigenerational choral ensemble founded in 1950 based in Suffolk County\, Long Island\, is holding auditions for all voice parts. Visit our website for more details.
URL:https://www.huntingtonarts.org/event/the-babylon-chorale-auditions-for-the-2023-2024-season/2023-09-18/2/
LOCATION:Sisters of St.Joseph Brentwood Campus\, 1725 Brentwood Rd\, Brentwood\, NY\, 11717\, United States
CATEGORIES:Auditions
ORGANIZER;CN="The Babylon Chorale":MAILTO:thebabylonchorale@gmail.com
END:VEVENT
BEGIN:VEVENT
DTSTART;TZID=America/New_York:20230610T193000
DTEND;TZID=America/New_York:20230610T203000
DTSTAMP:20260421T195434
CREATED:20230415T134309Z
LAST-MODIFIED:20230613T115712Z
UID:10005920-1686425400-1686429000@www.huntingtonarts.org
SUMMARY:The Babylon Chorale presents 'Out of the Darkness...Find Your True Colors'
DESCRIPTION:In celebration of National Pride Month\, a performance of choral works by LBGTQ+ composers\, artists\, and arrangers\, including music by Elton John\, Michael Bussewitz-Quam\, Marques L.A. Garrett\, Joan Szymko\, M.E. Valverde\, Freddie Mercury\, and others.
URL:https://www.huntingtonarts.org/event/the-babylon-chorale-presents-out-of-the-darkness-find-your-true-colors/2023-06-10/2/
LOCATION:United States
CATEGORIES:Music
ORGANIZER;CN="The Babylon Chorale":MAILTO:thebabylonchorale@gmail.com
END:VEVENT
BEGIN:VEVENT
DTSTART;TZID=America/New_York:20230109T193000
DTEND;TZID=America/New_York:20230109T220000
DTSTAMP:20260421T195434
CREATED:20220816T194057Z
LAST-MODIFIED:20220816T194057Z
UID:10004814-1673292600-1673301600@www.huntingtonarts.org
SUMMARY:The Babylon Chorale Auditions
DESCRIPTION:Come join The Babylon Chorale\, a premier\, multigenerational choral ensemble based in Suffolk County. All voice parts welcome. Visit our website for complete audition details and more information on our organization.
URL:https://www.huntingtonarts.org/event/the-babylon-chorale-auditions/2023-01-09/2/
LOCATION:Sisters of St.Joseph Brentwood Campus\, 1725 Brentwood Rd\, Brentwood\, NY\, 11717\, United States
CATEGORIES:Auditions
ATTACH;FMTTYPE=image/jpeg:https://www.huntingtonarts.org/wp-content/uploads/2022/08/Babylon-chorale-logo-2021-1.jpg
ORGANIZER;CN="The Babylon Chorale":MAILTO:thebabylonchorale@gmail.com
END:VEVENT
BEGIN:VEVENT
DTSTART;TZID=America/New_York:20221204T160000
DTEND;TZID=America/New_York:20221204T173000
DTSTAMP:20260421T195434
CREATED:20220816T194133Z
LAST-MODIFIED:20220816T194133Z
UID:10004785-1670169600-1670175000@www.huntingtonarts.org
SUMMARY:The Babylon Chorale presents "Out of the Darkness...Into The Light"
DESCRIPTION:The Babylon Chorale presents the first concert of its 73rd season ringing in the December holidays. Light is all around at this time of year\, through fireplaces\, trees\, decorations\, and menorahs. Accompanied by a brass ensemble\, this concert will brighten this joyous season. Visit our website for concert details and to purchase tickets.
URL:https://www.huntingtonarts.org/event/the-babylon-chorale-presents-out-of-the-darkness-into-the-light/
LOCATION:St. Peter\’s by-the-Sea Episcopal Church\, 500 South Country Road\, Bay Shore\, NY\, 11706\, United States
CATEGORIES:Music
ATTACH;FMTTYPE=image/jpeg:https://www.huntingtonarts.org/wp-content/uploads/2022/08/Babylon-chorale-logo-2021-2.jpg
ORGANIZER;CN="The Babylon Chorale":MAILTO:thebabylonchorale@gmail.com
GEO:40.7063946;-73.2651169
X-APPLE-STRUCTURED-LOCATION;VALUE=URI;X-ADDRESS=St. Peter\’s by-the-Sea Episcopal Church 500 South Country Road Bay Shore NY 11706 United States;X-APPLE-RADIUS=500;X-TITLE=500 South Country Road:geo:-73.2651169,40.7063946
END:VEVENT
BEGIN:VEVENT
DTSTART;TZID=America/New_York:20220919T193000
DTEND;TZID=America/New_York:20220919T213000
DTSTAMP:20260421T195434
CREATED:20220326T203651Z
LAST-MODIFIED:20220326T203651Z
UID:10005067-1663615800-1663623000@www.huntingtonarts.org
SUMMARY:The Babylon Chorale - Auditions for the 2022-2023 Season
DESCRIPTION:Come sing with the Babylon Chorale\, a premier choral group on Long Island. All voice parts welcome as we prepare for our 73rd season. Join our rehearsal\, auditions at the break. For audition information\, visit our website.
URL:https://www.huntingtonarts.org/event/the-babylon-chorale-auditions-for-the-2022-2023-season/2022-09-19/
LOCATION:United States
CATEGORIES:Music
ATTACH;FMTTYPE=image/png:https://www.huntingtonarts.org/wp-content/uploads/2022/03/Logo-2021-2.png
ORGANIZER;CN="The Babylon Chorale":MAILTO:thebabylonchorale@gmail.com
END:VEVENT
END:VCALENDAR