BEGIN:VCALENDAR
VERSION:2.0
PRODID:-//Huntington Arts Council - ECPv6.15.20//NONSGML v1.0//EN
CALSCALE:GREGORIAN
METHOD:PUBLISH
X-WR-CALNAME:Huntington Arts Council
X-ORIGINAL-URL:https://www.huntingtonarts.org
X-WR-CALDESC:Events for Huntington Arts Council
REFRESH-INTERVAL;VALUE=DURATION:PT1H
X-Robots-Tag:noindex
X-PUBLISHED-TTL:PT1H
BEGIN:VTIMEZONE
TZID:America/New_York
BEGIN:DAYLIGHT
TZOFFSETFROM:-0500
TZOFFSETTO:-0400
TZNAME:EDT
DTSTART:20250309T070000
END:DAYLIGHT
BEGIN:STANDARD
TZOFFSETFROM:-0400
TZOFFSETTO:-0500
TZNAME:EST
DTSTART:20251102T060000
END:STANDARD
BEGIN:DAYLIGHT
TZOFFSETFROM:-0500
TZOFFSETTO:-0400
TZNAME:EDT
DTSTART:20260308T070000
END:DAYLIGHT
BEGIN:STANDARD
TZOFFSETFROM:-0400
TZOFFSETTO:-0500
TZNAME:EST
DTSTART:20261101T060000
END:STANDARD
BEGIN:DAYLIGHT
TZOFFSETFROM:-0500
TZOFFSETTO:-0400
TZNAME:EDT
DTSTART:20270314T070000
END:DAYLIGHT
BEGIN:STANDARD
TZOFFSETFROM:-0400
TZOFFSETTO:-0500
TZNAME:EST
DTSTART:20271107T060000
END:STANDARD
END:VTIMEZONE
BEGIN:VEVENT
DTSTART;TZID=America/New_York:20260206T080000
DTEND;TZID=America/New_York:20260206T170000
DTSTAMP:20260421T231551
CREATED:20260206T172716Z
LAST-MODIFIED:20260206T172716Z
UID:10022208-1770364800-1770397200@www.huntingtonarts.org
SUMMARY:Symphonic Pops of Long Island present The Art of Storytelling
DESCRIPTION:SYMPHONIC POPS OF LONG ISLAND\nTaylor Massey\, Music Director\nWith Huntington High School Strings \nMarch 1 @ 2PM\nHuntington High School\, 188 Oakwood Road\, Huntington\, New York \nTheme: The Art of Storytelling \nAudiences will hear the range of diverse sounds of a symphony orchestra spanning 150 years of music bringing to life the core emotions of human experience as told through the classic story genres: tragedy\, crime\, seduction\, fantasy\, science fiction\, comedy and love. \nPieces include:\nThe Pink Panther\nFinale from The Firebird Suite\nDanse Macabre\nStar Trek\nLiebestraum\nDanny Boy\nCountess Mariza Overture\nMeet The Flintstones \nSuggested Donation: $15 Kids Free \nThis collaborative concert with the Huntington High School Strings celebrates storytelling across generations and encourages young musicians to pursue their passion for ensemble music.
URL:https://www.huntingtonarts.org/event/symphonic-pops-of-long-island-present-the-art-of-storytelling/
LOCATION:Huntington High School\, McKay & Oakwood Rd\, Huntington\, NY\, 11743\, United States
CATEGORIES:Children and Family,Music
ATTACH;FMTTYPE=application/pdf:https://www.huntingtonarts.org/wp-content/uploads/2026/02/POPS_March_26-final-1.pdf
GEO:40.8562768;-73.429177
X-APPLE-STRUCTURED-LOCATION;VALUE=URI;X-ADDRESS=Huntington High School McKay & Oakwood Rd Huntington NY 11743 United States;X-APPLE-RADIUS=500;X-TITLE=McKay & Oakwood Rd:geo:-73.429177,40.8562768
END:VEVENT
END:VCALENDAR